HTML-DeferableCSS vv0.4.2 Perl 5 v5.14.2 amd64-freebsd

Status
Pass
From
Chris Williams (BINGOS)
Dist
HTML-DeferableCSS vv0.4.2
Platform
Perl 5 v5.14.2 amd64-freebsd
Date
2020-08-03 05:47:55
ID
e10dfc9c-d54c-11ea-b3a5-abe2e1c4f0ab
This distribution has been tested as part of the CPAN Testers
project, supporting the Perl programming language.  See
http://wiki.cpantesters.org/ for more information or email
questions to cpan-testers-discuss@perl.org


--

Dear RRWO,

This is a computer-generated error report created automatically by
CPANPLUS, version 0.9908. Testers personal comments may appear
at the end of this report.


Thank you for uploading your work to CPAN.  Congratulations!
All tests were successful.

TEST RESULTS:

Below is the error stack from stage 'make test':

Skip blib/lib/auto/share/dist/HTML-DeferableCSS/cssrelpreload.js (unchanged)
Skip blib/lib/auto/share/dist/HTML-DeferableCSS/cssrelpreload.min.js (unchanged)
PERL_DL_NONLAZY=1 "/usr/home/cpan/pit/bare/perl-5.14.2/bin/perl" "-MExtUtils::Command::MM" "-MTest::Harness" "-e" "undef *Test::Harness::Switches; test_harness(0, 'blib/lib', 'blib/arch')" t/*.t
# 
# Versions for all modules listed in MYMETA.json (including optional ones):
# 
# === Configure Requires ===
# 
#     Module                  Want Have
#     ----------------------- ---- ----
#     ExtUtils::MakeMaker      any 7.46
#     File::ShareDir::Install 0.06 0.13
# 
# === Build Requires ===
# 
#     Module              Want Have
#     ------------------- ---- ----
#     ExtUtils::MakeMaker  any 7.46
# 
# === Test Requires ===
# 
#     Module                 Want     Have
#     --------------------- ----- --------
#     Cwd                     any     3.75
#     File::Spec              any     3.75
#     File::Spec::Functions   any     3.75
#     Module::Metadata        any 1.000037
#     Test::Deep            0.111    1.130
#     Test::More              any 1.302175
#     Test::Most              any     0.37
#     strict                  any     1.04
#     warnings                any     1.12
# 
# === Test Recommends ===
# 
#     Module         Want     Have
#     ---------- -------- --------
#     CPAN::Meta 2.120900 2.150010
# 
# === Runtime Requires ===
# 
#     Module                     Want     Have
#     ---------------------- -------- --------
#     Carp                        any     1.50
#     Devel::StrictMode           any    0.003
#     File::ShareDir            1.112    1.116
#     List::Util                 1.45     1.55
#     Moo                    1.006000 2.004000
#     MooX::TypeTiny              any 0.002003
#     Path::Tiny                  any    0.114
#     Types::Common::Numeric      any 1.010002
#     Types::Common::String       any 1.010002
#     Types::Path::Tiny           any    0.006
#     Types::Standard             any 1.010002
#     constant                    any     1.21
#     namespace::autoclean        any     0.29
# 
# === Runtime Recommends ===
# 
#     Module         Want    Have
#     -------------- ---- -------
#     Type::Tiny::XS  any missing
# 
t/00-report-prereqs.t ........ ok
t/author-clean-namespaces.t .. skipped: these tests are for testing by the author
t/author-critic.t ............ skipped: these tests are for testing by the author
t/author-eof.t ............... skipped: these tests are for testing by the author
t/author-eol.t ............... skipped: these tests are for testing by the author
t/author-minimum-version.t ... skipped: these tests are for testing by the author
t/author-no-tabs.t ........... skipped: these tests are for testing by the author
t/author-pod-coverage.t ...... skipped: these tests are for testing by the author
t/author-pod-linkcheck.t ..... skipped: these tests are for testing by the author
t/author-pod-syntax.t ........ skipped: these tests are for testing by the author
t/css_files.t ................ ok
t/css_href.t ................. ok
t/defer.t .................... ok
empty file 't/etc/css/0.css' at t/inline.t line 98.
t/inline.t ................... ok
t/release-check-manifest.t ... skipped: these tests are for release candidate testing
t/release-fixme.t ............ skipped: these tests are for release candidate testing
t/release-kwalitee.t ......... skipped: these tests are for release candidate testing
t/release-trailing-space.t ... skipped: these tests are for release candidate testing
All tests successful.
Files=18, Tests=28,  3 wallclock secs ( 0.09 usr  0.09 sys +  1.73 cusr  0.55 csys =  2.45 CPU)
Result: PASS


PREREQUISITES:

Here is a list of prerequisites you specified and versions we
managed to load:

	  Module Name                        Have     Want
	  Carp                               1.50        0
	  Cwd                                3.75        0
	  Devel::StrictMode                 0.003        0
	  ExtUtils::MakeMaker                7.46        0
	  File::ShareDir                    1.116    1.112
	  File::Spec                         3.75        0
	  File::Spec::Functions              3.75        0
	  List::Util                         1.55     1.45
	  Module::Metadata               1.000037        0
	  Moo                            2.004000 1.006000
	  MooX::TypeTiny                 0.002003        0
	  Path::Tiny                        0.114        0
	  Test::Deep                        1.130    0.111
	  Test::More                     1.302175        0
	  Test::Most                         0.37        0
	  Types::Common::Numeric         1.010002        0
	  Types::Common::String          1.010002        0
	  Types::Path::Tiny                 0.006        0
	  Types::Standard                1.010002        0
	  constant                           1.21        0
	  namespace::autoclean               0.29        0
	  strict                             1.04        0
	  warnings                           1.12        0

Perl module toolchain versions installed:
	Module Name                        Have
	CPANPLUS                         0.9908
	CPANPLUS::Dist::Build              0.90
	Cwd                                3.75
	ExtUtils::CBuilder             0.280234
	ExtUtils::Command                  7.46
	ExtUtils::Install                  2.16
	ExtUtils::MakeMaker                7.46
	ExtUtils::Manifest                 1.72
	ExtUtils::ParseXS                  3.35
	File::Spec                         3.75
	Module::Build                    0.4231
	Pod::Parser                        1.37
	Pod::Simple                        3.16
	Test2                          1.302175
	Test::Harness                      3.42
	Test::More                     1.302175
	version                          0.9924

******************************** NOTE ********************************
The comments above are created mechanically, possibly without manual
checking by the sender.  As there are many people performing automatic
tests on each upload to CPAN, it is likely that you will receive
identical messages about the same problem.

If you believe that the message is mistaken, please reply to the first
one with correction and/or additional informations, and do not take
it personally.  We appreciate your patience. :)
**********************************************************************

Additional comments:


This report was machine-generated by CPANPLUS::Dist::YACSmoke 1.08.
Powered by minismokebox version 0.68

CPANPLUS is prefering Build.PL

------------------------------
ENVIRONMENT AND OTHER CONTEXT
------------------------------

Environment variables:

    AUTOMATED_TESTING = 1
    NONINTERACTIVE_TESTING = 1
    PATH = /sbin:/bin:/usr/sbin:/usr/bin:/usr/local/sbin:/usr/local/bin:/home/cpan/bin
    PERL5LIB = /usr/home/cpan/pit/jail/PGCsPnmVYt/lib/perl5:/usr/home/cpan/pit/bare/conf/perl-5.14.2/.cpanplus/5.14.2/build/y6KDlviXw7/HTML-DeferableCSS-v0.4.2/blib/lib:/usr/home/cpan/pit/bare/conf/perl-5.14.2/.cpanplus/5.14.2/build/y6KDlviXw7/HTML-DeferableCSS-v0.4.2/blib/arch
    PERL5_CPANPLUS_IS_RUNNING = 16330
    PERL5_CPANPLUS_IS_VERSION = 0.9908
    PERL5_MINISMOKEBOX = 0.68
    PERL5_YACSMOKE_BASE = /usr/home/cpan/pit/bare/conf/perl-5.14.2
    PERL_EXTUTILS_AUTOINSTALL = --defaultdeps
    PERL_LOCAL_LIB_ROOT = /usr/home/cpan/pit/jail/PGCsPnmVYt
    PERL_MB_OPT = --install_base "/usr/home/cpan/pit/jail/PGCsPnmVYt"
    PERL_MM_OPT = INSTALL_BASE=/usr/home/cpan/pit/jail/PGCsPnmVYt
    PERL_MM_USE_DEFAULT = 1
    SHELL = /usr/local/bin/bash
    TERM = screen

Perl special variables (and OS-specific diagnostics, for MSWin32):

    Perl: $^X = /usr/home/cpan/pit/bare/perl-5.14.2/bin/perl
    UID:  $<  = 1002
    EUID: $>  = 1002
    GID:  $(  = 1002 1002
    EGID: $)  = 1002 1002


-------------------------------


--

Summary of my perl5 (revision 5 version 14 subversion 2) configuration:
   
  Platform:
    osname=freebsd, osvers=12.1-release, archname=amd64-freebsd
    uname='freebsd fforc 12.1-release freebsd 12.1-release r354233 generic amd64 '
    config_args='-des -Dprefix=/usr/home/cpan/pit/bare/perl-5.14.2'
    hint=recommended, useposix=true, d_sigaction=define
    useithreads=undef, usemultiplicity=undef
    useperlio=define, d_sfio=undef, uselargefiles=define, usesocks=undef
    use64bitint=define, use64bitall=define, uselongdouble=undef
    usemymalloc=n, bincompat5005=undef
  Compiler:
    cc='cc', ccflags ='-DHAS_FPSETMASK -DHAS_FLOATINGPOINT_H -fno-strict-aliasing -pipe -fstack-protector -I/usr/local/include',
    optimize='-O2',
    cppflags='-DHAS_FPSETMASK -DHAS_FLOATINGPOINT_H -fno-strict-aliasing -pipe -fstack-protector -I/usr/local/include'
    ccversion='', gccversion='4.2.1 Compatible FreeBSD Clang 8.0.1 (tags/RELEASE_801/final 366581)', gccosandvers=''
    intsize=4, longsize=8, ptrsize=8, doublesize=8, byteorder=12345678
    d_longlong=define, longlongsize=8, d_longdbl=define, longdblsize=16
    ivtype='long', ivsize=8, nvtype='double', nvsize=8, Off_t='off_t', lseeksize=8
    alignbytes=8, prototype=define
  Linker and Libraries:
    ld='cc', ldflags ='-Wl,-E  -fstack-protector -L/usr/local/lib'
    libpth=/usr/lib /usr/local/lib
    libs=-lgdbm -ldl -lm -lcrypt -lutil -lc
    perllibs=-ldl -lm -lcrypt -lutil -lc
    libc=, so=so, useshrplib=false, libperl=libperl.a
    gnulibc_version=''
  Dynamic Linking:
    dlsrc=dl_dlopen.xs, dlext=so, d_dlsymun=undef, ccdlflags=' '
    cccdlflags='-DPIC -fPIC', lddlflags='-shared  -L/usr/local/lib -fstack-protector'


Characteristics of this binary (from libperl): 
  Compile-time options: PERL_DONT_CREATE_GVSV PERL_MALLOC_WRAP
                        PERL_PRESERVE_IVUV USE_64_BIT_ALL USE_64_BIT_INT
                        USE_LARGE_FILES USE_PERLIO USE_PERL_ATOF
  Locally applied patches:
	Devel::PatchPerl 1.64
  Built under freebsd
  Compiled at Nov  7 2019 02:46:50
  %ENV:
    PERL5LIB="/usr/home/cpan/pit/jail/PGCsPnmVYt/lib/perl5:/usr/home/cpan/pit/bare/conf/perl-5.14.2/.cpanplus/5.14.2/build/y6KDlviXw7/HTML-DeferableCSS-v0.4.2/blib/lib:/usr/home/cpan/pit/bare/conf/perl-5.14.2/.cpanplus/5.14.2/build/y6KDlviXw7/HTML-DeferableCSS-v0.4.2/blib/arch"
    PERL5_CPANPLUS_IS_RUNNING="16330"
    PERL5_CPANPLUS_IS_VERSION="0.9908"
    PERL5_MINISMOKEBOX="0.68"
    PERL5_YACSMOKE_BASE="/usr/home/cpan/pit/bare/conf/perl-5.14.2"
    PERL_EXTUTILS_AUTOINSTALL="--defaultdeps"
    PERL_LOCAL_LIB_ROOT="/usr/home/cpan/pit/jail/PGCsPnmVYt"
    PERL_MB_OPT="--install_base "/usr/home/cpan/pit/jail/PGCsPnmVYt""
    PERL_MM_OPT="INSTALL_BASE=/usr/home/cpan/pit/jail/PGCsPnmVYt"
    PERL_MM_USE_DEFAULT="1"
  @INC:
    /usr/home/cpan/pit/jail/PGCsPnmVYt/lib/perl5/5.14.2/amd64-freebsd
    /usr/home/cpan/pit/jail/PGCsPnmVYt/lib/perl5/5.14.2
    /usr/home/cpan/pit/jail/PGCsPnmVYt/lib/perl5/amd64-freebsd
    /usr/home/cpan/pit/jail/PGCsPnmVYt/lib/perl5
    /usr/home/cpan/pit/bare/conf/perl-5.14.2/.cpanplus/5.14.2/build/y6KDlviXw7/HTML-DeferableCSS-v0.4.2/blib/lib
    /usr/home/cpan/pit/bare/conf/perl-5.14.2/.cpanplus/5.14.2/build/y6KDlviXw7/HTML-DeferableCSS-v0.4.2/blib/arch
    /usr/home/cpan/pit/bare/perl-5.14.2/lib/site_perl/5.14.2/amd64-freebsd
    /usr/home/cpan/pit/bare/perl-5.14.2/lib/site_perl/5.14.2
    /usr/home/cpan/pit/bare/perl-5.14.2/lib/5.14.2/amd64-freebsd
    /usr/home/cpan/pit/bare/perl-5.14.2/lib/5.14.2
    .