Report for POE-Component-SSLify-1.008

Back
From: metabase:user:315f03b2-2aae-11df-837a-5e0a49663a4f
Subject: PASS POE-Component-SSLify-1.008 v5.14.1 OpenBSD
Date: 2011-08-26T01:36:54Z

This distribution has been tested as part of the CPAN Testers
project, supporting the Perl programming language.  See
http://wiki.cpantesters.org/ for more information or email
questions to cpan-testers-discuss@perl.org


--
Dear Apocalypse,

This is a computer-generated report for POE-Component-SSLify-1.008
on perl 5.14.1, created by CPAN-Reporter-1.1902.

Thank you for uploading your work to CPAN.  Congratulations!
All tests were successful.

Sections of this report:

    * Tester comments
    * Program output
    * Prerequisites
    * Environment and other context

------------------------------
TESTER COMMENTS
------------------------------

Additional comments from tester:

this report is from an automated smoke testing program
and was not reviewed by a human for accuracy

------------------------------
PROGRAM OUTPUT
------------------------------

Output from './Build test':

t/00-compile.t ................ ok
# 
# 
# Generated by Dist::Zilla::Plugin::ReportVersions::Tiny v1.03
# perl: v5.14.1 (wanted 5.006) on openbsd from /home/smoke/perl5/perlbrew/perls/perl-5.14.1/bin/perl
# 
# Exporter                                      => 5.64_04    (want any version)
# File::Find                                    => 1.19       (want any version)
# File::Temp                                    => 0.22       (want any version)
# IO::Handle                                    => 1.31       (want 1.28)   
# Module::Build                                 => 0.38       (want 0.3601) 
# Net::SSLeay                                   => 1.36       (want 1.36)   
# POE                                           => 1.312      (want 1.267)  
# POE::Component::Client::TCP                   => 1.312      (want any version)
# POE::Component::Server::TCP                   => 1.312      (want any version)
# Scalar::Util                                  => 1.23       (want any version)
# Socket                                        => 1.94       (want any version)
# Symbol                                        => 1.07       (want any version)
# Task::Weaken                                  => 1.04       (want 1.03)   
# Test::More                                    => 0.98       (want 0.88)   
# parent                                        => 0.225      (want any version)
# 
# Thanks for using my code.  I hope it works for you.
# If not, please try and include this output in the bug report.
# That will help me reproduce the issue and solve your problem.
# 
t/000-report-versions-tiny.t .. ok
t/1_simple.t .................. ok
t/2_renegotiate_client.t ...... ok
t/3_upgrade.t ................. ok
t/4_connect_hook.t ............ ok
t/5_connfail_client.t ......... ok
t/6_connfail_server.t ......... ok
t/7_connect_hook_nodata.t ..... ok
t/8_renegotiate_server.t ...... ok
t/98_renegotiate.t ............ skipped: AUTHOR TEST
t/99_mire_test.t .............. skipped: AUTHOR TEST
t/apocalypse.t ................ skipped: Test::Apocalypse required for validating the distribution
All tests successful.
Files=13, Tests=131, 11 wallclock secs ( 0.41 usr  0.13 sys +  8.42 cusr  1.13 csys = 10.09 CPU)
Result: PASS

------------------------------
PREREQUISITES
------------------------------

Prerequisite modules loaded:

requires:

    Module                      Need   Have    
    --------------------------- ------ --------
    Exporter                    0      5.64_04 
    IO::Handle                  1.28   1.31    
    Net::SSLeay                 1.36   1.36    
    parent                      0      0.225   
    perl                        5.006  5.014001
    POE                         0      1.312   
    Scalar::Util                0      1.23    
    Symbol                      0      1.07    
    Task::Weaken                1.03   1.04    

build_requires:

    Module                      Need   Have    
    --------------------------- ------ --------
    File::Find                  0      1.19    
    File::Temp                  0      0.22    
    Module::Build               0.3601 0.3800  
    POE                         1.267  1.312   
    POE::Component::Client::TCP 0      1.312   
    POE::Component::Server::TCP 0      1.312   
    Socket                      0      1.94    
    Test::More                  0.88   0.98    

configure_requires:

    Module                      Need   Have    
    --------------------------- ------ --------
    Module::Build               0.3601 0.3800  


------------------------------
ENVIRONMENT AND OTHER CONTEXT
------------------------------

Environment variables:

    AUTOMATED_TESTING = 1
    PATH = /home/smoke/perl5/perlbrew/bin:/home/smoke/perl5/perlbrew/perls/perl-5.14.1/bin:/home/smoke/bin:/usr/local/bin:/usr/local/sbin:/bin:/sbin:/usr/bin:/usr/sbin:/usr/X11R6/bin:/usr/games:.
    PATH_WITHOUT_PERLBREW = /home/smoke/bin:/usr/local/bin:/usr/local/sbin:/bin:/sbin:/usr/bin:/usr/sbin:/usr/X11R6/bin:/usr/games:.
    PERL5LIB = 
    PERL5OPT = 
    PERL5_CPANPLUS_IS_RUNNING = 5153
    PERL5_CPAN_IS_RUNNING = 5153
    PERL5_CPAN_IS_RUNNING_IN_RECURSION = 18402,5153
    PERLBREW_HOME = /home/smoke/.perlbrew
    PERLBREW_PATH = /home/smoke/perl5/perlbrew/bin:/home/smoke/perl5/perlbrew/perls/perl-5.14.1/bin
    PERLBREW_PERL = perl-5.14.1
    PERLBREW_ROOT = /home/smoke/perl5/perlbrew
    PERLBREW_VERSION = 0.24
    PERL_CR_SMOKER_CURRENT = metabase-relayd-0.28
    PERL_EXTUTILS_AUTOINSTALL = --defaultdeps
    PERL_MM_USE_DEFAULT = 1
    SHELL = /usr/local/bin/bash
    TERM = screen

Perl special variables (and OS-specific diagnostics, for MSWin32):

    $^X = /home/smoke/perl5/perlbrew/perls/perl-5.14.1/bin/perl
    $UID/$EUID = 1002 / 1002
    $GID = 1002 1002
    $EGID = 1002 1002

Perl module toolchain versions installed:

    Module              Have    
    ------------------- --------
    CPAN                1.9800  
    Cwd                 3.36    
    ExtUtils::CBuilder  0.280203
    ExtUtils::Command   1.17    
    ExtUtils::Install   1.56    
    ExtUtils::MakeMaker 6.59    
    ExtUtils::Manifest  1.60    
    ExtUtils::ParseXS   3.04    
    File::Spec          3.33    
    Module::Build       0.3800  
    Module::Signature   0.68    
    Test::Harness       3.23    
    Test::More          0.98    
    YAML                0.73    
    YAML::Syck          1.17    
    version             0.94    


--

Summary of my perl5 (revision 5 version 14 subversion 1) configuration:
   
  Platform:
    osname=openbsd, osvers=4.5, archname=OpenBSD.i386-openbsd-thread-multi
    uname='openbsd minimunch.int.zeroclue.org 4.5 generic#1749 i386 '
    config_args='-de -Dprefix=/home/smoke/perl5/perlbrew/perls/perl-5.14.1 -Duseithreads'
    hint=recommended, useposix=true, d_sigaction=define
    useithreads=define, usemultiplicity=define
    useperlio=define, d_sfio=undef, uselargefiles=define, usesocks=undef
    use64bitint=undef, use64bitall=undef, uselongdouble=undef
    usemymalloc=y, bincompat5005=undef
  Compiler:
    cc='cc', ccflags ='-pthread -fno-strict-aliasing -pipe -fstack-protector -I/usr/local/include',
    optimize='-O2',
    cppflags='-pthread -fno-strict-aliasing -pipe -fstack-protector -I/usr/local/include'
    ccversion='', gccversion='3.3.5 (propolice)', gccosandvers='openbsd4.5'
    intsize=4, longsize=4, ptrsize=4, doublesize=8, byteorder=1234
    d_longlong=define, longlongsize=8, d_longdbl=define, longdblsize=12
    ivtype='long', ivsize=4, nvtype='double', nvsize=8, Off_t='off_t', lseeksize=8
    alignbytes=4, prototype=define
  Linker and Libraries:
    ld='cc', ldflags ='-pthread -Wl,-E  -fstack-protector -L/usr/local/lib'
    libpth=/usr/local/lib /usr/lib
    libs=-lgdbm -lm -lutil -lc
    perllibs=-lm -lutil -lc
    libc=/usr/lib/libc.so.50.1, so=so, useshrplib=false, libperl=libperl.a
    gnulibc_version=''
  Dynamic Linking:
    dlsrc=dl_dlopen.xs, dlext=so, d_dlsymun=undef, ccdlflags=' '
    cccdlflags='-DPIC -fPIC ', lddlflags='-shared -fPIC  -L/usr/local/lib -fstack-protector'


Characteristics of this binary (from libperl): 
  Compile-time options: MULTIPLICITY MYMALLOC PERL_DONT_CREATE_GVSV
                        PERL_IMPLICIT_CONTEXT PERL_MALLOC_WRAP
                        PERL_PRESERVE_IVUV USE_ITHREADS USE_LARGE_FILES
                        USE_PERLIO USE_PERL_ATOF USE_REENTRANT_API
  Built under openbsd
  Compiled at Jul  2 2011 20:44:04
  %ENV:
    PERL5LIB=""
    PERL5OPT=""
    PERL5_CPANPLUS_IS_RUNNING="5153"
    PERL5_CPAN_IS_RUNNING="5153"
    PERL5_CPAN_IS_RUNNING_IN_RECURSION="18402,5153"
    PERLBREW_HOME="/home/smoke/.perlbrew"
    PERLBREW_PATH="/home/smoke/perl5/perlbrew/bin:/home/smoke/perl5/perlbrew/perls/perl-5.14.1/bin"
    PERLBREW_PERL="perl-5.14.1"
    PERLBREW_ROOT="/home/smoke/perl5/perlbrew"
    PERLBREW_VERSION="0.24"
    PERL_CR_SMOKER_CURRENT="metabase-relayd-0.28"
    PERL_EXTUTILS_AUTOINSTALL="--defaultdeps"
    PERL_MM_USE_DEFAULT="1"
  @INC:
    /home/smoke/perl5/perlbrew/perls/perl-5.14.1/lib/site_perl/5.14.1/OpenBSD.i386-openbsd-thread-multi
    /home/smoke/perl5/perlbrew/perls/perl-5.14.1/lib/site_perl/5.14.1
    /home/smoke/perl5/perlbrew/perls/perl-5.14.1/lib/5.14.1/OpenBSD.i386-openbsd-thread-multi
    /home/smoke/perl5/perlbrew/perls/perl-5.14.1/lib/5.14.1
    .