Back
From: metabase:user:838e5b0a-2bb6-1016-a696-43a2537fa0c6
Subject: PASS Text-MacroScript-2.09_05 v5.16.2
Date: 2015-05-29T00:49:28Z
This distribution has been tested as part of the CPAN Testers
project, supporting the Perl programming language. See
http://wiki.cpantesters.org/ for more information or email
questions to cpan-testers-discuss@perl.org
--
Dear Paulo Custodio,
This is a computer-generated report for Text-MacroScript-2.09_05
on perl 5.16.2, created by CPAN-Reporter-1.2011.
Thank you for uploading your work to CPAN. Congratulations!
All tests were successful.
Sections of this report:
* Tester comments
* Program output
* Prerequisites
* Environment and other context
------------------------------
TESTER COMMENTS
------------------------------
Additional comments from tester:
this report is from an automated smoke testing program
and was not reviewed by a human for accuracy
------------------------------
PROGRAM OUTPUT
------------------------------
Output from 'C:\Users\solimanod\Desktop\strawberry-perl-5.16.2.1-64bit-portable\c\bin\dmake.exe test':
C:\Users\solimanod\Desktop\strawberry-perl-5.16.2.1-64bit-portable\perl\bin\perl.exe "-MExtUtils::Command::MM" "-MTest::Harness" "-e" "undef *Test::Harness::Switches; test_harness(0, 'blib\lib', 'blib\arch')" t/*.t
t/case.t ......... ok
t/comment.t ...... ok
# file '~/testmacroscript.tmp~' not found
# Issue #46: Syntax error in %CASE expression is not caught
# Issue #47 eval error when evaluating a SCRIPT is not caught and Perl error message is output
# Issue #49: Missing parameter or unescaped # in MACRO not reported for all missing parameters
t/expand_file.t .. ok
# Issue #10: macrodir always in embedded mode, ignoring -p option
# Issue #10: macrodir always in embedded mode, ignoring -p option
# Issue #10: macrodir always in embedded mode, ignoring -p option
# Issue #10: macrodir always in embedded mode, ignoring -p option
# Issue #10: macrodir always in embedded mode, ignoring -p option
# Issue #10: macrodir always in embedded mode, ignoring -p option
# Issue #10: macrodir always in embedded mode, ignoring -p option
# Issue #10: macrodir always in embedded mode, ignoring -p option
# Issue #10: macrodir always in embedded mode, ignoring -p option
# Issue #9: macrodir -d: does not replicate source tree in target directory
# Issue #10: macrodir always in embedded mode, ignoring -p option
# Issue #10: macrodir always in embedded mode, ignoring -p option
# Issue #10: macrodir always in embedded mode, ignoring -p option
# Issue #10: macrodir always in embedded mode, ignoring -p option
# Issue #10: macrodir always in embedded mode, ignoring -p option
# Issue #10: macrodir always in embedded mode, ignoring -p option
# Issue #10: macrodir always in embedded mode, ignoring -p option
# Issue #10: macrodir always in embedded mode, ignoring -p option
# Issue #10: macrodir always in embedded mode, ignoring -p option
# Issue #10: macrodir always in embedded mode, ignoring -p option
t/macrodir.t ..... ok
# Issue #23: macropp: report errors on syntax error
# Issue #23: macropp: report errors on syntax error
t/macropp.t ...... ok
# Issue #1: expansion depends on size of macro name
# Issue #4: undefine_all() should carp if no option is given
# Issue #2: expand() does not accept a multi-line text
# Issue #1: expansion depends on size of macro name
# Issue #3: Cannot catch error "missing parameter or unescaped # in MACRO"
# Issue #37: Variables should be expanded in all input text, not only in macro scripts
# Issue #37: Variables should be expanded in all input text, not only in macro scripts
t/macros.t ....... ok
t/macroscript.t .. ok
# Issue #2: expand() does not accept a multi-line text
t/new.t .......... ok
# Issue #41: Macro/script arguments do not nest
# Issue #5: Syntax SUM[] should be accepted to call script without parameters
# Issue #7: expansion depends on size of script name
# Issue #3: Cannot catch error "missing parameter or unescaped # in MACRO"
# Issue #37: Variables should be expanded in all input text, not only in macro scripts
t/scripts.t ...... ok
# Issue #38: Variables with # syntax not parsed by $Macro->define()
# Issue #39: Undefined #var use causes perl error message without location
# Issue #38: Variables with # syntax not parsed by $Macro->define()
# Issue #39: Undefined #var use causes perl error message without location
# Issue #38: Variables with # syntax not parsed by $Macro->define()
# Issue #39: Undefined #var use causes perl error message without location
# Issue #38: Variables with # syntax not parsed by $Macro->define()
# Issue #39: Undefined #var use causes perl error message without location
# Issue #38: Variables with # syntax not parsed by $Macro->define()
# Issue #39: Undefined #var use causes perl error message without location
Cannot undefine non-existent VARIABLE N3 at t/variables.t line 65.
Cannot undefine non-existent VARIABLE N4 at t/variables.t line 65.
Cannot undefine non-existent VARIABLE N5 at t/variables.t line 65.
# Issue #40: Variables should accept expressions and compute them
t/variables.t .... ok
All tests successful.
Files=10, Tests=704, 20 wallclock secs ( 0.22 usr + 0.03 sys = 0.25 CPU)
Result: PASS
------------------------------
PREREQUISITES
------------------------------
Prerequisite modules loaded:
requires:
Module Need Have
------------------- -------- --------
Capture::Tiny 0.22 0.22
Object::Tiny::RW 1.07 1.07
Path::Tiny 0.068 0.068
perl 5.01 5.016002
Test::Differences 0.61 0.61
Test::More 1.001014 1.001014
build_requires:
Module Need Have
------------------- -------- --------
ExtUtils::MakeMaker 0 6.94
configure_requires:
Module Need Have
------------------- -------- --------
ExtUtils::MakeMaker 0 6.94
------------------------------
ENVIRONMENT AND OTHER CONTEXT
------------------------------
Environment variables:
AUTOMATED_TESTING = 1
COMSPEC = C:\Windows\system32\cmd.exe
LD_LIBRARY_PATH = /usr/lib/x86:/usr/X11R6/lib
NUMBER_OF_PROCESSORS = 4
PATH = C:\Users\solimanod\Desktop\strawberry-perl-5.16.2.1-64bit-portable\perl\site\bin;C:\Users\solimanod\Desktop\strawberry-perl-5.16.2.1-64bit-portable\perl\bin;C:\Users\solimanod\Desktop\strawberry-perl-5.16.2.1-64bit-portable\c\bin;C:\Windows\system32;C:\Windows;C:\Windows\System32\Wbem;C:\Windows\System32\WindowsPowerShell\v1.0\;C:\RV\BIN;C:\Program Files (x86)\GnuWin32\bin;C:\Windows\System32\Windows System Resource Manager\bin;C:\Windows\SUA\common\;C:\Windows\SUA\usr\lib\;C:\strawberry\c\bin;C:\strawberry\perl\site\bin;C:\strawberry\perl\bin;C:\Program Files (x86)\Git\cmd;C:\Program Files\Microsoft SQL Server\110\Tools\Binn\
PERL5LIB = C:\Users\solimanod\Desktop\strawberry-perl-5.16.2.1-64bit-portable\cpan\build\Path-Tiny-0.068-uZ7HXU/blib/arch;C:\Users\solimanod\Desktop\strawberry-perl-5.16.2.1-64bit-portable\cpan\build\Path-Tiny-0.068-uZ7HXU/blib/lib;C:\Users\solimanod\Desktop\strawberry-perl-5.16.2.1-64bit-portable\cpan\build\Test-Simple-1.001014-tVXL2p/blib/arch;C:\Users\solimanod\Desktop\strawberry-perl-5.16.2.1-64bit-portable\cpan\build\Test-Simple-1.001014-tVXL2p/blib/lib;C:\Users\solimanod\Desktop\strawberry-perl-5.16.2.1-64bit-portable\cpan\build\Object-Tiny-RW-1.07-jYHb9S/blib/arch;C:\Users\solimanod\Desktop\strawberry-perl-5.16.2.1-64bit-portable\cpan\build\Object-Tiny-RW-1.07-jYHb9S/blib/lib
PERL5OPT =
PERL5_CPANPLUS_IS_RUNNING = 4272
PERL5_CPAN_IS_RUNNING = 4272
PERL5_CPAN_IS_RUNNING_IN_RECURSION = 8116,4272
PERL_CR_SMOKER_CURRENT = Text-MacroScript-2.09_05
PERL_EXTUTILS_AUTOINSTALL = --defaultdeps
PERL_MM_USE_DEFAULT = 1
PROCESSOR_IDENTIFIER = Intel64 Family 6 Model 37 Stepping 1, GenuineIntel
TEMP = C:\Users\SOLIMA~1\AppData\Local\Temp
TERM = dumb
Perl special variables (and OS-specific diagnostics, for MSWin32):
$^X = C:\Users\solimanod\Desktop\strawberry-perl-5.16.2.1-64bit-portable\perl\bin\perl.exe
$UID/$EUID = 0 / 0
$GID = 0
$EGID = 0
Win32::GetOSName = Win2008
Win32::GetOSVersion = Service Pack 1, 6, 1, 7601, 2, 1, 0, 272, 3
Win32::FsType = NTFS
Win32::IsAdminUser = 1
Perl module toolchain versions installed:
Module Have
------------------- --------
CPAN 2.05
CPAN::Meta 2.140640
Cwd 3.40
ExtUtils::CBuilder 0.280216
ExtUtils::Command 1.18
ExtUtils::Install 1.63
ExtUtils::MakeMaker 6.94
ExtUtils::Manifest 1.63
ExtUtils::ParseXS 3.24
File::Spec 3.40
JSON 2.90
JSON::PP 2.27203
Module::Build 0.4205
Module::Signature n/a
Parse::CPAN::Meta 1.4414
Test::Harness 3.30
Test::More 1.001014
YAML 0.90
YAML::Syck 1.21
version 0.9908
--
Summary of my perl5 (revision 5 version 16 subversion 2) configuration:
Platform:
osname=MSWin32, osvers=4.0, archname=MSWin32-x64-multi-thread
uname='Win32 strawberry-perl 5.16.2.1 #1 Fri Nov 2 03:03:35 2012 x64'
config_args='undef'
hint=recommended, useposix=true, d_sigaction=undef
useithreads=define, usemultiplicity=define
useperlio=define, d_sfio=undef, uselargefiles=define, usesocks=undef
use64bitint=define, use64bitall=undef, uselongdouble=undef
usemymalloc=n, bincompat5005=undef
Compiler:
cc='gcc', ccflags =' -s -O2 -DWIN32 -DWIN64 -DCONSERVATIVE -DPERL_TEXTMODE_SCRIPTS -DPERL_IMPLICIT_CONTEXT -DPERL_IMPLICIT_SYS -fno-strict-aliasing -mms-bitfields',
optimize='-s -O2',
cppflags='-DWIN32'
ccversion='', gccversion='4.6.3', gccosandvers=''
intsize=4, longsize=4, ptrsize=8, doublesize=8, byteorder=12345678
d_longlong=define, longlongsize=8, d_longdbl=define, longdblsize=12
ivtype='long long', ivsize=8, nvtype='double', nvsize=8, Off_t='long long', lseeksize=8
alignbytes=8, prototype=define
Linker and Libraries:
ld='g++.exe', ldflags ='-s -L"C:\Users\solimanod\Desktop\strawberry-perl-5.16.2.1-64bit-portable\perl\lib\CORE" -L"C:\Users\solimanod\Desktop\strawberry-perl-5.16.2.1-64bit-portable\c\lib"'
libpth=C:\Users\solimanod\Desktop\strawberry-perl-5.16.2.1-64bit-portable\c\lib C:\Users\solimanod\Desktop\strawberry-perl-5.16.2.1-64bit-portable\c\x86_64-w64-mingw32\lib
libs=-lmoldname -lkernel32 -luser32 -lgdi32 -lwinspool -lcomdlg32 -ladvapi32 -lshell32 -lole32 -loleaut32 -lnetapi32 -luuid -lws2_32 -lmpr -lwinmm -lversion -lodbc32 -lodbccp32 -lcomctl32
perllibs=-lmoldname -lkernel32 -luser32 -lgdi32 -lwinspool -lcomdlg32 -ladvapi32 -lshell32 -lole32 -loleaut32 -lnetapi32 -luuid -lws2_32 -lmpr -lwinmm -lversion -lodbc32 -lodbccp32 -lcomctl32
libc=, so=dll, useshrplib=true, libperl=libperl516.a
gnulibc_version=''
Dynamic Linking:
dlsrc=dl_win32.xs, dlext=dll, d_dlsymun=undef, ccdlflags=' '
cccdlflags=' ', lddlflags='-mdll -s -L"C:\Users\solimanod\Desktop\strawberry-perl-5.16.2.1-64bit-portable\perl\lib\CORE" -L"C:\Users\solimanod\Desktop\strawberry-perl-5.16.2.1-64bit-portable\c\lib"'
Characteristics of this binary (from libperl):
Compile-time options: HAS_TIMES HAVE_INTERP_INTERN MULTIPLICITY
PERLIO_LAYERS PERL_DONT_CREATE_GVSV
PERL_IMPLICIT_CONTEXT PERL_IMPLICIT_SYS
PERL_MALLOC_WRAP PERL_PRESERVE_IVUV PL_OP_SLAB_ALLOC
USE_64_BIT_INT USE_ITHREADS USE_LARGE_FILES
USE_LOCALE USE_LOCALE_COLLATE USE_LOCALE_CTYPE
USE_LOCALE_NUMERIC USE_PERLIO USE_PERL_ATOF
Built under MSWin32
Compiled at Nov 2 2012 03:12:17
%ENV:
PERL5LIB="C:\Users\solimanod\Desktop\strawberry-perl-5.16.2.1-64bit-portable\cpan\build\Path-Tiny-0.068-uZ7HXU/blib/arch;C:\Users\solimanod\Desktop\strawberry-perl-5.16.2.1-64bit-portable\cpan\build\Path-Tiny-0.068-uZ7HXU/blib/lib;C:\Users\solimanod\Desktop\strawberry-perl-5.16.2.1-64bit-portable\cpan\build\Test-Simple-1.001014-tVXL2p/blib/arch;C:\Users\solimanod\Desktop\strawberry-perl-5.16.2.1-64bit-portable\cpan\build\Test-Simple-1.001014-tVXL2p/blib/lib;C:\Users\solimanod\Desktop\strawberry-perl-5.16.2.1-64bit-portable\cpan\build\Object-Tiny-RW-1.07-jYHb9S/blib/arch;C:\Users\solimanod\Desktop\strawberry-perl-5.16.2.1-64bit-portable\cpan\build\Object-Tiny-RW-1.07-jYHb9S/blib/lib"
PERL5_CPANPLUS_IS_RUNNING="4272"
PERL5_CPAN_IS_RUNNING="4272"
PERL5_CPAN_IS_RUNNING_IN_RECURSION="8116,4272"
PERL_CR_SMOKER_CURRENT="Text-MacroScript-2.09_05"
PERL_EXTUTILS_AUTOINSTALL="--defaultdeps"
PERL_MM_USE_DEFAULT="1"
@INC:
C:\Users\solimanod\Desktop\strawberry-perl-5.16.2.1-64bit-portable\cpan\build\Path-Tiny-0.068-uZ7HXU/blib/arch
C:\Users\solimanod\Desktop\strawberry-perl-5.16.2.1-64bit-portable\cpan\build\Path-Tiny-0.068-uZ7HXU/blib/lib
C:\Users\solimanod\Desktop\strawberry-perl-5.16.2.1-64bit-portable\cpan\build\Test-Simple-1.001014-tVXL2p/blib/arch
C:\Users\solimanod\Desktop\strawberry-perl-5.16.2.1-64bit-portable\cpan\build\Test-Simple-1.001014-tVXL2p/blib/lib
C:\Users\solimanod\Desktop\strawberry-perl-5.16.2.1-64bit-portable\cpan\build\Object-Tiny-RW-1.07-jYHb9S/blib/arch
C:\Users\solimanod\Desktop\strawberry-perl-5.16.2.1-64bit-portable\cpan\build\Object-Tiny-RW-1.07-jYHb9S/blib/lib
C:/Users/solimanod/Desktop/strawberry-perl-5.16.2.1-64bit-portable/perl/site/lib
C:/Users/solimanod/Desktop/strawberry-perl-5.16.2.1-64bit-portable/perl/vendor/lib
C:/Users/solimanod/Desktop/strawberry-perl-5.16.2.1-64bit-portable/perl/lib
.