Net-HTTP v6.21 Perl 5 v5.34.0 x86_64-linux-thread-multi
- Status
- Pass
- From
- Chris Hills
- Dist
-
Net-HTTP v6.21
- Platform
- Perl 5 v5.34.0 x86_64-linux-thread-multi
- Date
- 2021-05-21 14:07:29
- ID
- e11f9f34-ba3d-11eb-92db-4e24ee52fdfc
This distribution has been tested as part of the CPAN Testers
project, supporting the Perl programming language. See
http://wiki.cpantesters.org/ for more information or email
questions to cpan-testers-discuss@perl.org
--
Dear OALDERS,
This is a computer-generated report for Net-HTTP-6.21
on perl 5.34.0, created by App::cpanminus::reporter 0.17 (1.7044).
Thank you for uploading your work to CPAN. Congratulations!
All tests were successful.
Sections of this report:
* Tester comments
* Program output
* Prerequisites
* Environment and other context
------------------------------
TESTER COMMENTS
------------------------------
Additional comments from tester:
none provided
------------------------------
PROGRAM OUTPUT
------------------------------
Output from '':
Building and testing Net-HTTP-6.21
cp lib/Net/HTTPS.pm blib/lib/Net/HTTPS.pm
cp lib/Net/HTTP.pm blib/lib/Net/HTTP.pm
cp lib/Net/HTTP/NB.pm blib/lib/Net/HTTP/NB.pm
cp lib/Net/HTTP/Methods.pm blib/lib/Net/HTTP/Methods.pm
Manifying 4 pod documents
PERL_DL_NONLAZY=1 "/home/chaz/.local/local/perl-5.34.0/bin/perl" "-MExtUtils::Command::MM" "-MTest::Harness" "-e" "undef *Test::Harness::Switches; test_harness(0, 'blib/lib', 'blib/arch')" t/*.t
#
# Versions for all modules listed in MYMETA.json (including optional ones):
#
# === Configure Requires ===
#
# Module Want Have
# ------------------- ---- ----
# ExtUtils::MakeMaker any 7.62
#
# === Configure Suggests ===
#
# Module Want Have
# -------- ------- ----
# JSON::PP 2.27300 4.06
#
# === Build Requires ===
#
# Module Want Have
# ------------------- ---- ----
# ExtUtils::MakeMaker any 7.62
#
# === Test Requires ===
#
# Module Want Have
# ------------------- ---- --------
# Data::Dumper any 2.179
# ExtUtils::MakeMaker any 7.62
# File::Spec any 3.80
# IO::Select any 1.46
# Socket any 2.031
# Test::More any 1.302183
#
# === Test Recommends ===
#
# Module Want Have
# ---------- -------- --------
# CPAN::Meta 2.120900 2.150010
#
# === Runtime Requires ===
#
# Module Want Have
# ---------------------- ---- -----
# Carp any 1.52
# Compress::Raw::Zlib any 2.101
# IO::Socket::INET any 1.46
# IO::Uncompress::Gunzip any 2.102
# URI any 5.09
# base any 2.27
# strict any 1.12
# warnings any 1.51
#
# === Runtime Suggests ===
#
# Module Want Have
# ----------------- ----- -------
# IO::Socket any 1.46
# IO::Socket::INET6 any missing
# IO::Socket::IP any 0.41
# IO::Socket::SSL 2.012 2.070
# Symbol any 1.09
#
t/00-report-prereqs.t .. ok
t/http-nb.t ............ ok
t/http.t ............... ok
t/live-https.t ......... ok
t/live.t ............... ok
t/socket-class.t ....... ok
All tests successful.
Files=6, Tests=69, 1 wallclock secs ( 0.03 usr 0.01 sys + 0.57 cusr 0.10 csys = 0.71 CPU)
Result: PASS
------------------------------
PREREQUISITES
------------------------------
Prerequisite modules loaded:
No requirements found
------------------------------
ENVIRONMENT AND OTHER CONTEXT
------------------------------
Environment variables:
LANG = en_US.UTF-8
PATH = /home/chaz/perl5/bin:/home/chaz/.local/local/clang+llvm/bin:/home/chaz/.local/local/qt5/bin:/home/chaz/.local/local/apache-maven/bin:/home/chaz/.dotnet/tools:/home/chaz/go/bin:/home/chaz/.cargo/bin:/home/chaz/bin:/home/chaz/.local/bin:/home/chaz/perl5/bin:/usr/local/bin:/usr/bin:/usr/local/sbin:/usr/sbin:/home/chaz/.composer/vendor/bin
PERL5LIB = /home/chaz/perl5/lib/perl5:/home/chaz/perl5/lib/perl5
PERL_LOCAL_LIB_ROOT = /home/chaz/perl5:/home/chaz/perl5
PERL_MB_OPT = --install_base "/home/chaz/perl5"
PERL_MM_OPT = INSTALL_BASE=/home/chaz/perl5
SHELL = /bin/bash
TERM = screen-256color
Perl special variables (and OS-specific diagnostics, for MSWin32):
EGID = 1000 10 63 986 1000
EUID = 1000
EXECUTABLE_NAME = /home/chaz/.local/local/perl-5.34.0/bin/perl
GID = 1000 10 63 986 1000
UID = 1000
Perl module toolchain versions installed:
Module Have
------------------- --------
CPAN 2.28
CPAN::Meta 2.150010
Cwd 3.80
ExtUtils::CBuilder 0.280236
ExtUtils::Command 7.62
ExtUtils::Install 2.20
ExtUtils::MakeMaker 7.62
ExtUtils::Manifest 1.73
ExtUtils::ParseXS 3.43
File::Spec 3.80
JSON n/a
JSON::PP 4.06
Module::Build n/a
Module::Signature n/a
Parse::CPAN::Meta 2.150010
Test::Harness 3.43
Test::More 1.302183
YAML n/a
YAML::Syck n/a
version 0.9928
--
Summary of my perl5 (revision 5 version 34 subversion 0) configuration:
Platform:
osname=linux
osvers=5.11.12-1.el7.elrepo.x86_64
archname=x86_64-linux-thread-multi
uname='linux vps-5.chaz6.com 5.11.12-1.el7.elrepo.x86_64 #1 smp tue apr 6 11:17:14 edt 2021 x86_64 gnulinux '
config_args='-des -Dprefix=/home/chaz/.local/local/perl-5.34.0 -Duseshrplib -Dusethreads -Dcc=clang -Accflags=-march=x86-64-v3'
hint=recommended
useposix=true
d_sigaction=define
useithreads=define
usemultiplicity=define
use64bitint=define
use64bitall=define
uselongdouble=undef
usemymalloc=n
default_inc_excludes_dot=define
Compiler:
cc='clang'
ccflags ='-D_REENTRANT -D_GNU_SOURCE -march=x86-64-v3 -fno-strict-aliasing -pipe -fstack-protector-strong -I/usr/local/include -D_LARGEFILE_SOURCE -D_FILE_OFFSET_BITS=64'
optimize='-O2'
cppflags='-D_REENTRANT -D_GNU_SOURCE -march=x86-64-v3 -fno-strict-aliasing -pipe -fstack-protector-strong -I/usr/local/include'
ccversion=''
gccversion='Clang 12.0.0 (https://github.com/syoyo/llvm-build-script.git 0ee1117657bb791936479de2eb8f7945faa465f8)'
gccosandvers=''
intsize=4
longsize=8
ptrsize=8
doublesize=8
byteorder=12345678
doublekind=3
d_longlong=define
longlongsize=8
d_longdbl=define
longdblsize=16
longdblkind=3
ivtype='long'
ivsize=8
nvtype='double'
nvsize=8
Off_t='off_t'
lseeksize=8
alignbytes=8
prototype=define
Linker and Libraries:
ld='clang'
ldflags =' -fstack-protector-strong -L/usr/local/lib'
libpth=/usr/local/lib /home/chaz/.local/local/clang+llvm-12.0.0/lib/clang/12.0.0/lib /usr/lib /usr/lib64 /usr/local/lib64
libs=-lpthread -lnsl -lgdbm -ldb -ldl -lm -lcrypt -lutil -lc -lgdbm_compat
perllibs=-lpthread -lnsl -ldl -lm -lcrypt -lutil -lc
libc=libc-2.17.so
so=so
useshrplib=true
libperl=libperl.so
gnulibc_version='2.17'
Dynamic Linking:
dlsrc=dl_dlopen.xs
dlext=so
d_dlsymun=undef
ccdlflags='-Wl,-E -Wl,-rpath,/home/chaz/.local/local/perl-5.34.0/lib/5.34.0/x86_64-linux-thread-multi/CORE'
cccdlflags='-fPIC'
lddlflags='-shared -O2 -L/usr/local/lib -fstack-protector-strong'
Characteristics of this binary (from libperl):
Compile-time options:
HAS_TIMES
MULTIPLICITY
PERLIO_LAYERS
PERL_COPY_ON_WRITE
PERL_DONT_CREATE_GVSV
PERL_IMPLICIT_CONTEXT
PERL_MALLOC_WRAP
PERL_OP_PARENT
PERL_PRESERVE_IVUV
USE_64_BIT_ALL
USE_64_BIT_INT
USE_ITHREADS
USE_LARGE_FILES
USE_LOCALE
USE_LOCALE_COLLATE
USE_LOCALE_CTYPE
USE_LOCALE_NUMERIC
USE_LOCALE_TIME
USE_PERLIO
USE_PERL_ATOF
USE_REENTRANT_API
USE_THREAD_SAFE_LOCALE
Built under linux
Compiled at May 21 2021 11:46:00
%ENV:
PERL5LIB="/home/chaz/perl5/lib/perl5:/home/chaz/perl5/lib/perl5"
PERL_LOCAL_LIB_ROOT="/home/chaz/perl5:/home/chaz/perl5"
PERL_MB_OPT="--install_base "/home/chaz/perl5""
PERL_MM_OPT="INSTALL_BASE=/home/chaz/perl5"
@INC:
/home/chaz/perl5/lib/perl5/x86_64-linux-thread-multi
/home/chaz/perl5/lib/perl5
/home/chaz/perl5/lib/perl5/x86_64-linux-thread-multi
/home/chaz/perl5/lib/perl5
/home/chaz/.local/local/perl-5.34.0/lib/site_perl/5.34.0/x86_64-linux-thread-multi
/home/chaz/.local/local/perl-5.34.0/lib/site_perl/5.34.0
/home/chaz/.local/local/perl-5.34.0/lib/5.34.0/x86_64-linux-thread-multi
/home/chaz/.local/local/perl-5.34.0/lib/5.34.0