autodie v2.29 Perl 5 v5.20.1 i686-linux-thread-multi

Status
Pass
From
Nigel Horne
Dist
autodie v2.29
Platform
Perl 5 v5.20.1 i686-linux-thread-multi
Date
2018-11-05 18:59:10
ID
e1208abc-e12c-11e8-afbf-aec3b07506ca
This distribution has been tested as part of the CPAN Testers
project, supporting the Perl programming language.  See
http://wiki.cpantesters.org/ for more information or email
questions to cpan-testers-discuss@perl.org


--
Dear Paul Jamieson Fenwick,

This is a computer-generated report for autodie-2.29
on perl 5.20.1, created by CPAN-Reporter-1.2018.

Thank you for uploading your work to CPAN.  Congratulations!
All tests were successful.

Sections of this report:

    * Tester comments
    * Program output
    * Prerequisites
    * Environment and other context

------------------------------
TESTER COMMENTS
------------------------------

Additional comments from tester:

this report is from an automated smoke testing program
and was not reviewed by a human for accuracy

------------------------------
PROGRAM OUTPUT
------------------------------

Output from '/usr/bin/make test':

PERL_DL_NONLAZY=1 "/home/njh/perl5/perlbrew/perls/perl-5.20.1/bin/perl" "-MExtUtils::Command::MM" "-MTest::Harness" "-e" "undef *Test::Harness::Switches; test_harness(0, 'blib/lib', 'blib/arch')" t/*.t
t/args.t ......................... ok
t/00-load.t ...................... ok
t/author-critic.t ................ skipped: these tests are for testing by the author
t/autodie.t ...................... ok
t/basic_exceptions.t ............. ok
t/backcompat.t ................... ok
t/binmode.t ...................... ok
t/blog_hints.t ................... ok
t/caller.t ....................... ok
t/chmod.t ........................ ok
t/chown.t ........................ ok
t/context_lexical.t .............. ok
t/context.t ...................... ok
t/crickey.t ...................... ok
t/core-trampoline-slurp.t ........ ok
t/critic.t ....................... skipped: Author test.  Set $ENV{AUTHOR_TESTING} to true to run.
t/dbmopen.t ...................... ok
t/eval_error.t ................... ok
t/exceptions.t ................... ok
t/exception_class.t .............. ok
t/Fatal.t ........................ ok
t/exec.t ......................... ok
t/filehandles.t .................. ok
t/fileno.t ....................... ok
t/flock.t ........................ ok
t/fork.t ......................... ok
t/format-clobber.t ............... ok
# Sub::Identify is not loaded
t/hints.t ........................ ok
t/hints_insist.t ................. ok
t/hints_provider_does.t .......... ok
t/hints_pod_examples.t ........... ok
t/hints_provider_easy_does_it.t .. ok
t/hints_provider_isa.t ........... ok
t/import-into.t .................. ok
t/internal-backcompat.t .......... ok
t/internal.t ..................... ok
t/kill.t ......................... ok
t/kwalitee.t ..................... skipped: Author test.  Set $ENV{RELEASE_TESTING} to true to run.
t/lex58.t ........................ skipped: IPC::System::Simple required
t/lethal.t ....................... ok
t/no_carp.t ...................... ok
t/mkdir.t ........................ ok
t/open.t ......................... ok
t/pod-coverage.t ................. skipped: Author test.  Set $ENV{AUTHOR_TESTING} to true to run.
t/pod.t .......................... skipped: Author test.  Set $ENV{AUTHOR_TESTING} to true to run.
t/read.t ......................... ok
t/release-pod-coverage.t ......... skipped: these tests are for release candidate testing
t/recv.t ......................... ok
t/release-pod-syntax.t ........... skipped: these tests are for release candidate testing
t/repeat.t ....................... ok
t/rt-74246.t ..................... ok
t/scope_leak.t ................... ok
t/skip.t ......................... ok
t/socket.t ....................... skipped: Author test.  Set $ENV{AUTHOR_TESTING} to true to run.
t/string-eval-basic.t ............ ok
t/string-eval-leak.t ............. ok
t/system.t ....................... skipped: IPC::System::Simple not installed
t/sysopen.t ...................... ok
t/unlink.t ....................... ok
t/truncate.t ..................... ok
t/user-context.t ................. ok
t/usersub.t ...................... ok
t/utime.t ........................ ok
t/utf8_open.t .................... ok
t/version.t ...................... skipped: Release test.  Set $ENV{RELEASE_TESTING} to true to run.
t/version_tag.t .................. ok
All tests successful.
Files=66, Tests=499,  7 wallclock secs ( 0.28 usr  0.07 sys +  7.08 cusr  0.76 csys =  8.19 CPU)
Result: PASS

------------------------------
PREREQUISITES
------------------------------

Prerequisite modules loaded:

requires:

    Module              Need     Have    
    ------------------- -------- --------
    B                   0        1.48    
    Carp                0        1.3301  
    constant            0        1.31    
    Exporter            5.57     5.71    
    Fcntl               0        1.11    
    overload            0        1.22    
    parent              0        0.228   
    perl                5.008004 5.020001
    POSIX               0        1.38_03 
    Scalar::Util        0        1.38    
    strict              0        1.08    
    Tie::RefHash        0        1.39    
    warnings            0        1.23    

build_requires:

    Module              Need     Have    
    ------------------- -------- --------
    ExtUtils::MakeMaker 0        7.30    
    File::Copy          0        2.30    
    File::Spec          0        3.74    
    File::Temp          0        0.2304  
    FindBin             0        1.51    
    if                  0        0.0603  
    IO::Handle          0        1.35    
    lib                 0        0.63    
    Socket              0        2.013   
    Test::More          0        1.302136

configure_requires:

    Module              Need     Have    
    ------------------- -------- --------
    ExtUtils::MakeMaker 0        7.30    


------------------------------
ENVIRONMENT AND OTHER CONTEXT
------------------------------

Environment variables:

    AUTOMATED_TESTING = 1
    HARNESS_OPTIONS = j2
    LANG = en_US.UTF-8
    PATH = /home/njh/perl5/perlbrew/bin:/home/njh/perl5/perlbrew/perls/perl-5.20.1/bin:/home/njh/src/njh/smoker/bin:/usr/bin:/bin
    PERL5LIB = /home/njh/.cpan/build/Moo-2.003004-72/blib/arch:/home/njh/.cpan/build/Moo-2.003004-72/blib/lib:/home/njh/.cpan/build/Sub-Quote-2.005001-79/blib/arch:/home/njh/.cpan/build/Sub-Quote-2.005001-79/blib/lib:/home/njh/.cpan/build/Role-Tiny-2.000006-91/blib/arch:/home/njh/.cpan/build/Role-Tiny-2.000006-91/blib/lib:/home/njh/.cpan/build/Devel-GlobalDestruction-0.14-60/blib/arch:/home/njh/.cpan/build/Devel-GlobalDestruction-0.14-60/blib/lib:/home/njh/.cpan/build/Sub-Exporter-Progressive-0.001013-44/blib/arch:/home/njh/.cpan/build/Sub-Exporter-Progressive-0.001013-44/blib/lib:/home/njh/.cpan/build/Class-Method-Modifiers-2.12-71/blib/arch:/home/njh/.cpan/build/Class-Method-Modifiers-2.12-71/blib/lib:/home/njh/.cpan/build/File-ShareDir-1.116-22/blib/arch:/home/njh/.cpan/build/File-ShareDir-1.116-22/blib/lib:/home/njh/.cpan/build/File-ShareDir-Install-0.13-22/blib/arch:/home/njh/.cpan/build/File-ShareDir-Install-0.13-22/blib/lib
    PERL5OPT = 
    PERL5_CPANPLUS_IS_RUNNING = 24684
    PERL5_CPAN_IS_RUNNING = 24684
    PERLBREW_HOME = /home/njh/.perlbrew
    PERLBREW_MANPATH = /home/njh/perl5/perlbrew/perls/perl-5.20.1/man
    PERLBREW_PATH = /home/njh/perl5/perlbrew/bin:/home/njh/perl5/perlbrew/perls/perl-5.20.1/bin
    PERLBREW_PERL = perl-5.20.1
    PERLBREW_ROOT = /home/njh/perl5/perlbrew
    PERLBREW_SHELLRC_VERSION = 0.84
    PERLBREW_VERSION = 0.84
    SHELL = /bin/sh
    TEMP = /tmp/user/1000
    TMPDIR = /tmp/user/1000/testwrapper.24670

Perl special variables (and OS-specific diagnostics, for MSWin32):

    $^X = /home/njh/perl5/perlbrew/perls/perl-5.20.1/bin/perl
    $UID/$EUID = 1000 / 1000
    $GID = 1000 4 24 25 29 30 44 46 108 1000
    $EGID = 1000 4 24 25 29 30 44 46 108 1000

Perl module toolchain versions installed:

    Module              Have    
    ------------------- --------
    CPAN                2.16    
    CPAN::Meta          2.143240
    Cwd                 3.74    
    ExtUtils::CBuilder  0.280217
    ExtUtils::Command   7.30    
    ExtUtils::Install   2.06    
    ExtUtils::MakeMaker 7.30    
    ExtUtils::Manifest  1.70    
    ExtUtils::ParseXS   3.24    
    File::Spec          3.74    
    JSON                2.97001 
    JSON::PP            2.97001 
    Module::Build       0.4224  
    Module::Signature   n/a     
    Parse::CPAN::Meta   1.4414  
    Test::Harness       3.42    
    Test::More          1.302136
    YAML                1.26    
    YAML::Syck          1.30    
    version             0.9909  


--

Summary of my perl5 (revision 5 version 20 subversion 1) configuration:
   
  Platform:
    osname=linux, osvers=4.3.0-1-686-pae, archname=i686-linux-thread-multi
    uname='linux zack 4.3.0-1-686-pae #1 smp debian 4.3.5-1 (2016-02-06) i686 gnulinux '
    config_args='-de -Dprefix=/home/njh/perl5/perlbrew/perls/perl-5.20.1 -Duseithreads -Dusemultiplicity -Dusedevel -Accflags= -Aeval:scriptdir=/home/njh/perl5/perlbrew/perls/perl-5.20.1/bin'
    hint=recommended, useposix=true, d_sigaction=define
    useithreads=define, usemultiplicity=define
    use64bitint=undef, use64bitall=undef, uselongdouble=undef
    usemymalloc=n, bincompat5005=undef
  Compiler:
    cc='cc', ccflags ='-D_REENTRANT -D_GNU_SOURCE -fwrapv -fno-strict-aliasing -pipe -fstack-protector -I/usr/local/include -D_LARGEFILE_SOURCE -D_FILE_OFFSET_BITS=64',
    optimize='-O2',
    cppflags='-D_REENTRANT -D_GNU_SOURCE -fwrapv -fno-strict-aliasing -pipe -fstack-protector -I/usr/local/include'
    ccversion='', gccversion='6.4.0 20170704', gccosandvers=''
    intsize=4, longsize=4, ptrsize=4, doublesize=8, byteorder=1234
    d_longlong=define, longlongsize=8, d_longdbl=define, longdblsize=12
    ivtype='long', ivsize=4, nvtype='double', nvsize=8, Off_t='off_t', lseeksize=8
    alignbytes=4, prototype=define
  Linker and Libraries:
    ld='cc', ldflags =' -fstack-protector -L/usr/local/lib'
    libpth=/usr/local/lib /usr/lib/gcc/i686-linux-gnu/6/include-fixed /usr/include/i386-linux-gnu /usr/lib /lib/i386-linux-gnu /lib/../lib /usr/lib/i386-linux-gnu /usr/lib/../lib /lib
    libs=-lnsl -lgdbm -ldb -ldl -lm -lcrypt -lutil -lpthread -lc -lgdbm_compat
    perllibs=-lnsl -ldl -lm -lcrypt -lutil -lpthread -lc
    libc=libc-2.24.so, so=so, useshrplib=false, libperl=libperl.a
    gnulibc_version='2.24'
  Dynamic Linking:
    dlsrc=dl_dlopen.xs, dlext=so, d_dlsymun=undef, ccdlflags='-Wl,-E'
    cccdlflags='-fPIC', lddlflags='-shared -O2 -L/usr/local/lib -fstack-protector'


Characteristics of this binary (from libperl): 
  Compile-time options: HAS_TIMES MULTIPLICITY PERLIO_LAYERS
                        PERL_DONT_CREATE_GVSV
                        PERL_HASH_FUNC_ONE_AT_A_TIME_HARD
                        PERL_IMPLICIT_CONTEXT PERL_MALLOC_WRAP
                        PERL_NEW_COPY_ON_WRITE PERL_PRESERVE_IVUV
                        PERL_USE_DEVEL USE_ITHREADS USE_LARGE_FILES
                        USE_LOCALE USE_LOCALE_COLLATE USE_LOCALE_CTYPE
                        USE_LOCALE_NUMERIC USE_PERLIO USE_PERL_ATOF
                        USE_REENTRANT_API
  Locally applied patches:
	Devel::PatchPerl 1.38
  Built under linux
  Compiled at Jul 27 2017 00:33:25
  %ENV:
    PERL5LIB="/home/njh/.cpan/build/Moo-2.003004-72/blib/arch:/home/njh/.cpan/build/Moo-2.003004-72/blib/lib:/home/njh/.cpan/build/Sub-Quote-2.005001-79/blib/arch:/home/njh/.cpan/build/Sub-Quote-2.005001-79/blib/lib:/home/njh/.cpan/build/Role-Tiny-2.000006-91/blib/arch:/home/njh/.cpan/build/Role-Tiny-2.000006-91/blib/lib:/home/njh/.cpan/build/Devel-GlobalDestruction-0.14-60/blib/arch:/home/njh/.cpan/build/Devel-GlobalDestruction-0.14-60/blib/lib:/home/njh/.cpan/build/Sub-Exporter-Progressive-0.001013-44/blib/arch:/home/njh/.cpan/build/Sub-Exporter-Progressive-0.001013-44/blib/lib:/home/njh/.cpan/build/Class-Method-Modifiers-2.12-71/blib/arch:/home/njh/.cpan/build/Class-Method-Modifiers-2.12-71/blib/lib:/home/njh/.cpan/build/File-ShareDir-1.116-22/blib/arch:/home/njh/.cpan/build/File-ShareDir-1.116-22/blib/lib:/home/njh/.cpan/build/File-ShareDir-Install-0.13-22/blib/arch:/home/njh/.cpan/build/File-ShareDir-Install-0.13-22/blib/lib"
    PERL5OPT=""
    PERL5_CPANPLUS_IS_RUNNING="24684"
    PERL5_CPAN_IS_RUNNING="24684"
    PERLBREW_HOME="/home/njh/.perlbrew"
    PERLBREW_MANPATH="/home/njh/perl5/perlbrew/perls/perl-5.20.1/man"
    PERLBREW_PATH="/home/njh/perl5/perlbrew/bin:/home/njh/perl5/perlbrew/perls/perl-5.20.1/bin"
    PERLBREW_PERL="perl-5.20.1"
    PERLBREW_ROOT="/home/njh/perl5/perlbrew"
    PERLBREW_SHELLRC_VERSION="0.84"
    PERLBREW_VERSION="0.84"
  @INC:
    /home/njh/.cpan/build/Moo-2.003004-72/blib/arch
    /home/njh/.cpan/build/Moo-2.003004-72/blib/lib
    /home/njh/.cpan/build/Sub-Quote-2.005001-79/blib/arch
    /home/njh/.cpan/build/Sub-Quote-2.005001-79/blib/lib
    /home/njh/.cpan/build/Role-Tiny-2.000006-91/blib/arch
    /home/njh/.cpan/build/Role-Tiny-2.000006-91/blib/lib
    /home/njh/.cpan/build/Devel-GlobalDestruction-0.14-60/blib/arch
    /home/njh/.cpan/build/Devel-GlobalDestruction-0.14-60/blib/lib
    /home/njh/.cpan/build/Sub-Exporter-Progressive-0.001013-44/blib/arch
    /home/njh/.cpan/build/Sub-Exporter-Progressive-0.001013-44/blib/lib
    /home/njh/.cpan/build/Class-Method-Modifiers-2.12-71/blib/arch
    /home/njh/.cpan/build/Class-Method-Modifiers-2.12-71/blib/lib
    /home/njh/.cpan/build/File-ShareDir-1.116-22/blib/arch
    /home/njh/.cpan/build/File-ShareDir-1.116-22/blib/lib
    /home/njh/.cpan/build/File-ShareDir-Install-0.13-22/blib/arch
    /home/njh/.cpan/build/File-ShareDir-Install-0.13-22/blib/lib
    /home/njh/perl5/perlbrew/perls/perl-5.20.1/lib/site_perl/5.20.1/i686-linux-thread-multi
    /home/njh/perl5/perlbrew/perls/perl-5.20.1/lib/site_perl/5.20.1
    /home/njh/perl5/perlbrew/perls/perl-5.20.1/lib/5.20.1/i686-linux-thread-multi
    /home/njh/perl5/perlbrew/perls/perl-5.20.1/lib/5.20.1
    .