Report for Project-Euler-0.20

Back
From: metabase:user:320bfe00-2aae-11df-837a-5e0a49663a4f
Subject: PASS Project-Euler-0.20 v5.15.1 GNU/Linux
Date: 2011-08-03T19:07:49Z

This distribution has been tested as part of the CPAN Testers
project, supporting the Perl programming language.  See
http://wiki.cpantesters.org/ for more information or email
questions to cpan-testers-discuss@perl.org


--
Dear Adam Lesperance,

This is a computer-generated report for Project-Euler-0.20
on perl 5.15.1, created by CPAN-Reporter-1.1902.

Thank you for uploading your work to CPAN.  Congratulations!
All tests were successful.

Sections of this report:

    * Tester comments
    * Program output
    * Prerequisites
    * Environment and other context

------------------------------
TESTER COMMENTS
------------------------------

Additional comments from tester:

none provided

------------------------------
PROGRAM OUTPUT
------------------------------

Output from './Build test':

# Testing Project::Euler, Perl 5.015001, /home/sand/src/perl/repoperls/installed-perls/perl/v5.15.1-184-gd1558b3/2b65/bin/perl
t/00-Base/00-load.t ........................... ok
t/00-Base/01-base.t ........................... ok
t/00-compile.t ................................ ok
t/10-Lib/000-Types.t .......................... ok
t/10-Lib/100-Utils_List.t ..................... ok
t/10-Lib/101-Utils_Fibs.t ..................... ok
t/20-Problems/000-Correct_Defaults.t .......... ok
t/20-Problems/001-Sum_Filtered_Lists.t ........ ok
t/20-Problems/002-Sum_Filtered_Fib_Numbers.t .. ok
t/author-99-template.t ........................ skipped: these tests are for testing by the author
t/author-critic.t ............................. skipped: these tests are for testing by the author
t/release-check-changes.t ..................... skipped: these tests are for release candidate testing
t/release-distmeta.t .......................... skipped: these tests are for release candidate testing
t/release-has-version.t ....................... skipped: these tests are for release candidate testing
t/release-kwalitee.t .......................... skipped: these tests are for release candidate testing
t/release-minimum-version.t ................... skipped: these tests are for release candidate testing
t/release-pod-coverage.t ...................... skipped: these tests are for release candidate testing
t/release-pod-syntax.t ........................ skipped: these tests are for release candidate testing
t/release-portability.t ....................... skipped: these tests are for release candidate testing
t/release-synopsis.t .......................... skipped: these tests are for release candidate testing
t/release-unused-vars.t ....................... skipped: these tests are for release candidate testing
All tests successful.
Files=21, Tests=338,  7 wallclock secs ( 0.11 usr  0.04 sys +  6.30 cusr  0.56 csys =  7.01 CPU)
Result: PASS

------------------------------
PREREQUISITES
------------------------------

Prerequisite modules loaded:

requires:

    Module                      Need   Have    
    --------------------------- ------ --------
    Carp                        0      1.21    
    DateTime                    0      0.70    
    DateTime::Format::DateParse 0      0.05    
    Exporter::Easy              0      0.16    
    List::MoreUtils             0      0.32    
    List::Util                  0      1.23    
    Math::Big::Factors          0      1.02    
    Math::BigInt                0      1.995   
    Modern::Perl                0      1.03    
    Moose                       0      2.0202  
    Moose::Role                 0      2.0202  
    MooseX::Types               0      0.28    
    MooseX::Types::Moose        0      0.28    
    namespace::autoclean        0      0.12    
    perl                        5.010  5.015001
    Readonly                    0      1.03    
    String::Palindrome          0      2.000001

build_requires:

    Module                      Need   Have    
    --------------------------- ------ --------
    autodie                     0      2.10    
    constant                    0      1.22    
    English                     0      1.04    
    File::Find                  0      1.20    
    File::Spec                  0      3.33    
    File::Temp                  0      0.22    
    Module::Build               0.3601 0.39_01 
    Test::Exception             0      0.31    
    Test::More                  0      0.98    
    Test::Most                  0      0.24    

configure_requires:

    Module                      Need   Have    
    --------------------------- ------ --------
    Module::Build               0.3601 0.39_01 


------------------------------
ENVIRONMENT AND OTHER CONTEXT
------------------------------

Environment variables:

    LANG = en_US.UTF-8
    LANGUAGE = en_US:en
    PATH = /usr/lib/ccache:/home/sand/bin:/usr/local/bin:/usr/bin:/bin:/usr/bin/X11:/usr/games:/usr/local/perl/bin:/usr/X11/bin:/sbin:/usr/sbin
    PERL5LIB = /home/sand/.cpan/build/ProjectBuilder-0.11.3-AnKqVd/blib/arch:/home/sand/.cpan/build/ProjectBuilder-0.11.3-AnKqVd/blib/lib:/home/sand/.cpan/build/Mail-SpamAssassin-2.43-rCkYR1/blib/arch:/home/sand/.cpan/build/Mail-SpamAssassin-2.43-rCkYR1/blib/lib
    PERL5OPT = 
    PERL5_CPANPLUS_IS_RUNNING = 795
    PERL5_CPAN_IS_RUNNING = 795
    SHELL = /usr/bin/zsh
    TERM = screen

Perl special variables (and OS-specific diagnostics, for MSWin32):

    $^X = /home/sand/src/perl/repoperls/installed-perls/perl/v5.15.1-184-gd1558b3/2b65/bin/perl
    $UID/$EUID = 1001 / 1001
    $GID = 1001 1001
    $EGID = 1001 1001

Perl module toolchain versions installed:

    Module              Have    
    ------------------- --------
    CPAN                1.9600  
    Cwd                 3.37    
    ExtUtils::CBuilder  0.280204
    ExtUtils::Command   1.17    
    ExtUtils::Install   1.57    
    ExtUtils::MakeMaker 6.58    
    ExtUtils::Manifest  1.58    
    ExtUtils::ParseXS   3.00_05 
    File::Spec          3.33    
    Module::Build       0.39_01 
    Module::Signature   0.68    
    Test::Harness       3.23    
    Test::More          0.98    
    YAML                0.73    
    YAML::Syck          n/a     
    version             0.93    


--

Summary of my perl5 (revision 5 version 15 subversion 1) configuration:
  Commit id: d1558b3e5ee8166e43b25682b925bda52475f61d
  Platform:
    osname=linux, osvers=2.6.39-1-amd64, archname=x86_64-linux-ld
    uname='linux k81 2.6.39-1-amd64 #1 smp tue may 24 14:34:19 utc 2011 x86_64 gnulinux '
    config_args='-Dprefix=/home/src/perl/repoperls/installed-perls/perl/v5.15.1-184-gd1558b3/2b65 -Dinstallusrbinperl=n -Uversiononly -Dusedevel -des -Ui_db -Uuseithreads -Duselongdouble -DDEBUGGING=-g'
    hint=recommended, useposix=true, d_sigaction=define
    useithreads=undef, usemultiplicity=undef
    useperlio=define, d_sfio=undef, uselargefiles=define, usesocks=undef
    use64bitint=define, use64bitall=define, uselongdouble=define
    usemymalloc=n, bincompat5005=undef
  Compiler:
    cc='cc', ccflags ='-fno-strict-aliasing -pipe -fstack-protector -I/usr/local/include -D_LARGEFILE_SOURCE -D_FILE_OFFSET_BITS=64',
    optimize='-O2 -g',
    cppflags='-fno-strict-aliasing -pipe -fstack-protector -I/usr/local/include'
    ccversion='', gccversion='4.6.1', gccosandvers=''
    intsize=4, longsize=8, ptrsize=8, doublesize=8, byteorder=12345678
    d_longlong=define, longlongsize=8, d_longdbl=define, longdblsize=16
    ivtype='long', ivsize=8, nvtype='long double', nvsize=16, Off_t='off_t', lseeksize=8
    alignbytes=16, prototype=define
  Linker and Libraries:
    ld='cc', ldflags =' -fstack-protector -L/usr/local/lib'
    libpth=/usr/local/lib /lib/x86_64-linux-gnu /usr/lib/x86_64-linux-gnu /lib /usr/lib /lib64 /usr/lib64
    libs=-lnsl -ldb -ldl -lm -lcrypt -lutil -lc
    perllibs=-lnsl -ldl -lm -lcrypt -lutil -lc
    libc=, so=so, useshrplib=false, libperl=libperl.a
    gnulibc_version='2.13'
  Dynamic Linking:
    dlsrc=dl_dlopen.xs, dlext=so, d_dlsymun=undef, ccdlflags='-Wl,-E'
    cccdlflags='-fPIC', lddlflags='-shared -O2 -g -L/usr/local/lib -fstack-protector'


Characteristics of this binary (from libperl): 
  Compile-time options: HAS_TIMES PERLIO_LAYERS PERL_DONT_CREATE_GVSV
                        PERL_MALLOC_WRAP PERL_PRESERVE_IVUV PERL_USE_DEVEL
                        USE_64_BIT_ALL USE_64_BIT_INT USE_LARGE_FILES
                        USE_LOCALE USE_LOCALE_COLLATE USE_LOCALE_CTYPE
                        USE_LOCALE_NUMERIC USE_LONG_DOUBLE USE_PERLIO
                        USE_PERL_ATOF
  Built under linux
  Compiled at Aug  2 2011 23:29:52
  %ENV:
    PERL5LIB="/home/sand/.cpan/build/ProjectBuilder-0.11.3-AnKqVd/blib/arch:/home/sand/.cpan/build/ProjectBuilder-0.11.3-AnKqVd/blib/lib:/home/sand/.cpan/build/Mail-SpamAssassin-2.43-rCkYR1/blib/arch:/home/sand/.cpan/build/Mail-SpamAssassin-2.43-rCkYR1/blib/lib"
    PERL5OPT=""
    PERL5_CPANPLUS_IS_RUNNING="795"
    PERL5_CPAN_IS_RUNNING="795"
  @INC:
    /home/sand/.cpan/build/ProjectBuilder-0.11.3-AnKqVd/blib/arch
    /home/sand/.cpan/build/ProjectBuilder-0.11.3-AnKqVd/blib/lib
    /home/sand/.cpan/build/Mail-SpamAssassin-2.43-rCkYR1/blib/arch
    /home/sand/.cpan/build/Mail-SpamAssassin-2.43-rCkYR1/blib/lib
    /home/src/perl/repoperls/installed-perls/perl/v5.15.1-184-gd1558b3/2b65/lib/site_perl/5.15.1/x86_64-linux-ld
    /home/src/perl/repoperls/installed-perls/perl/v5.15.1-184-gd1558b3/2b65/lib/site_perl/5.15.1
    /home/src/perl/repoperls/installed-perls/perl/v5.15.1-184-gd1558b3/2b65/lib/5.15.1/x86_64-linux-ld
    /home/src/perl/repoperls/installed-perls/perl/v5.15.1-184-gd1558b3/2b65/lib/5.15.1
    .