Google-AJAX-Library v0.022 Perl 5 v5.37.0 x86_64-linux-multi
- Status
- Pass
- From
- Andreas J. König (ANDK)
- Dist
-
Google-AJAX-Library v0.022
- Platform
- Perl 5 v5.37.0 x86_64-linux-multi
- Date
- 2022-06-25 06:27:26
- ID
- e15c4248-f44f-11ec-bccb-c2f842c9ca3c
This distribution has been tested as part of the CPAN Testers
project, supporting the Perl programming language. See
http://wiki.cpantesters.org/ for more information or email
questions to cpan-testers-discuss@perl.org
--
Dear Robert Krimen,
This is a computer-generated report for Google-AJAX-Library-0.022
on perl 5.37.0, created by CPAN-Reporter-1.2018.
Thank you for uploading your work to CPAN. Congratulations!
All tests were successful.
Sections of this report:
* Tester comments
* Program output
* Prerequisites
* Environment and other context
------------------------------
TESTER COMMENTS
------------------------------
Additional comments from tester:
this report is from an automated smoke testing program
and was not reviewed by a human for accuracy
------------------------------
PROGRAM OUTPUT
------------------------------
Output from '/usr/bin/make test':
PERL_DL_NONLAZY=1 "/tmp/basesmoker-reloperl-73qT/bin/perl" "-MExtUtils::Command::MM" "-MTest::Harness" "-e" "undef *Test::Harness::Switches; test_harness(0, 'blib/lib', 'blib/arch')" t/*.t
You are overwriting a locally defined function (file) with an accessor at /home/sand/src/perl/repoperls/installed-perls/host/k93msid/v5.37.0/4da5/lib/site_perl/5.37.0/x86_64-linux-multi/Moose/Meta/Attribute.pm line 1111.
Moose::Meta::Attribute::_process_accessors(Moose::Meta::Attribute=HASH(0x55632b35f758), "reader", "file", undef) called at /home/sand/src/perl/repoperls/installed-perls/host/k93msid/v5.37.0/4da5/lib/site_perl/5.37.0/x86_64-linux-multi/Class/MOP/Attribute.pm line 450
Class::MOP::Attribute::install_accessors(Moose::Meta::Attribute=HASH(0x55632b35f758)) called at /home/sand/src/perl/repoperls/installed-perls/host/k93msid/v5.37.0/4da5/lib/site_perl/5.37.0/x86_64-linux-multi/Moose/Meta/Attribute.pm line 1014
Moose::Meta::Attribute::install_accessors(Moose::Meta::Attribute=HASH(0x55632b35f758)) called at /home/sand/src/perl/repoperls/installed-perls/host/k93msid/v5.37.0/4da5/lib/site_perl/5.37.0/x86_64-linux-multi/Class/MOP/Class.pm line 899
Class::MOP::Class::try {...} () called at /home/sand/src/perl/repoperls/installed-perls/host/k93msid/v5.37.0/4da5/lib/site_perl/5.37.0/Try/Tiny.pm line 102
eval {...} called at /home/sand/src/perl/repoperls/installed-perls/host/k93msid/v5.37.0/4da5/lib/site_perl/5.37.0/Try/Tiny.pm line 93
Try::Tiny::try(CODE(0x55632c6d99a8), Try::Tiny::Catch=REF(0x55632c6d9f00)) called at /home/sand/src/perl/repoperls/installed-perls/host/k93msid/v5.37.0/4da5/lib/site_perl/5.37.0/x86_64-linux-multi/Class/MOP/Class.pm line 904
Class::MOP::Class::_post_add_attribute(Moose::Meta::Class=HASH(0x55632bfeaff8), Moose::Meta::Attribute=HASH(0x55632b35f758)) called at /home/sand/src/perl/repoperls/installed-perls/host/k93msid/v5.37.0/4da5/lib/site_perl/5.37.0/x86_64-linux-multi/Class/MOP/Mixin/HasAttributes.pm line 39
Class::MOP::Mixin::HasAttributes::add_attribute(Moose::Meta::Class=HASH(0x55632bfeaff8), Moose::Meta::Attribute=HASH(0x55632b35f758)) called at /home/sand/src/perl/repoperls/installed-perls/host/k93msid/v5.37.0/4da5/lib/site_perl/5.37.0/x86_64-linux-multi/Moose/Meta/Class.pm line 585
Moose::Meta::Class::add_attribute(Moose::Meta::Class=HASH(0x55632bfeaff8), "file", "definition_context", HASH(0x55632beb0d68), "is", "ro") called at /home/sand/src/perl/repoperls/installed-perls/host/k93msid/v5.37.0/4da5/lib/site_perl/5.37.0/x86_64-linux-multi/Moose.pm line 74
Moose::has(Moose::Meta::Class=HASH(0x55632bfeaff8), "file", "is", "ro") called at /home/sand/src/perl/repoperls/installed-perls/host/k93msid/v5.37.0/4da5/lib/site_perl/5.37.0/x86_64-linux-multi/Moose/Exporter.pm line 418
Moose::has("file", "is", "ro") called at /home/sand/.cpan/privbuild/k93msid/Google-AJAX-Library-0.022-7/blib/lib/Google/AJAX/Library.pm line 32
require Google/AJAX/Library.pm called at t/01-basic.t line 5
main::BEGIN() called at t/01-basic.t line 5
eval {...} called at t/01-basic.t line 5
t/01-basic.t .... ok
You are overwriting a locally defined function (file) with an accessor at /home/sand/src/perl/repoperls/installed-perls/host/k93msid/v5.37.0/4da5/lib/site_perl/5.37.0/x86_64-linux-multi/Moose/Meta/Attribute.pm line 1111.
Moose::Meta::Attribute::_process_accessors(Moose::Meta::Attribute=HASH(0x562b8ca1db38), "reader", "file", undef) called at /home/sand/src/perl/repoperls/installed-perls/host/k93msid/v5.37.0/4da5/lib/site_perl/5.37.0/x86_64-linux-multi/Class/MOP/Attribute.pm line 450
Class::MOP::Attribute::install_accessors(Moose::Meta::Attribute=HASH(0x562b8ca1db38)) called at /home/sand/src/perl/repoperls/installed-perls/host/k93msid/v5.37.0/4da5/lib/site_perl/5.37.0/x86_64-linux-multi/Moose/Meta/Attribute.pm line 1014
Moose::Meta::Attribute::install_accessors(Moose::Meta::Attribute=HASH(0x562b8ca1db38)) called at /home/sand/src/perl/repoperls/installed-perls/host/k93msid/v5.37.0/4da5/lib/site_perl/5.37.0/x86_64-linux-multi/Class/MOP/Class.pm line 899
Class::MOP::Class::try {...} () called at /home/sand/src/perl/repoperls/installed-perls/host/k93msid/v5.37.0/4da5/lib/site_perl/5.37.0/Try/Tiny.pm line 102
eval {...} called at /home/sand/src/perl/repoperls/installed-perls/host/k93msid/v5.37.0/4da5/lib/site_perl/5.37.0/Try/Tiny.pm line 93
Try::Tiny::try(CODE(0x562b8dd979c8), Try::Tiny::Catch=REF(0x562b8dd97f20)) called at /home/sand/src/perl/repoperls/installed-perls/host/k93msid/v5.37.0/4da5/lib/site_perl/5.37.0/x86_64-linux-multi/Class/MOP/Class.pm line 904
Class::MOP::Class::_post_add_attribute(Moose::Meta::Class=HASH(0x562b8d6a8628), Moose::Meta::Attribute=HASH(0x562b8ca1db38)) called at /home/sand/src/perl/repoperls/installed-perls/host/k93msid/v5.37.0/4da5/lib/site_perl/5.37.0/x86_64-linux-multi/Class/MOP/Mixin/HasAttributes.pm line 39
Class::MOP::Mixin::HasAttributes::add_attribute(Moose::Meta::Class=HASH(0x562b8d6a8628), Moose::Meta::Attribute=HASH(0x562b8ca1db38)) called at /home/sand/src/perl/repoperls/installed-perls/host/k93msid/v5.37.0/4da5/lib/site_perl/5.37.0/x86_64-linux-multi/Moose/Meta/Class.pm line 585
Moose::Meta::Class::add_attribute(Moose::Meta::Class=HASH(0x562b8d6a8628), "file", "definition_context", HASH(0x562b8ca1db08), "is", "ro") called at /home/sand/src/perl/repoperls/installed-perls/host/k93msid/v5.37.0/4da5/lib/site_perl/5.37.0/x86_64-linux-multi/Moose.pm line 74
Moose::has(Moose::Meta::Class=HASH(0x562b8d6a8628), "file", "is", "ro") called at /home/sand/src/perl/repoperls/installed-perls/host/k93msid/v5.37.0/4da5/lib/site_perl/5.37.0/x86_64-linux-multi/Moose/Exporter.pm line 418
Moose::has("file", "is", "ro") called at /home/sand/.cpan/privbuild/k93msid/Google-AJAX-Library-0.022-7/blib/lib/Google/AJAX/Library.pm line 32
require Google/AJAX/Library.pm called at t/02-library.t line 5
main::BEGIN() called at t/02-library.t line 5
eval {...} called at t/02-library.t line 5
t/02-library.t .. ok
You are overwriting a locally defined function (file) with an accessor at /home/sand/src/perl/repoperls/installed-perls/host/k93msid/v5.37.0/4da5/lib/site_perl/5.37.0/x86_64-linux-multi/Moose/Meta/Attribute.pm line 1111.
Moose::Meta::Attribute::_process_accessors(Moose::Meta::Attribute=HASH(0x558f0d9fe338), "reader", "file", undef) called at /home/sand/src/perl/repoperls/installed-perls/host/k93msid/v5.37.0/4da5/lib/site_perl/5.37.0/x86_64-linux-multi/Class/MOP/Attribute.pm line 450
Class::MOP::Attribute::install_accessors(Moose::Meta::Attribute=HASH(0x558f0d9fe338)) called at /home/sand/src/perl/repoperls/installed-perls/host/k93msid/v5.37.0/4da5/lib/site_perl/5.37.0/x86_64-linux-multi/Moose/Meta/Attribute.pm line 1014
Moose::Meta::Attribute::install_accessors(Moose::Meta::Attribute=HASH(0x558f0d9fe338)) called at /home/sand/src/perl/repoperls/installed-perls/host/k93msid/v5.37.0/4da5/lib/site_perl/5.37.0/x86_64-linux-multi/Class/MOP/Class.pm line 899
Class::MOP::Class::try {...} () called at /home/sand/src/perl/repoperls/installed-perls/host/k93msid/v5.37.0/4da5/lib/site_perl/5.37.0/Try/Tiny.pm line 102
eval {...} called at /home/sand/src/perl/repoperls/installed-perls/host/k93msid/v5.37.0/4da5/lib/site_perl/5.37.0/Try/Tiny.pm line 93
Try::Tiny::try(CODE(0x558f0ed78678), Try::Tiny::Catch=REF(0x558f0ed78bd0)) called at /home/sand/src/perl/repoperls/installed-perls/host/k93msid/v5.37.0/4da5/lib/site_perl/5.37.0/x86_64-linux-multi/Class/MOP/Class.pm line 904
Class::MOP::Class::_post_add_attribute(Moose::Meta::Class=HASH(0x558f0e6580a8), Moose::Meta::Attribute=HASH(0x558f0d9fe338)) called at /home/sand/src/perl/repoperls/installed-perls/host/k93msid/v5.37.0/4da5/lib/site_perl/5.37.0/x86_64-linux-multi/Class/MOP/Mixin/HasAttributes.pm line 39
Class::MOP::Mixin::HasAttributes::add_attribute(Moose::Meta::Class=HASH(0x558f0e6580a8), Moose::Meta::Attribute=HASH(0x558f0d9fe338)) called at /home/sand/src/perl/repoperls/installed-perls/host/k93msid/v5.37.0/4da5/lib/site_perl/5.37.0/x86_64-linux-multi/Moose/Meta/Class.pm line 585
Moose::Meta::Class::add_attribute(Moose::Meta::Class=HASH(0x558f0e6580a8), "file", "definition_context", HASH(0x558f0d9fe5a8), "is", "ro") called at /home/sand/src/perl/repoperls/installed-perls/host/k93msid/v5.37.0/4da5/lib/site_perl/5.37.0/x86_64-linux-multi/Moose.pm line 74
Moose::has(Moose::Meta::Class=HASH(0x558f0e6580a8), "file", "is", "ro") called at /home/sand/src/perl/repoperls/installed-perls/host/k93msid/v5.37.0/4da5/lib/site_perl/5.37.0/x86_64-linux-multi/Moose/Exporter.pm line 418
Moose::has("file", "is", "ro") called at /home/sand/.cpan/privbuild/k93msid/Google-AJAX-Library-0.022-7/blib/lib/Google/AJAX/Library.pm line 32
require Google/AJAX/Library.pm called at t/03-fetch.t line 5
main::BEGIN() called at t/03-fetch.t line 5
eval {...} called at t/03-fetch.t line 5
t/03-fetch.t .... skipped: Not going out to http://ajax.googleapis.com to test fetching/writing
All tests successful.
Files=3, Tests=61, 2 wallclock secs ( 0.04 usr 0.02 sys + 1.53 cusr 0.49 csys = 2.08 CPU)
Result: PASS
------------------------------
PREREQUISITES
------------------------------
Prerequisite modules loaded:
requires:
Module Need Have
------------------- ---- -------
Carp::Clan::Share 0 0.013
HTML::Declare 0 2.6
LWP::UserAgent 0 6.67
Moose 0 2.2201
Path::Class 0 0.37
URI 0 5.10
build_requires:
Module Need Have
------------------- ---- -------
File::Temp 0 0.2311
Test::Most 0 0.37
configure_requires:
Module Need Have
------------------- ---- -------
ExtUtils::MakeMaker 6.31 7.65_01
------------------------------
ENVIRONMENT AND OTHER CONTEXT
------------------------------
Environment variables:
AUTOMATED_TESTING = 1
LANG = en_US.UTF-8
LANGUAGE = en_US:en
PATH = /home/sand/bin:/usr/local/bin:/usr/bin:/bin:/usr/games:/usr/local/perl/bin:/usr/X11/bin:/sbin:/usr/sbin
PERL5LIB = /home/sand/.cpan/privbuild/k93msid/Devel-Required-0.16-12/blib/arch:/home/sand/.cpan/privbuild/k93msid/Devel-Required-0.16-12/blib/lib:/home/sand/.cpan/privbuild/k93msid/ProjectBuilder-0.14.1-12/blib/arch:/home/sand/.cpan/privbuild/k93msid/ProjectBuilder-0.14.1-12/blib/lib
PERL5OPT =
PERL5_CPANPLUS_IS_RUNNING = 3189287
PERL5_CPAN_IS_RUNNING = 3189287
PERL_CANARY_STABILITY_NOPROMPT = 1
PERL_MM_USE_DEFAULT = 1
PERL_USE_UNSAFE_INC = 1
SHELL = /usr/bin/zsh
TERM = screen
Perl special variables (and OS-specific diagnostics, for MSWin32):
$^X = /tmp/basesmoker-reloperl-73qT/bin/perl
$UID/$EUID = 1005 / 1005
$GID = 1005 1005
$EGID = 1005 1005
Perl module toolchain versions installed:
Module Have
------------------- --------
CPAN 2.34
CPAN::Meta 2.150010
Cwd 3.84
ExtUtils::CBuilder 0.280236
ExtUtils::Command 7.65_01
ExtUtils::Install 2.20
ExtUtils::MakeMaker 7.65_01
ExtUtils::Manifest 1.73
ExtUtils::ParseXS 3.45
File::Spec 3.84
JSON 4.06
JSON::PP 4.09
Module::Build 0.4231
Module::Signature 0.88
Parse::CPAN::Meta 2.150010
Test::Harness 3.44
Test::More 1.302190
YAML 1.30
YAML::Syck 1.34
version 0.9929
--
Summary of my perl5 (revision 5 version 37 subversion 0) configuration:
Commit id: 2c8fc00e10c85d241338e71377aff04f4f7a7b6f
Platform:
osname=linux
osvers=5.10.0-14-amd64
archname=x86_64-linux-multi
uname='linux k93msid 5.10.0-14-amd64 #1 smp debian 5.10.113-1 (2022-04-29) x86_64 gnulinux '
config_args='-Dprefix=/home/sand/src/perl/repoperls/installed-perls/host/k93msid/v5.37.0/4da5 -Dmyhostname=k93msid -Dinstallusrbinperl=n -Uversiononly -Dusedevel -des -Ui_db -Dlibswanted=cl pthread socket inet nsl gdbm dbm malloc dl ld sun m crypt sec util c cposix posix ucb BSD gdbm_compat -Uuseithreads -Uuselongdouble -DEBUGGING=both -Dusemultiplicity'
hint=recommended
useposix=true
d_sigaction=define
useithreads=undef
usemultiplicity=define
use64bitint=define
use64bitall=define
uselongdouble=undef
usemymalloc=n
default_inc_excludes_dot=define
Compiler:
cc='cc'
ccflags ='-fwrapv -DDEBUGGING -fno-strict-aliasing -pipe -fstack-protector-strong -I/usr/local/include -D_LARGEFILE_SOURCE -D_FILE_OFFSET_BITS=64 -D_FORTIFY_SOURCE=2'
optimize='-O2 -g'
cppflags='-fwrapv -DDEBUGGING -fno-strict-aliasing -pipe -fstack-protector-strong -I/usr/local/include'
ccversion=''
gccversion='11.3.0'
gccosandvers=''
intsize=4
longsize=8
ptrsize=8
doublesize=8
byteorder=12345678
doublekind=3
d_longlong=define
longlongsize=8
d_longdbl=define
longdblsize=16
longdblkind=3
ivtype='long'
ivsize=8
nvtype='double'
nvsize=8
Off_t='off_t'
lseeksize=8
alignbytes=8
prototype=define
Linker and Libraries:
ld='cc'
ldflags =' -fstack-protector-strong -L/usr/local/lib'
libpth=/usr/local/lib /usr/lib/x86_64-linux-gnu /usr/lib /usr/lib64
libs=-lpthread -lnsl -ldl -lm -lcrypt -lutil -lc
perllibs=-lpthread -lnsl -ldl -lm -lcrypt -lutil -lc
libc=libc-2.33.so
so=so
useshrplib=false
libperl=libperl.a
gnulibc_version='2.33'
Dynamic Linking:
dlsrc=dl_dlopen.xs
dlext=so
d_dlsymun=undef
ccdlflags='-Wl,-E'
cccdlflags='-fPIC'
lddlflags='-shared -O2 -g -L/usr/local/lib -fstack-protector-strong'
Characteristics of this binary (from libperl):
Compile-time options:
DEBUGGING
HAS_TIMES
MULTIPLICITY
PERLIO_LAYERS
PERL_COPY_ON_WRITE
PERL_DONT_CREATE_GVSV
PERL_MALLOC_WRAP
PERL_OP_PARENT
PERL_PRESERVE_IVUV
PERL_TRACK_MEMPOOL
PERL_USE_DEVEL
USE_64_BIT_ALL
USE_64_BIT_INT
USE_LARGE_FILES
USE_LOCALE
USE_LOCALE_COLLATE
USE_LOCALE_CTYPE
USE_LOCALE_NUMERIC
USE_LOCALE_TIME
USE_PERLIO
USE_PERL_ATOF
Built under linux
Compiled at May 29 2022 20:32:51
%ENV:
PERL5LIB="/home/sand/.cpan/privbuild/k93msid/Devel-Required-0.16-12/blib/arch:/home/sand/.cpan/privbuild/k93msid/Devel-Required-0.16-12/blib/lib:/home/sand/.cpan/privbuild/k93msid/ProjectBuilder-0.14.1-12/blib/arch:/home/sand/.cpan/privbuild/k93msid/ProjectBuilder-0.14.1-12/blib/lib"
PERL5OPT=""
PERL5_CPANPLUS_IS_RUNNING="3189287"
PERL5_CPAN_IS_RUNNING="3189287"
PERL_CANARY_STABILITY_NOPROMPT="1"
PERL_MM_USE_DEFAULT="1"
PERL_USE_UNSAFE_INC="1"
@INC:
/home/sand/.cpan/privbuild/k93msid/Devel-Required-0.16-12/blib/arch
/home/sand/.cpan/privbuild/k93msid/Devel-Required-0.16-12/blib/lib
/home/sand/.cpan/privbuild/k93msid/ProjectBuilder-0.14.1-12/blib/arch
/home/sand/.cpan/privbuild/k93msid/ProjectBuilder-0.14.1-12/blib/lib
/home/sand/src/perl/repoperls/installed-perls/host/k93msid/v5.37.0/4da5/lib/site_perl/5.37.0/x86_64-linux-multi
/home/sand/src/perl/repoperls/installed-perls/host/k93msid/v5.37.0/4da5/lib/site_perl/5.37.0
/home/sand/src/perl/repoperls/installed-perls/host/k93msid/v5.37.0/4da5/lib/5.37.0/x86_64-linux-multi
/home/sand/src/perl/repoperls/installed-perls/host/k93msid/v5.37.0/4da5/lib/5.37.0
.