Report for Catalyst-Authentication-Store-Tangram-0.010

Back
From: metabase:user:8286d1fc-3d52-11e2-9ec4-cb9cdd236785
Subject: PASS Catalyst-Authentication-Store-Tangram-0.010 v5.19.4 GNU/Linux
Date: 2013-09-09T14:41:15Z

This distribution has been tested as part of the CPAN Testers
project, supporting the Perl programming language.  See
http://wiki.cpantesters.org/ for more information or email
questions to cpan-testers-discuss@perl.org


--
Dear Tomas Doran,

This is a computer-generated report for Catalyst-Authentication-Store-Tangram-0.010
on perl 5.19.4, created by CPAN-Reporter-1.2010.

Thank you for uploading your work to CPAN.  Congratulations!
All tests were successful.

Sections of this report:

    * Tester comments
    * Program output
    * Prerequisites
    * Environment and other context

------------------------------
TESTER COMMENTS
------------------------------

Additional comments from tester:

this report is from an automated smoke testing program
and was not reviewed by a human for accuracy

------------------------------
PROGRAM OUTPUT
------------------------------

Output from '/usr/local/bin/make test':

PERL_DL_NONLAZY=1 /opt/perl443-26-5.19.4/bin/perl "-MExtUtils::Command::MM" "-e" "test_harness(0, 'inc', 'blib/lib', 'blib/arch')" t/*.t
t/00-load.t ....... ok
t/kwalitee.t ...... ok
overload arg 'acos' is invalid at /opt/perl443-26-5.19.4/lib/site_perl/5.19.4/Tangram/Expr/Filter.pm line 130.
overload arg 'acos' is invalid at /opt/perl443-26-5.19.4/lib/site_perl/5.19.4/Tangram/Expr.pm line 303.
t/live-test.t ..... ok
t/pod-coverage.t .. ok
t/pod.t ........... ok
t/pod_spelling.t .. skipped: set TEST_SPELLING to enable this test
t/strict.t ........ ok
t/warnings.t ...... ok
All tests successful.
Files=8, Tests=48, 36 wallclock secs ( 0.20 usr  0.04 sys + 12.46 cusr  1.08 csys = 13.78 CPU)
Result: PASS

------------------------------
PREREQUISITES
------------------------------

Prerequisite modules loaded:

requires:

    Module                           Need    Have   
    -------------------------------- ------- -------
    Catalyst::Plugin::Authentication 0.10003 0.10023
    Catalyst::Runtime                5.70    5.90042
    Class::Accessor::Fast            0       0.34   
    DBD::SQLite                      0       1.40   
    DBI                              0       1.628  
    ExtUtils::MakeMaker              6.76    6.76   
    File::Temp                       0       0.2301 
    MRO::Compat                      0       0.12   
    Tangram                          2.09    2.10   
    Test::More                       0       0.98   
    Test::WWW::Mechanize::Catalyst   0       0.58   

build_requires:

    Module                           Need    Have   
    -------------------------------- ------- -------
    ExtUtils::MakeMaker              0       6.76   


------------------------------
ENVIRONMENT AND OTHER CONTEXT
------------------------------

Environment variables:

    AUTHOR_TESTING = 1
    AUTOMATED_TESTING = 1
    LANG = en_US.UTF-8
    LD_LIBRARY_PATH = /usr/local/lib
    PATH = /usr/lib/qt-3.3/bin:/usr/kerberos/sbin:/usr/kerberos/bin:/usr/lib/ccache:/usr/local/sbin:/usr/local/bin:/sbin:/bin:/usr/sbin:/usr/bin:/usr/X11R6/bin:/usr/lib/alliance/bin:/opt/real/RealPlayer:/root/bin:/usr/lib/alliance/bin:/opt/real/RealPlayer
    PERL5LIB = 
    PERL5OPT = 
    PERL5_CPANPLUS_IS_RUNNING = 1289
    PERL5_CPAN_IS_RUNNING = 1289
    SHELL = /bin/bash
    TERM = xterm

Perl special variables (and OS-specific diagnostics, for MSWin32):

    $^X = /opt/perl443-26-5.19.4/bin/perl
    $UID/$EUID = 0 / 0
    $GID = 0 0 1 2 3 4 6 10
    $EGID = 0 0 1 2 3 4 6 10

Perl module toolchain versions installed:

    Module              Have    
    ------------------- --------
    CPAN                2.00    
    CPAN::Meta          2.132510
    Cwd                 3.44    
    ExtUtils::CBuilder  0.280212
    ExtUtils::Command   1.17    
    ExtUtils::Install   1.60    
    ExtUtils::MakeMaker 6.76    
    ExtUtils::Manifest  1.63    
    ExtUtils::ParseXS   3.22    
    File::Spec          3.44    
    JSON                2.59    
    JSON::PP            2.27202 
    Module::Build       0.4007  
    Module::Signature   0.73    
    Parse::CPAN::Meta   1.4407  
    Test::Harness       3.28    
    Test::More          0.98    
    YAML                0.84    
    YAML::Syck          1.27    
    version             0.9904  


--

Summary of my perl5 (revision 5 version 19 subversion 4) configuration:
  Snapshot of: e9483e47cc84a47f79657e90aaa2937554f94e00
  Platform:
    osname=linux, osvers=2.6.26-gogol.1, archname=i686-linux-thread-multi-64int-ld
    uname='linux localhost.localdomain 2.6.26-gogol.1 #1 smp fri dec 25 22:04:40 msk 2009 i686 i686 i386 gnulinux '
    config_args='-Dcc=/opt/443/bin/gcc/bin/gcc -Doptimize=-g -DDMALLOC=/usr/local/bin/dmalloc -Dprefix=/opt/perl443-26-5.19.4 -DDEBUGGING'
    hint=recommended, useposix=true, d_sigaction=define
    useithreads=define, usemultiplicity=define
    useperlio=define, d_sfio=undef, uselargefiles=define, usesocks=undef
    use64bitint=define, use64bitall=undef, uselongdouble=define
    usemymalloc=n, bincompat5005=undef
  Compiler:
    cc='/opt/443/bin/gcc/bin/gcc', ccflags ='-DDMALLOC -D_LARGEFILE_SOURCE -D_FILE_OFFSET_BITS=64',
    optimize='-g',
    cppflags='-DDMALLOC'
    ccversion='', gccversion='4.4.3', gccosandvers=''
    intsize=4, longsize=4, ptrsize=4, doublesize=8, byteorder=12345678
    d_longlong=define, longlongsize=8, d_longdbl=define, longdblsize=12
    ivtype='long long', ivsize=8, nvtype='long double', nvsize=12, Off_t='off_t', lseeksize=8
    alignbytes=4, prototype=define
  Linker and Libraries:
    ld='/opt/443/bin/gcc/bin/gcc', ldflags =' -L/usr/local/lib'
    libpth=/usr/local/lib /lib /usr/lib
    libs=-lnsl -lgdbm -ldb -ldl -lm -lcrypt -lutil -lpthread -lc
    perllibs=-lnsl -ldl -lm -lcrypt -lutil -lpthread -lc
    libc=/lib/libc-2.5.so, so=so, useshrplib=true, libperl=libperl.so
    gnulibc_version='2.5'
  Dynamic Linking:
    dlsrc=dl_dlopen.xs, dlext=so, d_dlsymun=undef, ccdlflags='-Wl,-E -Wl,-rpath,/opt/perl443-26-5.19.4/lib/5.19.4/i686-linux-thread-multi-64int-ld/CORE'
    cccdlflags='-fPIC', lddlflags='-shared -g -L/usr/local/lib'


Characteristics of this binary (from libperl): 
  Compile-time options: HAS_TIMES MULTIPLICITY PERLIO_LAYERS
                        PERL_DONT_CREATE_GVSV
                        PERL_HASH_FUNC_ONE_AT_A_TIME_HARD
                        PERL_IMPLICIT_CONTEXT PERL_MAD PERL_MALLOC_WRAP
                        PERL_NEW_COPY_ON_WRITE PERL_PRESERVE_IVUV
                        USE_64_BIT_INT USE_FAST_STDIO USE_ITHREADS
                        USE_LARGE_FILES USE_LOCALE USE_LOCALE_COLLATE
                        USE_LOCALE_CTYPE USE_LOCALE_NUMERIC USE_LONG_DOUBLE
                        USE_PERLIO USE_PERL_ATOF USE_REENTRANT_API
  Built under linux
  Compiled at Sep  6 2013 23:21:07
  %ENV:
    PERL5LIB=""
    PERL5OPT=""
    PERL5_CPANPLUS_IS_RUNNING="1289"
    PERL5_CPAN_IS_RUNNING="1289"
  @INC:
    /opt/perl443-26-5.19.4/lib/site_perl/5.19.4/i686-linux-thread-multi-64int-ld
    /opt/perl443-26-5.19.4/lib/site_perl/5.19.4
    /opt/perl443-26-5.19.4/lib/5.19.4/i686-linux-thread-multi-64int-ld
    /opt/perl443-26-5.19.4/lib/5.19.4
    .