Report for DBIx-Connector-0.53

Back
From: metabase:user:838e5b0a-2bb6-1016-a696-43a2537fa0c6
Subject: PASS DBIx-Connector-0.53 v5.16.3 
Date: 2013-10-15T14:56:52Z

This distribution has been tested as part of the CPAN Testers
project, supporting the Perl programming language.  See
http://wiki.cpantesters.org/ for more information or email
questions to cpan-testers-discuss@perl.org


--
Dear David E. Wheeler,

This is a computer-generated report for DBIx-Connector-0.53
on perl 5.16.3, created by CPAN-Reporter-1.2010.

Thank you for uploading your work to CPAN.  Congratulations!
All tests were successful.

Sections of this report:

    * Tester comments
    * Program output
    * Prerequisites
    * Environment and other context

------------------------------
TESTER COMMENTS
------------------------------

Additional comments from tester:

this report is from an automated smoke testing program
and was not reviewed by a human for accuracy

------------------------------
PROGRAM OUTPUT
------------------------------

Output from 'G:\perl\portable_smokers\strawberry-perl-5.16.3.1-32bit-portable\perl\bin\perl.exe ./Build test':

t\base.t .......... ok
t\driver.t ........ ok
t\load.t .......... ok
t\pod-coverage.t .. skipped: Test::Pod::Coverage 1.06 required
t\pod.t ........... skipped: Test::Pod 1.41 required for testing POD
t\run.t ........... ok
t\run_fixup.t ..... ok
t\run_ping.t ...... ok
t\svp.t ........... ok
t\svp_fixup.t ..... ok
t\svp_live.t ...... skipped: Set DBICTEST_DSN _USER and _PASS to run savepoint tests
t\svp_ping.t ...... ok
t\txn.t ........... ok
t\txn_fixup.t ..... ok
t\txn_ping.t ...... ok
All tests successful.
Files=15, Tests=756,  7 wallclock secs ( 0.30 usr +  0.17 sys =  0.47 CPU)
Result: PASS

------------------------------
PREREQUISITES
------------------------------

Prerequisite modules loaded:

requires:

    Module           Need     Have    
    ---------------- -------- --------
    DBI              1.605    1.623   
    perl             5.006002 5.016003

build_requires:

    Module           Need     Have    
    ---------------- -------- --------
    Module::Build    0.30     0.4003  
    Test::MockModule 0.05     0.05    
    Test::More       0.88     0.98    

configure_requires:

    Module           Need     Have    
    ---------------- -------- --------
    Module::Build    0.30     0.4003  


------------------------------
ENVIRONMENT AND OTHER CONTEXT
------------------------------

Environment variables:

    AUTOMATED_TESTING = 1
    COMSPEC = C:\Windows\system32\cmd.exe
    NUMBER_OF_PROCESSORS = 8
    PATH = G:\perl\portable_smokers\strawberry-perl-5.16.3.1-32bit-portable\perl\site\bin;G:\perl\portable_smokers\strawberry-perl-5.16.3.1-32bit-portable\perl\bin;G:\perl\portable_smokers\strawberry-perl-5.16.3.1-32bit-portable\c\bin;C:\Program Files\MiKTeX\2.9\miktex\bin;C:\Windows\system32;C:\Windows;C:\Windows\System32\Wbem;C:\Windows\System32\WindowsPowerShell\v1.0\;C:\rv\BIN;c:\Program Files\Microsoft SQL Server\100\Tools\Binn\;c:\Program Files\Microsoft SQL Server\100\DTS\Binn\;C:\Program Files\Microsoft SQL Server\100\Tools\Binn\VSShell\Common7\IDE\;C:\Program Files\Microsoft Visual Studio 9.0\Common7\IDE\PrivateAssemblies\;C:\Program Files\Microsoft SQL Server\80\Tools\Binn\;C:\Program Files\Microsoft SQL Server\90\Tools\binn\;C:\Program Files\Microsoft SQL Server\90\DTS\Binn\;C:\Program Files\Microsoft SQL Server\90\Tools\Binn\VSShell\Common7\IDE\;C:\Program Files\Microsoft Visual Studio 8\Common7\IDE\PrivateAssemblies\;C:\Program Files\TortoiseSVN\bin;C:\Program Files\MIT\Kerberos\bin;F:\strawberry\c\bin;F:\strawberry\perl\site\bin;F:\strawberry\perl\bin;C:\Program Files\Common Files\Citrix\System32\;C:\Program Files\Citrix\ICAService\;C:\Program Files\Citrix\System32\;C:\Users\DSolimano\AppData\Local\Fidessa\systemfiles
    PERL5LIB = G:\perl\portable_smokers\strawberry-perl-5.16.3.1-32bit-portable\cpan\build\Test-MockModule-0.05-B2y4pY/blib/arch;G:\perl\portable_smokers\strawberry-perl-5.16.3.1-32bit-portable\cpan\build\Test-MockModule-0.05-B2y4pY/blib/lib;G:\perl\portable_smokers\strawberry-perl-5.16.3.1-32bit-portable\cpan\build\SQL-SplitStatement-1.00020-FXRSS_/blib/arch;G:\perl\portable_smokers\strawberry-perl-5.16.3.1-32bit-portable\cpan\build\SQL-SplitStatement-1.00020-FXRSS_/blib/lib;G:\perl\portable_smokers\strawberry-perl-5.16.3.1-32bit-portable\cpan\build\Regexp-Common-2013031301-kAVRvr/blib/arch;G:\perl\portable_smokers\strawberry-perl-5.16.3.1-32bit-portable\cpan\build\Regexp-Common-2013031301-kAVRvr/blib/lib;G:\perl\portable_smokers\strawberry-perl-5.16.3.1-32bit-portable\cpan\build\SQL-Tokenizer-0.24-WPLd7Q/blib/arch;G:\perl\portable_smokers\strawberry-perl-5.16.3.1-32bit-portable\cpan\build\SQL-Tokenizer-0.24-WPLd7Q/blib/lib
    PERL5OPT = 
    PERL5_CPANPLUS_IS_RUNNING = 6652
    PERL5_CPAN_IS_RUNNING = 6652
    PERL5_CPAN_IS_RUNNING_IN_RECURSION = 10608,6652
    PERL_CR_SMOKER_CURRENT = DBIx-Brev-0.02
    PERL_EXTUTILS_AUTOINSTALL = --defaultdeps
    PERL_MM_USE_DEFAULT = 1
    PROCESSOR_IDENTIFIER = x86 Family 6 Model 23 Stepping 6, GenuineIntel
    TEMP = C:\Users\DSOLIM~1\AppData\Local\Temp
    TERM = dumb

Perl special variables (and OS-specific diagnostics, for MSWin32):

    $^X = G:\perl\portable_smokers\strawberry-perl-5.16.3.1-32bit-portable\perl\bin\perl.exe
    $UID/$EUID = 0 / 0
    $GID = 0
    $EGID = 0
    Win32::GetOSName = Win7
    Win32::GetOSVersion = Service Pack 1, 6, 1, 7601, 2, 1, 0, 256, 1
    Win32::FsType = NTFS
    Win32::IsAdminUser = 1

Perl module toolchain versions installed:

    Module              Have    
    ------------------- --------
    CPAN                2.00    
    CPAN::Meta          2.132661
    Cwd                 3.40    
    ExtUtils::CBuilder  0.280206
    ExtUtils::Command   1.17    
    ExtUtils::Install   1.58    
    ExtUtils::MakeMaker 6.64    
    ExtUtils::Manifest  1.61    
    ExtUtils::ParseXS   3.18    
    File::Spec          3.40    
    JSON                2.53    
    JSON::PP            2.27200 
    Module::Build       0.4003  
    Module::Signature   0.70    
    Parse::CPAN::Meta   1.4404  
    Test::Harness       3.26    
    Test::More          0.98    
    YAML                0.84    
    YAML::Syck          1.27    
    version             0.9902  


--

Summary of my perl5 (revision 5 version 16 subversion 3) configuration:
   
  Platform:
    osname=MSWin32, osvers=4.0, archname=MSWin32-x86-multi-thread
    uname='Win32 strawberry-perl 5.16.3.1 #1 Tue Mar 12 13:55:20 2013 i386'
    config_args='undef'
    hint=recommended, useposix=true, d_sigaction=undef
    useithreads=define, usemultiplicity=define
    useperlio=define, d_sfio=undef, uselargefiles=define, usesocks=undef
    use64bitint=undef, use64bitall=undef, uselongdouble=undef
    usemymalloc=n, bincompat5005=undef
  Compiler:
    cc='gcc', ccflags =' -s -O2 -DWIN32  -DPERL_TEXTMODE_SCRIPTS -DPERL_IMPLICIT_CONTEXT -DPERL_IMPLICIT_SYS -fno-strict-aliasing -mms-bitfields',
    optimize='-s -O2',
    cppflags='-DWIN32'
    ccversion='', gccversion='4.6.3', gccosandvers=''
    intsize=4, longsize=4, ptrsize=4, doublesize=8, byteorder=1234
    d_longlong=undef, longlongsize=8, d_longdbl=define, longdblsize=12
    ivtype='long', ivsize=4, nvtype='double', nvsize=8, Off_t='long long', lseeksize=8
    alignbytes=8, prototype=define
  Linker and Libraries:
    ld='g++.exe', ldflags ='-s -L"G:\perl\portable_smokers\strawberry-perl-5.16.3.1-32bit-portable\perl\lib\CORE" -L"G:\perl\portable_smokers\strawberry-perl-5.16.3.1-32bit-portable\c\lib"'
    libpth=G:\perl\portable_smokers\strawberry-perl-5.16.3.1-32bit-portable\c\lib G:\perl\portable_smokers\strawberry-perl-5.16.3.1-32bit-portable\c\i686-w64-mingw32\lib
    libs=-lmoldname -lkernel32 -luser32 -lgdi32 -lwinspool -lcomdlg32 -ladvapi32 -lshell32 -lole32 -loleaut32 -lnetapi32 -luuid -lws2_32 -lmpr -lwinmm -lversion -lodbc32 -lodbccp32 -lcomctl32
    perllibs=-lmoldname -lkernel32 -luser32 -lgdi32 -lwinspool -lcomdlg32 -ladvapi32 -lshell32 -lole32 -loleaut32 -lnetapi32 -luuid -lws2_32 -lmpr -lwinmm -lversion -lodbc32 -lodbccp32 -lcomctl32
    libc=, so=dll, useshrplib=true, libperl=libperl516.a
    gnulibc_version=''
  Dynamic Linking:
    dlsrc=dl_win32.xs, dlext=dll, d_dlsymun=undef, ccdlflags=' '
    cccdlflags=' ', lddlflags='-mdll -s -L"G:\perl\portable_smokers\strawberry-perl-5.16.3.1-32bit-portable\perl\lib\CORE" -L"G:\perl\portable_smokers\strawberry-perl-5.16.3.1-32bit-portable\c\lib"'


Characteristics of this binary (from libperl): 
  Compile-time options: HAS_TIMES HAVE_INTERP_INTERN MULTIPLICITY
                        PERLIO_LAYERS PERL_DONT_CREATE_GVSV
                        PERL_IMPLICIT_CONTEXT PERL_IMPLICIT_SYS
                        PERL_MALLOC_WRAP PERL_PRESERVE_IVUV PL_OP_SLAB_ALLOC
                        USE_ITHREADS USE_LARGE_FILES USE_LOCALE
                        USE_LOCALE_COLLATE USE_LOCALE_CTYPE
                        USE_LOCALE_NUMERIC USE_PERLIO USE_PERL_ATOF
  Built under MSWin32
  Compiled at Mar 12 2013 14:01:07
  %ENV:
    PERL5LIB="G:\perl\portable_smokers\strawberry-perl-5.16.3.1-32bit-portable\cpan\build\Test-MockModule-0.05-B2y4pY/blib/arch;G:\perl\portable_smokers\strawberry-perl-5.16.3.1-32bit-portable\cpan\build\Test-MockModule-0.05-B2y4pY/blib/lib;G:\perl\portable_smokers\strawberry-perl-5.16.3.1-32bit-portable\cpan\build\SQL-SplitStatement-1.00020-FXRSS_/blib/arch;G:\perl\portable_smokers\strawberry-perl-5.16.3.1-32bit-portable\cpan\build\SQL-SplitStatement-1.00020-FXRSS_/blib/lib;G:\perl\portable_smokers\strawberry-perl-5.16.3.1-32bit-portable\cpan\build\Regexp-Common-2013031301-kAVRvr/blib/arch;G:\perl\portable_smokers\strawberry-perl-5.16.3.1-32bit-portable\cpan\build\Regexp-Common-2013031301-kAVRvr/blib/lib;G:\perl\portable_smokers\strawberry-perl-5.16.3.1-32bit-portable\cpan\build\SQL-Tokenizer-0.24-WPLd7Q/blib/arch;G:\perl\portable_smokers\strawberry-perl-5.16.3.1-32bit-portable\cpan\build\SQL-Tokenizer-0.24-WPLd7Q/blib/lib"
    PERL5_CPANPLUS_IS_RUNNING="6652"
    PERL5_CPAN_IS_RUNNING="6652"
    PERL5_CPAN_IS_RUNNING_IN_RECURSION="10608,6652"
    PERL_CR_SMOKER_CURRENT="DBIx-Brev-0.02"
    PERL_EXTUTILS_AUTOINSTALL="--defaultdeps"
    PERL_MM_USE_DEFAULT="1"
  @INC:
    G:\perl\portable_smokers\strawberry-perl-5.16.3.1-32bit-portable\cpan\build\Test-MockModule-0.05-B2y4pY/blib/arch
    G:\perl\portable_smokers\strawberry-perl-5.16.3.1-32bit-portable\cpan\build\Test-MockModule-0.05-B2y4pY/blib/lib
    G:\perl\portable_smokers\strawberry-perl-5.16.3.1-32bit-portable\cpan\build\SQL-SplitStatement-1.00020-FXRSS_/blib/arch
    G:\perl\portable_smokers\strawberry-perl-5.16.3.1-32bit-portable\cpan\build\SQL-SplitStatement-1.00020-FXRSS_/blib/lib
    G:\perl\portable_smokers\strawberry-perl-5.16.3.1-32bit-portable\cpan\build\Regexp-Common-2013031301-kAVRvr/blib/arch
    G:\perl\portable_smokers\strawberry-perl-5.16.3.1-32bit-portable\cpan\build\Regexp-Common-2013031301-kAVRvr/blib/lib
    G:\perl\portable_smokers\strawberry-perl-5.16.3.1-32bit-portable\cpan\build\SQL-Tokenizer-0.24-WPLd7Q/blib/arch
    G:\perl\portable_smokers\strawberry-perl-5.16.3.1-32bit-portable\cpan\build\SQL-Tokenizer-0.24-WPLd7Q/blib/lib
    G:/perl/portable_smokers/strawberry-perl-5.16.3.1-32bit-portable/perl/site/lib
    G:/perl/portable_smokers/strawberry-perl-5.16.3.1-32bit-portable/perl/vendor/lib
    G:/perl/portable_smokers/strawberry-perl-5.16.3.1-32bit-portable/perl/lib
    .