Report for Test-Regression-0.06

Back
From: metabase:user:315f03b2-2aae-11df-837a-5e0a49663a4f
Subject: PASS Test-Regression-0.06 v5.14.1 SunOS/Solaris
Date: 2011-08-25T12:00:52Z

This distribution has been tested as part of the CPAN Testers
project, supporting the Perl programming language.  See
http://wiki.cpantesters.org/ for more information or email
questions to cpan-testers-discuss@perl.org


--
Dear Nicholas Bamber,

This is a computer-generated report for Test-Regression-0.06
on perl 5.14.1, created by CPAN-Reporter-1.2002.

Thank you for uploading your work to CPAN.  Congratulations!
All tests were successful.

Sections of this report:

    * Tester comments
    * Program output
    * Prerequisites
    * Environment and other context

------------------------------
TESTER COMMENTS
------------------------------

Additional comments from tester:

this report is from an automated smoke testing program
and was not reviewed by a human for accuracy

------------------------------
PROGRAM OUTPUT
------------------------------

Output from './Build test':

# Testing Test::Regression 0.06, Perl 5.014001, /export/home/smoke/perl5/perlbrew/perls/perl-5.14.1/bin/perl
t/00-load.t ....... ok
t/boilerplate.t ... ok
t/changes.t ....... skipped: Author test.  Set $ENV{TEST_AUTHOR} to a true value to run.
t/manifest.t ...... skipped: Author test.  Set $ENV{TEST_AUTHOR} to a true value to run.
t/open.t .......... ok
t/perlcritic.t .... skipped: Author test.  Set $ENV{TEST_AUTHOR} to a true value to run.
t/pod-coverage.t .. ok
t/pod.t ........... ok
t/podspell.t ...... skipped: Author test.  Set $ENV{TEST_AUTHOR} to a true value to run.
t/prereq.t ........ skipped: Author test.  Set $ENV{TEST_PREREQ} to a true value to run.
t/print.t ......... ok
t/regression.t .... ok
All tests successful.
Files=12, Tests=12,  3 wallclock secs ( 0.18 usr  0.06 sys +  1.94 cusr  0.26 csys =  2.44 CPU)
Result: PASS

------------------------------
PREREQUISITES
------------------------------

Prerequisite modules loaded:

requires:

    Module            Need Have      
    ----------------- ---- ----------
    Algorithm::Diff   0    1.1902    
    FileHandle        0    2.02      
    Test::Differences 0    0.61      
    Test::More        0    0.98      
    Text::Diff        0    1.41      

build_requires:

    Module            Need Have      
    ----------------- ---- ----------
    DirHandle         0    1.04      
    File::Spec        0    3.33      
    Test::MockObject  0    1.20110612

configure_requires:

    Module            Need Have      
    ----------------- ---- ----------
    Module::Build     0.36 0.39_01   


------------------------------
ENVIRONMENT AND OTHER CONTEXT
------------------------------

Environment variables:

    AUTOMATED_TESTING = 1
    LANG = en_US.UTF-8
    LC_CTYPE = en_US.UTF-8
    PATH = /export/home/smoke/perl5/perlbrew/bin:/export/home/smoke/perl5/perlbrew/perls/perl-5.14.1/bin:/usr/ccs/bin:/usr/local/bin:/usr/bin
    PATH_WITHOUT_PERLBREW = /usr/ccs/bin:/usr/local/bin:/usr/bin
    PERL5LIB = /export/home/smoke/.cpan/build/Test-Taint-1.04-kIOt3C/blib/arch:/export/home/smoke/.cpan/build/Test-Taint-1.04-kIOt3C/blib/lib
    PERL5OPT = 
    PERL5_CPANPLUS_IS_RUNNING = 26126
    PERL5_CPAN_IS_RUNNING = 26126
    PERL5_CPAN_IS_RUNNING_IN_RECURSION = 24454,26126
    PERLBREW_PATH = /export/home/smoke/perl5/perlbrew/bin:/export/home/smoke/perl5/perlbrew/perls/perl-5.14.1/bin
    PERLBREW_PERL = perl-5.14.1
    PERLBREW_ROOT = /export/home/smoke/perl5/perlbrew
    PERLBREW_VERSION = 0.22
    PERL_CR_SMOKER_CURRENT = CGI-Application-Plugin-Authentication-Driver-CDBI-0.03
    PERL_EXTUTILS_AUTOINSTALL = --defaultdeps
    PERL_MM_USE_DEFAULT = 1
    SHELL = /usr/bin/bash
    TERM = xterm

Perl special variables (and OS-specific diagnostics, for MSWin32):

    $^X = /export/home/smoke/perl5/perlbrew/perls/perl-5.14.1/bin/perl
    $UID/$EUID = 101 / 101
    $GID = 1 1
    $EGID = 1 1

Perl module toolchain versions installed:

    Module              Have    
    ------------------- --------
    CPAN                1.9600  
    CPAN::Meta          2.112150
    Cwd                 3.36    
    ExtUtils::CBuilder  0.280203
    ExtUtils::Command   1.17    
    ExtUtils::Install   1.56    
    ExtUtils::MakeMaker 6.59    
    ExtUtils::Manifest  1.60    
    ExtUtils::ParseXS   3.03_03 
    File::Spec          3.33    
    JSON                2.53    
    JSON::PP            2.27105 
    Module::Build       0.39_01 
    Module::Signature   n/a     
    Parse::CPAN::Meta   1.4401  
    Test::Harness       3.23    
    Test::More          0.98    
    YAML                0.73    
    YAML::Syck          1.17    
    version             0.94    


--

Summary of my perl5 (revision 5 version 14 subversion 1) configuration:
   
  Platform:
    osname=solaris, osvers=2.10, archname=sun4-solaris-thread-multi
    uname='sunos sparcy 5.10 generic_142909-17 sun4u sparc sunw,a70 '
    config_args='-de -Dprefix=/export/home/smoke/perl5/perlbrew/perls/perl-5.14.1 -Dcc=gcc -Duseithreads'
    hint=recommended, useposix=true, d_sigaction=define
    useithreads=define, usemultiplicity=define
    useperlio=define, d_sfio=undef, uselargefiles=define, usesocks=undef
    use64bitint=undef, use64bitall=undef, uselongdouble=undef
    usemymalloc=n, bincompat5005=undef
  Compiler:
    cc='gcc', ccflags ='-D_REENTRANT -fno-strict-aliasing -pipe -I/usr/local/include -D_LARGEFILE_SOURCE -D_FILE_OFFSET_BITS=64 -DPERL_USE_SAFE_PUTENV',
    optimize='-O',
    cppflags='-D_REENTRANT -fno-strict-aliasing -pipe -I/usr/local/include'
    ccversion='', gccversion='3.4.6', gccosandvers='solaris2.10'
    intsize=4, longsize=4, ptrsize=4, doublesize=8, byteorder=4321
    d_longlong=define, longlongsize=8, d_longdbl=define, longdblsize=16
    ivtype='long', ivsize=4, nvtype='double', nvsize=8, Off_t='off_t', lseeksize=8
    alignbytes=8, prototype=define
  Linker and Libraries:
    ld='gcc', ldflags =' -L/usr/local/lib '
    libpth=/usr/local/lib /usr/lib /usr/ccs/lib
    libs=-lsocket -lnsl -lgdbm -ldl -lm -lpthread -lc
    perllibs=-lsocket -lnsl -ldl -lm -lpthread -lc
    libc=/lib/libc.so, so=so, useshrplib=false, libperl=libperl.a
    gnulibc_version=''
  Dynamic Linking:
    dlsrc=dl_dlopen.xs, dlext=so, d_dlsymun=undef, ccdlflags=' '
    cccdlflags='-fPIC', lddlflags='-G -L/usr/local/lib'


Characteristics of this binary (from libperl): 
  Compile-time options: MULTIPLICITY PERL_DONT_CREATE_GVSV
                        PERL_IMPLICIT_CONTEXT PERL_MALLOC_WRAP
                        PERL_PRESERVE_IVUV PERL_USE_SAFE_PUTENV USE_ITHREADS
                        USE_LARGE_FILES USE_PERLIO USE_PERL_ATOF
                        USE_REENTRANT_API
  Built under solaris
  Compiled at Jul  3 2011 12:23:35
  %ENV:
    PERL5LIB="/export/home/smoke/.cpan/build/Test-Taint-1.04-kIOt3C/blib/arch:/export/home/smoke/.cpan/build/Test-Taint-1.04-kIOt3C/blib/lib"
    PERL5OPT=""
    PERL5_CPANPLUS_IS_RUNNING="26126"
    PERL5_CPAN_IS_RUNNING="26126"
    PERL5_CPAN_IS_RUNNING_IN_RECURSION="24454,26126"
    PERLBREW_PATH="/export/home/smoke/perl5/perlbrew/bin:/export/home/smoke/perl5/perlbrew/perls/perl-5.14.1/bin"
    PERLBREW_PERL="perl-5.14.1"
    PERLBREW_ROOT="/export/home/smoke/perl5/perlbrew"
    PERLBREW_VERSION="0.22"
    PERL_CR_SMOKER_CURRENT="CGI-Application-Plugin-Authentication-Driver-CDBI-0.03"
    PERL_EXTUTILS_AUTOINSTALL="--defaultdeps"
    PERL_MM_USE_DEFAULT="1"
  @INC:
    /export/home/smoke/.cpan/build/Test-Taint-1.04-kIOt3C/blib/arch
    /export/home/smoke/.cpan/build/Test-Taint-1.04-kIOt3C/blib/lib
    /export/home/smoke/perl5/perlbrew/perls/perl-5.14.1/lib/site_perl/5.14.1/sun4-solaris-thread-multi
    /export/home/smoke/perl5/perlbrew/perls/perl-5.14.1/lib/site_perl/5.14.1
    /export/home/smoke/perl5/perlbrew/perls/perl-5.14.1/lib/5.14.1/sun4-solaris-thread-multi
    /export/home/smoke/perl5/perlbrew/perls/perl-5.14.1/lib/5.14.1
    .