Back
From: metabase:user:30f4dfbe-2aae-11df-837a-5e0a49663a4f
Subject: PASS Statistics-Lite-3.62 v5.20.3 FreeBSD
Date: 2016-03-29T22:16:27Z
This distribution has been tested as part of the CPAN Testers
project, supporting the Perl programming language. See
http://wiki.cpantesters.org/ for more information or email
questions to cpan-testers-discuss@perl.org
--
Dear Brian Lalonde,
This is a computer-generated report for Statistics-Lite-3.62
on perl 5.20.3, created by CPAN-Reporter-1.2017.
Thank you for uploading your work to CPAN. Congratulations!
All tests were successful.
Sections of this report:
* Tester comments
* Program output
* Prerequisites
* Environment and other context
------------------------------
TESTER COMMENTS
------------------------------
Additional comments from tester:
this report is from an automated smoke testing program
and was not reviewed by a human for accuracy
------------------------------
PROGRAM OUTPUT
------------------------------
Output from '/usr/bin/make test':
PERL_DL_NONLAZY=1 "/home/njh/perl5/perlbrew/perls/perl-5.20.3/bin/perl5.20.3" "-MExtUtils::Command::MM" "-MTest::Harness" "-e" "undef *Test::Harness::Switches; test_harness(0, 'blib/lib', 'blib/arch')" t/*.t
# Beginning Statistics::Lite tests in freebsd with Perl 5.020003, /home/njh/perl5/perlbrew/perls/perl-5.20.3/bin/perl5.20.3
# Testing Statistics::Lite 3.62
t/00_use_ok.t ................. ok
t/01_functional_basic.t ....... ok
t/02_functional_negative.t .... ok
t/03_functional_undefs.t ...... ok
t/04_functional_unbiased.t .... ok
t/05_functional_population.t .. ok
t/06_statshash_basic.t ........ ok
t/07_statshash_more.t ......... ok
t/08_statshash_var_freq.t ..... ok
All tests successful.
Files=9, Tests=68, 4 wallclock secs ( 0.51 usr 0.24 sys + 2.85 cusr 1.42 csys = 5.02 CPU)
Result: PASS
------------------------------
PREREQUISITES
------------------------------
Prerequisite modules loaded:
build_requires:
Module Need Have
------------------- ---- ----
ExtUtils::MakeMaker 0 7.10
configure_requires:
Module Need Have
------------------- ---- ----
ExtUtils::MakeMaker 0 7.10
------------------------------
ENVIRONMENT AND OTHER CONTEXT
------------------------------
Environment variables:
AUTOMATED_TESTING = 1
PATH = /home/njh/perl5/perlbrew/bin:/home/njh/perl5/perlbrew/perls/perl-5.20.3/bin::/home/njh/perl5/perlbrew/bin:/sbin:/bin:/usr/sbin:/usr/bin:/usr/local/sbin:/usr/local/bin:/home/njh/bin
PERL5LIB = /home/njh/.cpan/build/Statistics-Data-0.09-2kUrDS/blib/arch:/home/njh/.cpan/build/Statistics-Data-0.09-2kUrDS/blib/lib:/home/njh/.cpan/build/Data-Serializer-0.60-OuZZe1/blib/arch:/home/njh/.cpan/build/Data-Serializer-0.60-OuZZe1/blib/lib:/home/njh/.cpan/build/String-Util-1.24-IPly9u/blib/arch:/home/njh/.cpan/build/String-Util-1.24-IPly9u/blib/lib:/home/njh/.cpan/build/Array-Compare-2.11-54VJuc/blib/arch:/home/njh/.cpan/build/Array-Compare-2.11-54VJuc/blib/lib:/home/njh/.cpan/build/Type-Tiny-1.000005-_FDw3n/blib/arch:/home/njh/.cpan/build/Type-Tiny-1.000005-_FDw3n/blib/lib:/home/njh/.cpan/build/List-AllUtils-0.09-56h4Do/blib/arch:/home/njh/.cpan/build/List-AllUtils-0.09-56h4Do/blib/lib:/home/njh/.cpan/build/Text-SimpleTable-2.03-b2Q0QU/blib/arch:/home/njh/.cpan/build/Text-SimpleTable-2.03-b2Q0QU/blib/lib:/home/njh/.cpan/build/Clone-0.38-JbyYNl/blib/arch:/home/njh/.cpan/build/Clone-0.38-JbyYNl/blib/lib:/home/njh/.cpan/build/Number-Misc-1.2-iGamoY/blib/arch:/home/njh/.cpan/build/Number-Misc-1.2-iGamoY/blib/lib
PERL5OPT =
PERL5_CPANPLUS_IS_RUNNING = 27583
PERL5_CPAN_IS_RUNNING = 27583
PERL5_MINISMOKEBOX = 0.58
PERLBREW_BASHRC_VERSION = 0.74
PERLBREW_HOME = /home/njh/.perlbrew
PERLBREW_LIB =
PERLBREW_MANPATH = /home/njh/perl5/perlbrew/perls/perl-5.20.3/man
PERLBREW_PATH = /home/njh/perl5/perlbrew/bin:/home/njh/perl5/perlbrew/perls/perl-5.20.3/bin
PERLBREW_PERL = perl-5.20.3
PERLBREW_ROOT = /home/njh/perl5/perlbrew
PERLBREW_VERSION = 0.74
PERL_EXTUTILS_AUTOINSTALL = --defaultdeps
PERL_LOCAL_LIB_ROOT =
PERL_MM_USE_DEFAULT = 1
SHELL = /bin/bash
TERM = xterm-256color
TMPDIR = /home/njh/tmp
Perl special variables (and OS-specific diagnostics, for MSWin32):
$^X = /home/njh/perl5/perlbrew/perls/perl-5.20.3/bin/perl5.20.3
$UID/$EUID = 1000 / 1000
$GID = 1000 1000 0
$EGID = 1000 1000 0
Perl module toolchain versions installed:
Module Have
------------------- --------
CPAN 2.10
CPAN::Meta 2.150005
Cwd 3.60
ExtUtils::CBuilder 0.280224
ExtUtils::Command 7.10
ExtUtils::Install 2.04
ExtUtils::MakeMaker 7.10
ExtUtils::Manifest 1.70
ExtUtils::ParseXS 3.30
File::Spec 3.60
JSON 2.90
JSON::PP 2.27300
Module::Build 0.4216
Module::Signature n/a
Parse::CPAN::Meta 1.4417
Test::Harness 3.36
Test::More 1.001014
YAML 1.15
YAML::Syck 1.29
version 0.9915
--
Summary of my perl5 (revision 5 version 20 subversion 3) configuration:
Platform:
osname=freebsd, osvers=11.0-current, archname=arm-freebsd-thread-multi
uname='freebsd pi2b 11.0-current freebsd 11.0-current #0 r291495: tue dec 1 09:13:20 utc 2015 root@releng2.nyi.freebsd.org:usrobjarm.armv6usrsrcsysrpi2 arm '
config_args='-de -Dprefix=/home/njh/perl5/perlbrew/perls/perl-5.20.3 -Duseithreads -Dusemultiplicity -Dusedevel -Accflags=-O2 -W -Wformat=2 -Wswitch -Wshadow -Wwrite-strings -Wuninitialized -Wall -pipe -fomit-frame-pointer -D_FORTIFY_SOURCE=2 -Wpointer-arith -Wstrict-prototypes -fstack-protector -Wstack-protector -Wextra -Wbad-function-cast -Wcast-align -Wcast-qual -Wdisabled-optimization -Wendif-labels -Wfloat-equal -Wformat-nonliteral -Winline -Wmissing-declarations -Wmissing-prototypes -Wnested-externs -Wpointer-arith -Wundef -Wformat-security -Aeval:scriptdir=/home/njh/perl5/perlbrew/perls/perl-5.20.3/bin'
hint=recommended, useposix=true, d_sigaction=define
useithreads=define, usemultiplicity=define
use64bitint=undef, use64bitall=undef, uselongdouble=undef
usemymalloc=n, bincompat5005=undef
Compiler:
cc='cc', ccflags ='-DHAS_FPSETMASK -DHAS_FLOATINGPOINT_H -O2 -W -Wformat=2 -Wswitch -Wshadow -Wwrite-strings -Wuninitialized -Wall -pipe -fomit-frame-pointer -D_FORTIFY_SOURCE=2 -Wpointer-arith -Wstrict-prototypes -fstack-protector -Wstack-protector -Wextra -Wbad-function-cast -Wcast-align -Wcast-qual -Wdisabled-optimization -Wendif-labels -Wfloat-equal -Wformat-nonliteral -Winline -Wmissing-declarations -Wmissing-prototypes -Wnested-externs -Wpointer-arith -Wundef -Wformat-security -fno-strict-aliasing -I/usr/local/include',
optimize='-O',
cppflags='-DHAS_FPSETMASK -DHAS_FLOATINGPOINT_H -O2 -W -Wformat=2 -Wswitch -Wshadow -Wwrite-strings -Wuninitialized -Wall -pipe -fomit-frame-pointer -D_FORTIFY_SOURCE=2 -Wpointer-arith -Wstrict-prototypes -fstack-protector -Wstack-protector -Wextra -Wbad-function-cast -Wcast-align -Wcast-qual -Wdisabled-optimization -Wendif-labels -Wfloat-equal -Wformat-nonliteral -Winline -Wmissing-declarations -Wmissing-prototypes -Wnested-externs -Wpointer-arith -Wundef -Wformat-security -fno-strict-aliasing -I/usr/local/include'
ccversion='', gccversion='4.2.1 Compatible FreeBSD Clang 3.7.0 (tags/RELEASE_370/final 246257)', gccosandvers=''
intsize=4, longsize=4, ptrsize=4, doublesize=8, byteorder=1234
d_longlong=define, longlongsize=8, d_longdbl=define, longdblsize=8
ivtype='long', ivsize=4, nvtype='double', nvsize=8, Off_t='off_t', lseeksize=8
alignbytes=8, prototype=define
Linker and Libraries:
ld='cc', ldflags ='-pthread -Wl,-E -fstack-protector -L/usr/local/lib'
libpth=/usr/lib /usr/local/lib /usr/bin/../lib/clang/3.7.0/lib /usr/lib
libs=-lpthread -lm -lcrypt -lutil
perllibs=-lpthread -lm -lcrypt -lutil
libc=, so=so, useshrplib=false, libperl=libperl.a
gnulibc_version=''
Dynamic Linking:
dlsrc=dl_dlopen.xs, dlext=so, d_dlsymun=undef, ccdlflags=' '
cccdlflags='-DPIC -fPIC', lddlflags='-shared -L/usr/local/lib -fstack-protector'
Characteristics of this binary (from libperl):
Compile-time options: HAS_TIMES MULTIPLICITY PERLIO_LAYERS
PERL_DONT_CREATE_GVSV
PERL_HASH_FUNC_ONE_AT_A_TIME_HARD
PERL_IMPLICIT_CONTEXT PERL_MALLOC_WRAP
PERL_NEW_COPY_ON_WRITE PERL_PRESERVE_IVUV
PERL_USE_DEVEL USE_ITHREADS USE_LARGE_FILES
USE_LOCALE USE_LOCALE_COLLATE USE_LOCALE_CTYPE
USE_LOCALE_NUMERIC USE_PERLIO USE_PERL_ATOF
USE_REENTRANT_API
Locally applied patches:
Devel::PatchPerl 1.38
Built under freebsd
Compiled at Dec 18 2015 11:55:45
%ENV:
PERL5LIB="/home/njh/.cpan/build/Statistics-Data-0.09-2kUrDS/blib/arch:/home/njh/.cpan/build/Statistics-Data-0.09-2kUrDS/blib/lib:/home/njh/.cpan/build/Data-Serializer-0.60-OuZZe1/blib/arch:/home/njh/.cpan/build/Data-Serializer-0.60-OuZZe1/blib/lib:/home/njh/.cpan/build/String-Util-1.24-IPly9u/blib/arch:/home/njh/.cpan/build/String-Util-1.24-IPly9u/blib/lib:/home/njh/.cpan/build/Array-Compare-2.11-54VJuc/blib/arch:/home/njh/.cpan/build/Array-Compare-2.11-54VJuc/blib/lib:/home/njh/.cpan/build/Type-Tiny-1.000005-_FDw3n/blib/arch:/home/njh/.cpan/build/Type-Tiny-1.000005-_FDw3n/blib/lib:/home/njh/.cpan/build/List-AllUtils-0.09-56h4Do/blib/arch:/home/njh/.cpan/build/List-AllUtils-0.09-56h4Do/blib/lib:/home/njh/.cpan/build/Text-SimpleTable-2.03-b2Q0QU/blib/arch:/home/njh/.cpan/build/Text-SimpleTable-2.03-b2Q0QU/blib/lib:/home/njh/.cpan/build/Clone-0.38-JbyYNl/blib/arch:/home/njh/.cpan/build/Clone-0.38-JbyYNl/blib/lib:/home/njh/.cpan/build/Number-Misc-1.2-iGamoY/blib/arch:/home/njh/.cpan/build/Number-Misc-1.2-iGamoY/blib/lib"
PERL5OPT=""
PERL5_CPANPLUS_IS_RUNNING="27583"
PERL5_CPAN_IS_RUNNING="27583"
PERL5_MINISMOKEBOX="0.58"
PERLBREW_BASHRC_VERSION="0.74"
PERLBREW_HOME="/home/njh/.perlbrew"
PERLBREW_LIB=""
PERLBREW_MANPATH="/home/njh/perl5/perlbrew/perls/perl-5.20.3/man"
PERLBREW_PATH="/home/njh/perl5/perlbrew/bin:/home/njh/perl5/perlbrew/perls/perl-5.20.3/bin"
PERLBREW_PERL="perl-5.20.3"
PERLBREW_ROOT="/home/njh/perl5/perlbrew"
PERLBREW_VERSION="0.74"
PERL_EXTUTILS_AUTOINSTALL="--defaultdeps"
PERL_LOCAL_LIB_ROOT=""
PERL_MM_USE_DEFAULT="1"
@INC:
/home/njh/.cpan/build/Statistics-Data-0.09-2kUrDS/blib/arch
/home/njh/.cpan/build/Statistics-Data-0.09-2kUrDS/blib/lib
/home/njh/.cpan/build/Data-Serializer-0.60-OuZZe1/blib/arch
/home/njh/.cpan/build/Data-Serializer-0.60-OuZZe1/blib/lib
/home/njh/.cpan/build/String-Util-1.24-IPly9u/blib/arch
/home/njh/.cpan/build/String-Util-1.24-IPly9u/blib/lib
/home/njh/.cpan/build/Array-Compare-2.11-54VJuc/blib/arch
/home/njh/.cpan/build/Array-Compare-2.11-54VJuc/blib/lib
/home/njh/.cpan/build/Type-Tiny-1.000005-_FDw3n/blib/arch
/home/njh/.cpan/build/Type-Tiny-1.000005-_FDw3n/blib/lib
/home/njh/.cpan/build/List-AllUtils-0.09-56h4Do/blib/arch
/home/njh/.cpan/build/List-AllUtils-0.09-56h4Do/blib/lib
/home/njh/.cpan/build/Text-SimpleTable-2.03-b2Q0QU/blib/arch
/home/njh/.cpan/build/Text-SimpleTable-2.03-b2Q0QU/blib/lib
/home/njh/.cpan/build/Clone-0.38-JbyYNl/blib/arch
/home/njh/.cpan/build/Clone-0.38-JbyYNl/blib/lib
/home/njh/.cpan/build/Number-Misc-1.2-iGamoY/blib/arch
/home/njh/.cpan/build/Number-Misc-1.2-iGamoY/blib/lib
/home/njh/perl5/perlbrew/perls/perl-5.20.3/lib/site_perl/5.20.3/arm-freebsd-thread-multi
/home/njh/perl5/perlbrew/perls/perl-5.20.3/lib/site_perl/5.20.3
/home/njh/perl5/perlbrew/perls/perl-5.20.3/lib/5.20.3/arm-freebsd-thread-multi
/home/njh/perl5/perlbrew/perls/perl-5.20.3/lib/5.20.3
.