Report for VS-RuleEngine-0.09

Back
From: metabase:user:320bfe00-2aae-11df-837a-5e0a49663a4f
Subject: PASS VS-RuleEngine-0.09 v5.15.5 GNU/Linux
Date: 2011-11-25T14:00:50Z

This distribution has been tested as part of the CPAN Testers
project, supporting the Perl programming language.  See
http://wiki.cpantesters.org/ for more information or email
questions to cpan-testers-discuss@perl.org


--
Dear Claes Jakobsson,

This is a computer-generated report for VS-RuleEngine-0.09
on perl 5.15.5, created by CPAN-Reporter-1.1902.

Thank you for uploading your work to CPAN.  Congratulations!
All tests were successful.

Sections of this report:

    * Tester comments
    * Program output
    * Prerequisites
    * Environment and other context

------------------------------
TESTER COMMENTS
------------------------------

Additional comments from tester:

this report is from an automated smoke testing program
and was not reviewed by a human for accuracy

------------------------------
PROGRAM OUTPUT
------------------------------

Output from '/usr/bin/make test':

PERL_DL_NONLAZY=1 /home/sand/src/perl/repoperls/installed-perls/perl/v5.15.5-81-gcfe287a/165a/bin/perl "-MExtUtils::Command::MM" "-e" "test_harness(0, 'blib/lib', 'blib/arch')" t/*/*.t
t/action/01-setlocal.t ........... ok
t/action/02-setglobal.t .......... ok
t/assorted/01-typedecl.t ......... ok
t/declare/01-basic.t ............. ok
t/declare/02-inputs.t ............ ok
t/declare/03-outputs.t ........... ok
t/declare/04-actions.t ........... ok
t/declare/05-hooks.t ............. ok
t/declare/06-rules.t ............. ok
t/declare/07-defaults.t .......... ok
t/docs/pod-coverage.t ............ ok
t/docs/pod.t ..................... ok
t/engine/01-basic.t .............. ok
t/engine/02-input-add.t .......... ok
t/engine/03-hook-add.t ........... ok
t/engine/04-prehook.t ............ ok
t/engine/05-posthook.t ........... ok
t/engine/06-action-add.t ......... ok
t/engine/07-rule-add.t ........... ok
t/engine/08-rule-order.t ......... ok
t/engine/09-rule-actions.t ....... ok
t/engine/10-inputs.t ............. ok
t/engine/11-defaults.t ........... ok
t/hook/01-base.t ................. ok
t/input/01-base.t ................ ok
t/output/01-base.t ............... ok
t/rule/01-base.t ................. ok
t/rule/02-inputoverthreshold.t ... ok
t/rule/03-inputunderthreshold.t .. ok
t/rule/04-inputmatchingregexp.t .. ok
t/runloop/01-basic.t ............. ok
t/runloop/02-hooks.t ............. ok
t/runloop/03-rules.t ............. ok
t/runloop/04-actions.t ........... ok
t/runloop/05-output.t ............ ok
t/runloop/07-multiple.t .......... ok
t/runloop/08-globals.t ........... ok
t/runloop/09-skip.t .............. ok
All tests successful.
Files=38, Tests=371,  2 wallclock secs ( 0.11 usr  0.05 sys +  1.70 cusr  0.26 csys =  2.12 CPU)
Result: PASS

------------------------------
PREREQUISITES
------------------------------

Prerequisite modules loaded:

requires:

    Module               Need Have   
    -------------------- ---- -------
    List::Util           0    1.23   
    Object::Tiny         0    1.08   
    Scalar::Util         0    1.23   
    Test::AbstractMethod 0    0.01   
    Test::Exception      0    0.31   
    Test::More           0    0.98_02

build_requires:

    Module               Need Have   
    -------------------- ---- -------
    ExtUtils::MakeMaker  0    6.63_02


------------------------------
ENVIRONMENT AND OTHER CONTEXT
------------------------------

Environment variables:

    AUTOMATED_TESTING = 1
    LANG = en_US.UTF-8
    LANGUAGE = en_US:en
    PATH = /home/sand/bin:/usr/local/bin:/usr/bin:/bin:/usr/bin/X11:/usr/games:/usr/local/perl/bin:/usr/X11/bin:/sbin:/usr/sbin
    PERL5LIB = 
    PERL5OPT = 
    PERL5_CPANPLUS_IS_RUNNING = 6356
    PERL5_CPAN_IS_RUNNING = 6356
    PERL_MM_USE_DEFAULT = 1
    SHELL = /usr/bin/zsh
    TERM = screen

Perl special variables (and OS-specific diagnostics, for MSWin32):

    $^X = /home/sand/src/perl/repoperls/installed-perls/perl/v5.15.5-81-gcfe287a/165a/bin/perl
    $UID/$EUID = 1005 / 1005
    $GID = 1005 1005
    $EGID = 1005 1005

Perl module toolchain versions installed:

    Module              Have    
    ------------------- --------
    CPAN                1.9800  
    Cwd                 3.37    
    ExtUtils::CBuilder  0.280204
    ExtUtils::Command   1.17    
    ExtUtils::Install   1.57    
    ExtUtils::MakeMaker 6.63_02 
    ExtUtils::Manifest  1.60    
    ExtUtils::ParseXS   3.05    
    File::Spec          3.34    
    Module::Build       0.39_01 
    Module::Signature   0.68    
    Test::Harness       3.23    
    Test::More          0.98_02 
    YAML                0.77    
    YAML::Syck          1.19    
    version             0.95    


--

Summary of my perl5 (revision 5 version 15 subversion 5) configuration:
  Commit id: cfe287a06b2ed98c25aebb477f6b400409f1fc85
  Platform:
    osname=linux, osvers=2.6.32-5-amd64, archname=x86_64-linux
    uname='linux k83 2.6.32-5-amd64 #1 smp mon oct 3 03:59:20 utc 2011 x86_64 gnulinux '
    config_args='-Dprefix=/home/src/perl/repoperls/installed-perls/perl/v5.15.5-81-gcfe287a/165a -Dmyhostname=k83 -Dinstallusrbinperl=n -Uversiononly -Dusedevel -des -Ui_db -Uuseithreads -Uuselongdouble -DDEBUGGING=-g'
    hint=recommended, useposix=true, d_sigaction=define
    useithreads=undef, usemultiplicity=undef
    useperlio=define, d_sfio=undef, uselargefiles=define, usesocks=undef
    use64bitint=define, use64bitall=define, uselongdouble=undef
    usemymalloc=n, bincompat5005=undef
  Compiler:
    cc='cc', ccflags ='-fno-strict-aliasing -pipe -fstack-protector -I/usr/local/include -D_LARGEFILE_SOURCE -D_FILE_OFFSET_BITS=64',
    optimize='-O2 -g',
    cppflags='-fno-strict-aliasing -pipe -fstack-protector -I/usr/local/include'
    ccversion='', gccversion='4.4.5', gccosandvers=''
    intsize=4, longsize=8, ptrsize=8, doublesize=8, byteorder=12345678
    d_longlong=define, longlongsize=8, d_longdbl=define, longdblsize=16
    ivtype='long', ivsize=8, nvtype='double', nvsize=8, Off_t='off_t', lseeksize=8
    alignbytes=8, prototype=define
  Linker and Libraries:
    ld='cc', ldflags =' -fstack-protector -L/usr/local/lib'
    libpth=/usr/local/lib /lib/../lib /usr/lib/../lib /lib /usr/lib /lib64 /usr/lib64
    libs=-lnsl -ldb -ldl -lm -lcrypt -lutil -lc
    perllibs=-lnsl -ldl -lm -lcrypt -lutil -lc
    libc=/lib/libc-2.11.2.so, so=so, useshrplib=false, libperl=libperl.a
    gnulibc_version='2.11.2'
  Dynamic Linking:
    dlsrc=dl_dlopen.xs, dlext=so, d_dlsymun=undef, ccdlflags='-Wl,-E'
    cccdlflags='-fPIC', lddlflags='-shared -O2 -g -L/usr/local/lib -fstack-protector'


Characteristics of this binary (from libperl): 
  Compile-time options: HAS_TIMES PERLIO_LAYERS PERL_DONT_CREATE_GVSV
                        PERL_MALLOC_WRAP PERL_PRESERVE_IVUV PERL_USE_DEVEL
                        USE_64_BIT_ALL USE_64_BIT_INT USE_LARGE_FILES
                        USE_LOCALE USE_LOCALE_COLLATE USE_LOCALE_CTYPE
                        USE_LOCALE_NUMERIC USE_PERLIO USE_PERL_ATOF
  Built under linux
  Compiled at Nov 21 2011 08:19:07
  %ENV:
    PERL5LIB=""
    PERL5OPT=""
    PERL5_CPANPLUS_IS_RUNNING="6356"
    PERL5_CPAN_IS_RUNNING="6356"
    PERL_MM_USE_DEFAULT="1"
  @INC:
    /home/src/perl/repoperls/installed-perls/perl/v5.15.5-81-gcfe287a/165a/lib/site_perl/5.15.5/x86_64-linux
    /home/src/perl/repoperls/installed-perls/perl/v5.15.5-81-gcfe287a/165a/lib/site_perl/5.15.5
    /home/src/perl/repoperls/installed-perls/perl/v5.15.5-81-gcfe287a/165a/lib/5.15.5/x86_64-linux
    /home/src/perl/repoperls/installed-perls/perl/v5.15.5-81-gcfe287a/165a/lib/5.15.5
    .