Back
From: metabase:user:30f4dfbe-2aae-11df-837a-5e0a49663a4f
Subject: PASS Soar-Production-0.03 v5.14.3 Mac OS X
Date: 2013-06-19T16:04:12Z
This distribution has been tested as part of the CPAN Testers
project, supporting the Perl programming language. See
http://wiki.cpantesters.org/ for more information or email
questions to cpan-testers-discuss@perl.org
--
Dear Nathan Gary Glenn,
This is a computer-generated report for Soar-Production-0.03
on perl 5.14.3, created by CPAN-Reporter-1.2010.
Thank you for uploading your work to CPAN. Congratulations!
All tests were successful.
Sections of this report:
* Tester comments
* Program output
* Prerequisites
* Environment and other context
------------------------------
TESTER COMMENTS
------------------------------
Additional comments from tester:
this report is from an automated smoke testing program
and was not reviewed by a human for accuracy
------------------------------
PROGRAM OUTPUT
------------------------------
Output from './Build test':
t/0-use.t ........................ ok
t/00-compile.t ................... ok
#
#
# Generated by Dist::Zilla::Plugin::ReportVersions::Tiny v1.08
# perl: 5.014003 (wanted 5.010) on darwin from /Users/hornenj/perl5/perlbrew/perls/perl-5.14.3/bin/perl
#
# Carp => 1.26 (want any version)
# Data::Diver => 1.0101 (want any version)
# Data::Dumper => 2.145 (want any version)
# Exporter::Easy => 0.16 (want any version)
# File::Find => 1.19 (want any version)
# File::Spec => 3.40 (want any version)
# File::Spec::Functions => 3.40 (want any version)
# File::Temp => 0.2301 (want any version)
# FindBin => 1.50 (want any version)
# Module::Build => 0.4005 (want 0.3601)
# Parse::RecDescent => 1.967009 (want any version)
# Path::Tiny => 0.024 (want any version)
# Pod::Coverage::TrustPod => module not found. (want any version)
# Test::Base => 0.60 (want any version)
# Test::Base::Filter => <undef> (want any version)
# Test::CPAN::Meta => module not found. (want any version)
# Test::Deep => 0.11 (want any version)
# Test::Exception => 0.32 (want any version)
# Test::LongString => 0.15 (want any version)
# Test::More => 0.98 (want 0.88)
# Test::Pod => 1.48 (want 1.41)
# Test::Pod::Coverage => 1.08 (want 1.08)
# Test::Warn => 0.24 (want any version)
# strict => 1.04 (want any version)
# utf8 => 1.09 (want any version)
# version => 0.9902 (want 0.9901)
# warnings => 1.12 (want any version)
#
# Thanks for using my code. I hope it works for you.
# If not, please try and include this output in the bug report.
# That will help me reproduce the issue and solve your problem.
#
t/000-report-versions-tiny.t ..... ok
t/1-basic.t ...................... ok
t/parser/00-use.t ................ ok
t/parser/01-bad_input.t .......... ok
t/parser/01_5-comments.t ......... ok
t/parser/02-split-productions.t .. ok
Subroutine main::is redefined at t/parser/03-production-names.t line 4.
t/parser/03-production-names.t ... ok
Subroutine main::is redefined at t/parser/04-documentation.t line 5.
t/parser/04-documentation.t ...... ok
Subroutine main::is redefined at t/parser/05-Flags.t line 5.
t/parser/05-Flags.t .............. ok
Subroutine main::is redefined at t/parser/06-State.t line 6.
t/parser/06-State.t .............. ok
Subroutine main::is redefined at t/parser/07-variables.t line 6.
t/parser/07-variables.t .......... ok
Subroutine main::is redefined at t/parser/08-attributes.t line 6.
t/parser/08-attributes.t ......... ok
Subroutine main::is redefined at t/parser/09-int.t line 6.
t/parser/09-int.t ................ ok
Subroutine main::is redefined at t/parser/10-float.t line 6.
t/parser/10-float.t .............. ok
Subroutine main::is redefined at t/parser/11-string.t line 5.
t/parser/11-string.t ............. ok
Subroutine main::is redefined at t/parser/12-quoted.t line 5.
t/parser/12-quoted.t ............. ok
Subroutine main::is redefined at t/parser/13-disjunct.t line 5.
t/parser/13-disjunct.t ........... ok
Subroutine main::is redefined at t/parser/14-conjunct.t line 5.
t/parser/14-conjunct.t ........... ok
Subroutine main::is redefined at t/parser/15-predicate.t line 5.
t/parser/15-predicate.t .......... ok
Subroutine main::is redefined at t/parser/16-preference.t line 6.
t/parser/16-preference.t ......... ok
Subroutine main::is redefined at t/parser/17-function.t line 5.
t/parser/17-function.t ........... ok
Subroutine main::is redefined at t/parser/18-negative.t line 5.
t/parser/18-negative.t ........... ok
Subroutine main::is redefined at t/parser/19-conjunctiveCond.t line 5.
t/parser/19-conjunctiveCond.t .... ok
t/parser/20-test_data.t .......... ok
t/printer/0-use.t ................ ok
t/printer/1-test_data.t .......... ok
All tests successful.
Files=28, Tests=1816, 66 wallclock secs ( 0.30 usr 0.06 sys + 65.38 cusr 0.37 csys = 66.11 CPU)
Result: PASS
------------------------------
PREREQUISITES
------------------------------
Prerequisite modules loaded:
requires:
Module Need Have
--------------------- ------ --------
Carp 0 1.26
Data::Dumper 0 2.145
Exporter::Easy 0 0.16
Parse::RecDescent 0 1.967009
perl 5.010 5.014003
strict 0 1.04
warnings 0 1.12
build_requires:
Module Need Have
--------------------- ------ --------
Data::Diver 0 1.0101
File::Find 0 1.19
File::Spec 0 3.40
File::Spec::Functions 0 3.40
File::Temp 0 0.2301
FindBin 0 1.50
Module::Build 0.3601 0.4005
Path::Tiny 0 0.024
Test::Base 0 0.60
Test::Base::Filter 0 0
Test::Deep 0 0.110
Test::Exception 0 0.32
Test::LongString 0 0.15
Test::More 0.88 0.98
Test::Warn 0 0.24
utf8 0 1.09
configure_requires:
Module Need Have
--------------------- ------ --------
Module::Build 0.3601 0.4005
------------------------------
ENVIRONMENT AND OTHER CONTEXT
------------------------------
Environment variables:
AUTOMATED_TESTING = 1
LC_ALL = POSIX
LD_LIBRARY_PATH = :/net/traces01.be-md.ncbi.nlm.nih.gov/trace_software/vdb/mac/release/x86_64/lib
PATH = /Users/hornenj/perl5/perlbrew/bin:/Users/hornenj/perl5/perlbrew/perls/perl-5.14.3/bin:/Users/hornenj/perl5/perlbrew/bin:/sw/lib/perl5/ExtUtils:/sw/bin:/sw/sbin:/am/ncbiapdata/bin:/usr/bin:/bin:/usr/X11R6/bin:/Users/hornenj/bin:/netopt/ncbi_tools/bin:/usr/local/ncbi/blast/bin:/net/traces01.be-md.ncbi.nlm.nih.gov/trace_software/vdb/mac/release/x86_64/bin
PERL5LIB = /Users/hornenj/.cpan/build/Path-Tiny-0.024-Nm1vYT/blib/arch:/Users/hornenj/.cpan/build/Path-Tiny-0.024-Nm1vYT/blib/lib:/Users/hornenj/.cpan/build/Devel-Hide-0.0009-E6COIr/blib/arch:/Users/hornenj/.cpan/build/Devel-Hide-0.0009-E6COIr/blib/lib:/Users/hornenj/.cpan/build/Data-Diver-1.0101-DmbCe0/blib/arch:/Users/hornenj/.cpan/build/Data-Diver-1.0101-DmbCe0/blib/lib:/Users/hornenj/.cpan/build/Exporter-Easy-0.16-Bi9FWW/blib/arch:/Users/hornenj/.cpan/build/Exporter-Easy-0.16-Bi9FWW/blib/lib:/Users/hornenj/.cpan/build/Test-Base-0.60-j94Dh4/blib/arch:/Users/hornenj/.cpan/build/Test-Base-0.60-j94Dh4/blib/lib:/Users/hornenj/.cpan/build/Spiffy-0.31-YcSmat/blib/arch:/Users/hornenj/.cpan/build/Spiffy-0.31-YcSmat/blib/lib
PERL5OPT =
PERL5_CPANPLUS_IS_RUNNING = 96054
PERL5_CPAN_IS_RUNNING = 96054
PERL5_MINISMOKEBOX = 0.56
PERLBREW_BASHRC_VERSION = 0.64
PERLBREW_HOME = /Users/hornenj/.perlbrew
PERLBREW_MANPATH = /Users/hornenj/perl5/perlbrew/perls/perl-5.14.3/man
PERLBREW_PATH = /Users/hornenj/perl5/perlbrew/bin:/Users/hornenj/perl5/perlbrew/perls/perl-5.14.3/bin
PERLBREW_PERL = perl-5.14.3
PERLBREW_ROOT = /Users/hornenj/perl5/perlbrew
PERLBREW_VERSION = 0.64
PERL_EXTUTILS_AUTOINSTALL = --defaultdeps
PERL_MM_USE_DEFAULT = 1
SHELL = /bin/bash
TERM = xterm
TMPDIR = /var/folders/pz/pd7y1qjs6s3cbk170cw50fjc000c61/T/
VERSIONER_PERL_PREFER_32_BIT = no
VERSIONER_PERL_VERSION = 5.12
ac_cv_path_INTLTOOL_PERL = /usr/bin/perl
Perl special variables (and OS-specific diagnostics, for MSWin32):
$^X = /Users/hornenj/perl5/perlbrew/perls/perl-5.14.3/bin/perl
$UID/$EUID = 12481 / 12481
$GID = 14 14 5344 527 241 223 206 402 12 62 204
$EGID = 14 14 5344 527 241 223 206 402 12 62 204
Perl module toolchain versions installed:
Module Have
------------------- --------
CPAN 2.00
CPAN::Meta 2.131560
Cwd 3.40
ExtUtils::CBuilder 0.280205
ExtUtils::Command 1.17
ExtUtils::Install 1.56
ExtUtils::MakeMaker 6.68
ExtUtils::Manifest 1.61
ExtUtils::ParseXS 3.18
File::Spec 3.40
JSON 2.59
JSON::PP 2.27202
Module::Build 0.4005
Module::Signature n/a
Parse::CPAN::Meta 1.4404
Test::Harness 3.28
Test::More 0.98
YAML 0.84
YAML::Syck 1.27
version 0.9902
--
Summary of my perl5 (revision 5 version 14 subversion 3) configuration:
Platform:
osname=darwin, osvers=12.2.1, archname=darwin-2level
uname='darwin ncbimac2008.ncbi.nlm.nih.gov 12.2.1 darwin kernel version 12.2.1: thu oct 18 12:13:47 pdt 2012; root:xnu-2050.20.9~1release_x86_64 x86_64 '
config_args='-de -Dprefix=/Users/hornenj/perl5/perlbrew/perls/perl-5.14.3'
hint=recommended, useposix=true, d_sigaction=define
useithreads=undef, usemultiplicity=undef
useperlio=define, d_sfio=undef, uselargefiles=define, usesocks=undef
use64bitint=define, use64bitall=define, uselongdouble=undef
usemymalloc=n, bincompat5005=undef
Compiler:
cc='cc', ccflags ='-fno-common -DPERL_DARWIN -fno-strict-aliasing -pipe -fstack-protector',
optimize='-O3',
cppflags='-fno-common -DPERL_DARWIN -fno-strict-aliasing -pipe -fstack-protector'
ccversion='', gccversion='4.2.1 Compatible Apple LLVM 4.2 (clang-425.0.24)', gccosandvers=''
intsize=4, longsize=8, ptrsize=8, doublesize=8, byteorder=12345678
d_longlong=define, longlongsize=8, d_longdbl=define, longdblsize=16
ivtype='long', ivsize=8, nvtype='double', nvsize=8, Off_t='off_t', lseeksize=8
alignbytes=8, prototype=define
Linker and Libraries:
ld='env MACOSX_DEPLOYMENT_TARGET=10.3 cc', ldflags =' -fstack-protector'
libpth=/usr/lib
libs=-ldbm -ldl -lm -lutil -lc
perllibs=-ldl -lm -lutil -lc
libc=, so=dylib, useshrplib=false, libperl=libperl.a
gnulibc_version=''
Dynamic Linking:
dlsrc=dl_dlopen.xs, dlext=bundle, d_dlsymun=undef, ccdlflags=' '
cccdlflags=' ', lddlflags=' -bundle -undefined dynamic_lookup -fstack-protector'
Characteristics of this binary (from libperl):
Compile-time options: PERL_DONT_CREATE_GVSV PERL_MALLOC_WRAP
PERL_PRESERVE_IVUV USE_64_BIT_ALL USE_64_BIT_INT
USE_LARGE_FILES USE_PERLIO USE_PERL_ATOF
Built under darwin
Compiled at Mar 4 2013 17:42:44
%ENV:
PERL5LIB="/Users/hornenj/.cpan/build/Path-Tiny-0.024-Nm1vYT/blib/arch:/Users/hornenj/.cpan/build/Path-Tiny-0.024-Nm1vYT/blib/lib:/Users/hornenj/.cpan/build/Devel-Hide-0.0009-E6COIr/blib/arch:/Users/hornenj/.cpan/build/Devel-Hide-0.0009-E6COIr/blib/lib:/Users/hornenj/.cpan/build/Data-Diver-1.0101-DmbCe0/blib/arch:/Users/hornenj/.cpan/build/Data-Diver-1.0101-DmbCe0/blib/lib:/Users/hornenj/.cpan/build/Exporter-Easy-0.16-Bi9FWW/blib/arch:/Users/hornenj/.cpan/build/Exporter-Easy-0.16-Bi9FWW/blib/lib:/Users/hornenj/.cpan/build/Test-Base-0.60-j94Dh4/blib/arch:/Users/hornenj/.cpan/build/Test-Base-0.60-j94Dh4/blib/lib:/Users/hornenj/.cpan/build/Spiffy-0.31-YcSmat/blib/arch:/Users/hornenj/.cpan/build/Spiffy-0.31-YcSmat/blib/lib"
PERL5OPT=""
PERL5_CPANPLUS_IS_RUNNING="96054"
PERL5_CPAN_IS_RUNNING="96054"
PERL5_MINISMOKEBOX="0.56"
PERLBREW_BASHRC_VERSION="0.64"
PERLBREW_HOME="/Users/hornenj/.perlbrew"
PERLBREW_MANPATH="/Users/hornenj/perl5/perlbrew/perls/perl-5.14.3/man"
PERLBREW_PATH="/Users/hornenj/perl5/perlbrew/bin:/Users/hornenj/perl5/perlbrew/perls/perl-5.14.3/bin"
PERLBREW_PERL="perl-5.14.3"
PERLBREW_ROOT="/Users/hornenj/perl5/perlbrew"
PERLBREW_VERSION="0.64"
PERL_EXTUTILS_AUTOINSTALL="--defaultdeps"
PERL_MM_USE_DEFAULT="1"
@INC:
/Users/hornenj/.cpan/build/Path-Tiny-0.024-Nm1vYT/blib/arch
/Users/hornenj/.cpan/build/Path-Tiny-0.024-Nm1vYT/blib/lib
/Users/hornenj/.cpan/build/Devel-Hide-0.0009-E6COIr/blib/arch
/Users/hornenj/.cpan/build/Devel-Hide-0.0009-E6COIr/blib/lib
/Users/hornenj/.cpan/build/Data-Diver-1.0101-DmbCe0/blib/arch
/Users/hornenj/.cpan/build/Data-Diver-1.0101-DmbCe0/blib/lib
/Users/hornenj/.cpan/build/Exporter-Easy-0.16-Bi9FWW/blib/arch
/Users/hornenj/.cpan/build/Exporter-Easy-0.16-Bi9FWW/blib/lib
/Users/hornenj/.cpan/build/Test-Base-0.60-j94Dh4/blib/arch
/Users/hornenj/.cpan/build/Test-Base-0.60-j94Dh4/blib/lib
/Users/hornenj/.cpan/build/Spiffy-0.31-YcSmat/blib/arch
/Users/hornenj/.cpan/build/Spiffy-0.31-YcSmat/blib/lib
/Users/hornenj/perl5/perlbrew/perls/perl-5.14.3/lib/site_perl/5.14.3/darwin-2level
/Users/hornenj/perl5/perlbrew/perls/perl-5.14.3/lib/site_perl/5.14.3
/Users/hornenj/perl5/perlbrew/perls/perl-5.14.3/lib/5.14.3/darwin-2level
/Users/hornenj/perl5/perlbrew/perls/perl-5.14.3/lib/5.14.3
.