Report for Mastodon-Client-0.012

Back
From: metabase:user:0d733b8a-6bf8-1014-b774-4cfed801d268
Subject: PASS Mastodon-Client-0.012 v5.12.3 
Date: 2017-06-09T12:26:58Z

This distribution has been tested as part of the CPAN Testers
project, supporting the Perl programming language.  See
http://wiki.cpantesters.org/ for more information or email
questions to cpan-testers-discuss@perl.org


--
Dear Jose Joaquin Atria,

This is a computer-generated report for Mastodon-Client-0.012
on perl 5.12.3, created by CPAN-Reporter-1.2018.

Thank you for uploading your work to CPAN.  Congratulations!
All tests were successful.

Sections of this report:

    * Tester comments
    * Program output
    * Prerequisites
    * Environment and other context

------------------------------
TESTER COMMENTS
------------------------------

Additional comments from tester:

none provided

------------------------------
PROGRAM OUTPUT
------------------------------

Output from 'C:\Strawberry\c\bin\dmake.EXE test':

"C:\Strawberry\perl\bin\perl.exe" "-MExtUtils::Command::MM" "-MTest::Harness" "-e" "undef *Test::Harness::Switches; test_harness(0, 'blib\lib', 'blib\arch')" t/*.t
t/00_basic.t ............ ok
t/01_entities.t ......... ok
t/02_entity_coercion.t .. ok
t/05_authorize.t ........ ok
t/10_tcp.t .............. ok
t/author-pod-syntax.t ... skipped: these tests are for testing by the author
All tests successful.
Files=6, Tests=168, 11 wallclock secs ( 0.16 usr +  0.03 sys =  0.19 CPU)
Result: PASS

------------------------------
PREREQUISITES
------------------------------

Prerequisite modules loaded:

requires:

    Module                      Need     Have    
    --------------------------- -------- --------
    AnyEvent                    7.13     7.13    
    AnyEvent::Emitter           0.02     0.02    
    AnyEvent::HTTP              2.23     2.23    
    Carp                        0        1.38    
    Class::Load                 0        0.23    
    Data::Dumper                0        2.161   
    DateTime                    1.42     1.43    
    DateTime::Format::Strptime  1.73     1.73    
    Encode                      0        2.89    
    HTTP::Request::Common       0        6.11    
    Image::Info                 0        1.40    
    JSON::MaybeXS               1.003009 1.003009
    List::Util                  1.47     1.47    
    Log::Any                    1.049    1.049   
    LWP::UserAgent              6.25     6.26    
    MIME::Base64                0        3.13    
    Moo                         2.003002 2.003002
    Moo::Role                   0        2.003002
    Path::Tiny                  0        0.103   
    perl                        5.010    5.012003
    strict                      0        1.04    
    Try::Tiny                   0.28     0.28    
    Type::Library               0        1.002001
    Type::Params                1.000006 1.002001
    Type::Utils                 0        1.002001
    Types::Common::String       1.000006 1.002001
    Types::Path::Tiny           0.005    0.005   
    Types::Standard             1.000006 1.002001
    URI                         1.71     1.71    
    URI::QueryParam             0        1.71    
    warnings                    0        1.09    

build_requires:

    Module                      Need     Have    
    --------------------------- -------- --------
    AnyEvent                    7.13     7.13    
    Config::Tiny                0        2.23    
    diagnostics                 0        1.19    
    ExtUtils::MakeMaker         0        7.29_01 
    HTML::FormatText::WithLinks 0        0.15    
    lib                         0        0.62    
    Lingua::EN::Inflexion       0        0.000007
    Log::Any::Adapter           0        1.049   
    parent                      0        0.234   
    Plack                       1.0043   1.0044  
    Plack::Component            0        0       
    Plack::Runner               0        0       
    Plack::Util                 0        0       
    Term::ANSIColor             0        3.00    
    Test::Exception             0.043    0.43    
    Test::More                  1.302078 1.302085
    Test::Pod                   1.51     1.51    
    Test::TCP                   2.17     2.19    
    Test::Warnings              0.026    0.026   

configure_requires:

    Module                      Need     Have    
    --------------------------- -------- --------
    ExtUtils::MakeMaker         0        7.29_01 
    perl                        v5.10.0  5.012003


------------------------------
ENVIRONMENT AND OTHER CONTEXT
------------------------------

Environment variables:

    COMSPEC = C:\windows\system32\cmd.exe
    NONINTERACTIVE_TESTING = 1
    NUMBER_OF_PROCESSORS = 4
    PATH = C:\home\griffin\perl5\bin;C:\windows\system32;C:\windows;C:\windows\System32\Wbem;C:\windows\System32\WindowsPowerShell\v1.0\;C:\Strawberry\c\bin;C:\Strawberry\perl\site\bin;C:\Strawberry\perl\bin
    PERL5LIB = C:\home\griffin\perl5\lib\perl5
    PERL5OPT = 
    PERL5_CPANPLUS_IS_RUNNING = 6680
    PERL5_CPAN_IS_RUNNING = 6680
    PERL_LOCAL_LIB_ROOT = C:\home\griffin\perl5
    PERL_MB_OPT = --install_base "C:\\home\\griffin\\perl5"
    PERL_MM_OPT = INSTALL_BASE=C:\\home\\griffin\\perl5
    PERL_MM_USE_DEFAULT = 1
    PROCESSOR_IDENTIFIER = x86 Family 6 Model 37 Stepping 5, GenuineIntel
    TEMP = C:\Users\user\AppData\Local\Temp
    TERM = dumb

Perl special variables (and OS-specific diagnostics, for MSWin32):

    $^X = C:\Strawberry\perl\bin\perl.exe
    $UID/$EUID = 0 / 0
    $GID = 0
    $EGID = 0
    Win32::GetOSName = Win7
    Win32::GetOSVersion = Service Pack 1, 6, 1, 7601, 2, 1, 0, 256, 1
    Win32::FsType = NTFS
    Win32::IsAdminUser = 0

Perl module toolchain versions installed:

    Module              Have    
    ------------------- --------
    CPAN                2.16    
    CPAN::Meta          2.150010
    Cwd                 3.62    
    ExtUtils::CBuilder  0.280224
    ExtUtils::Command   7.29_01 
    ExtUtils::Install   2.14    
    ExtUtils::MakeMaker 7.29_01 
    ExtUtils::Manifest  1.70    
    ExtUtils::ParseXS   3.30    
    File::Spec          3.62    
    JSON                2.94    
    JSON::PP            2.94    
    Module::Build       0.4220  
    Module::Signature   0.66    
    Parse::CPAN::Meta   2.150010
    Test::Harness       3.36    
    Test::More          1.302085
    YAML                0.73    
    YAML::Syck          1.29    
    version             0.9918  


--

Summary of my perl5 (revision 5 version 12 subversion 3) configuration:
   
  Platform:
    osname=MSWin32, osvers=5.1, archname=MSWin32-x86-multi-thread
    uname='Win32 strawberryperl 5.12.3.0 #1 Sun May 15 09:44:53 2011 i386'
    config_args='undef'
    hint=recommended, useposix=true, d_sigaction=undef
    useithreads=define, usemultiplicity=define
    useperlio=define, d_sfio=undef, uselargefiles=define, usesocks=undef
    use64bitint=undef, use64bitall=undef, uselongdouble=undef
    usemymalloc=n, bincompat5005=undef
  Compiler:
    cc='gcc', ccflags =' -s -O2 -DWIN32 -DHAVE_DES_FCRYPT  -DUSE_SITECUSTOMIZE -DPERL_IMPLICIT_CONTEXT -DPERL_IMPLICIT_SYS -fno-strict-aliasing -mms-bitfields -DPERL_MSVCRT_READFIX',
    optimize='-s -O2',
    cppflags='-DWIN32'
    ccversion='', gccversion='4.4.3', gccosandvers=''
    intsize=4, longsize=4, ptrsize=4, doublesize=8, byteorder=1234
    d_longlong=undef, longlongsize=8, d_longdbl=define, longdblsize=12
    ivtype='long', ivsize=4, nvtype='double', nvsize=8, Off_t='long long', lseeksize=8
    alignbytes=8, prototype=define
  Linker and Libraries:
    ld='g++', ldflags ='-s -L"C:\Strawberry\perl\lib\CORE" -L"C:\Strawberry\c\lib"'
    libpth=C:\Strawberry\c\lib C:\Strawberry\c\i686-w64-mingw32\lib
    libs=-lmoldname -lkernel32 -luser32 -lgdi32 -lwinspool -lcomdlg32 -ladvapi32 -lshell32 -lole32 -loleaut32 -lnetapi32 -luuid -lws2_32 -lmpr -lwinmm -lversion -lodbc32 -lodbccp32 -lcomctl32
    perllibs=-lmoldname -lkernel32 -luser32 -lgdi32 -lwinspool -lcomdlg32 -ladvapi32 -lshell32 -lole32 -loleaut32 -lnetapi32 -luuid -lws2_32 -lmpr -lwinmm -lversion -lodbc32 -lodbccp32 -lcomctl32
    libc=, so=dll, useshrplib=true, libperl=libperl512.a
    gnulibc_version=''
  Dynamic Linking:
    dlsrc=dl_win32.xs, dlext=dll, d_dlsymun=undef, ccdlflags=' '
    cccdlflags=' ', lddlflags='-mdll -s -L"C:\Strawberry\perl\lib\CORE" -L"C:\Strawberry\c\lib"'


Characteristics of this binary (from libperl): 
  Compile-time options: MULTIPLICITY PERL_DONT_CREATE_GVSV
                        PERL_IMPLICIT_CONTEXT PERL_IMPLICIT_SYS
                        PERL_MALLOC_WRAP PL_OP_SLAB_ALLOC USE_ITHREADS
                        USE_LARGE_FILES USE_PERLIO USE_PERL_ATOF
                        USE_SITECUSTOMIZE
  Built under MSWin32
  Compiled at May 15 2011 17:02:01
  %ENV:
    PERL5LIB="C:\home\griffin\perl5\lib\perl5"
    PERL5_CPANPLUS_IS_RUNNING="6680"
    PERL5_CPAN_IS_RUNNING="6680"
    PERL_LOCAL_LIB_ROOT="C:\home\griffin\perl5"
    PERL_MB_OPT="--install_base "C:\\home\\griffin\\perl5""
    PERL_MM_OPT="INSTALL_BASE=C:\\home\\griffin\\perl5"
    PERL_MM_USE_DEFAULT="1"
  @INC:
    C:\home\griffin\perl5\lib\perl5/MSWin32-x86-multi-thread
    C:\home\griffin\perl5\lib\perl5
    C:/Strawberry/perl/site/lib
    C:/Strawberry/perl/vendor/lib
    C:/Strawberry/perl/lib
    .