Report for Web-Scraper-0.36

Back
From: metabase:user:d2c9f356-b46f-11df-9a90-20a83c0b7757
Subject: PASS Web-Scraper-0.36 v5.15.9 SunOS/Solaris
Date: 2012-04-14T16:14:16Z

This distribution has been tested as part of the CPAN Testers
project, supporting the Perl programming language.  See
http://wiki.cpantesters.org/ for more information or email
questions to cpan-testers-discuss@perl.org


--
Dear Tatsuhiko Miyagawa,

This is a computer-generated report for Web-Scraper-0.36
on perl 5.15.9, created by CPAN-Reporter-1.2006.

Thank you for uploading your work to CPAN.  Congratulations!
All tests were successful.

Sections of this report:

    * Tester comments
    * Program output
    * Prerequisites
    * Environment and other context

------------------------------
TESTER COMMENTS
------------------------------

Additional comments from tester:

this report is from an automated smoke testing program
and was not reviewed by a human for accuracy

------------------------------
PROGRAM OUTPUT
------------------------------

Output from '/usr/local/bin/make test':

PERL_DL_NONLAZY=1 /export/home/cpant4/perl5/perlbrew/perls/perl-5.15.9/bin/perl5.15.9 "-MExtUtils::Command::MM" "-e" "test_harness(0, 'inc', 'blib/lib', 'blib/arch')" t/*.t
t/00_compile.t .......... ok
t/01_process.t .......... ok
t/02_process_multi.t .... ok
t/03_scraper_nest.t ..... ok
t/04_callback.t ......... ok
t/05_process_first.t .... ok
t/06_define.t ........... ok
t/07-live.t ............. skipped: LIVE_TEST not enabled
t/08-leak.t ............. skipped: LEAK_TEST is not defined
t/09-process_hash.t ..... ok
t/11_absolute.t ......... ok
t/12_html.t ............. ok
t/13_textnode.t ......... ok
t/14_absolute_nested.t .. ok
t/15_absolute_hash.t .... ok
t/16_filter.t ........... ok
t/17_filter_loop.t ...... ok
t/18_http_response.t .... skipped: LIVE_TEST not enabled
t/19_decode_content.t ... skipped: LIVE_TEST not enabled
t/20_comment_nodes.t .... skipped: Please upgrade HTML::TreeBuilder::XPath and HTML::TreeBuilder::LibXML modules for comment nodes supporting
t/21_html5.t ............ ok
t/redefine.t ............ ok
t/xml-simple.t .......... skipped: Test requires module 'HTML::TreeBuilder::LibXML' but it's not found
All tests successful.
Files=23, Tests=38,  3 wallclock secs ( 0.08 usr  0.06 sys +  2.66 cusr  0.28 csys =  3.08 CPU)
Result: PASS

------------------------------
PREREQUISITES
------------------------------

Prerequisite modules loaded:

requires:

    Module                   Need     Have    
    ------------------------ -------- --------
    HTML::Entities           0        3.69    
    HTML::Selector::XPath    0.03     0.14    
    HTML::Tagset             0        3.20    
    HTML::TreeBuilder        3.23     4.2     
    HTML::TreeBuilder::XPath 0.08     0.14    
    LWP                      5.827    6.04    
    perl                     5.008001 5.015009
    Scalar::Util             0        1.25    
    UNIVERSAL::require       0        0.13    
    URI                      0        1.60    
    XML::XPathEngine         0.08     0.13    
    YAML                     0        0.80    

build_requires:

    Module                   Need     Have    
    ------------------------ -------- --------
    ExtUtils::MakeMaker      6.6302   6.63_02 
    Test::Base               0        0.60    
    Test::More               0        0.98    
    Test::Requires           0        0.06    

configure_requires:

    Module                   Need     Have    
    ------------------------ -------- --------
    ExtUtils::MakeMaker      6.62     6.63_02 


------------------------------
ENVIRONMENT AND OTHER CONTEXT
------------------------------

Environment variables:

    AUTOMATED_TESTING = 1
    LANG = C
    LD_LIBRARY_PATH = /usr/local/lib:
    MANPATH_WITHOUT_PERLBREW = 
    PATH = /export/home/cpant4/perl5/perlbrew/bin:/export/home/cpant4/perl5/perlbrew/perls/perl-5.15.9/bin:/export/home/cpant4/perl5/bin:/usr/local/bin:/usr/bin
    PATH_WITHOUT_PERLBREW = /export/home/cpant4/perl5/bin:/usr/local/bin:/usr/bin
    PERL5LIB = /export/home/cpant4/.cpan/build/HTML-Selector-XPath-0.14-I3ifuO/blib/arch:/export/home/cpant4/.cpan/build/HTML-Selector-XPath-0.14-I3ifuO/blib/lib
    PERL5OPT = 
    PERL5_CPANPLUS_IS_RUNNING = 3698
    PERL5_CPAN_IS_RUNNING = 3698
    PERL5_CPAN_IS_RUNNING_IN_RECURSION = 26076,3698
    PERLBREW_BASHRC_VERSION = 0.41
    PERLBREW_HOME = /export/home/cpant4/.perlbrew
    PERLBREW_MANPATH = /export/home/cpant4/perl5/perlbrew/perls/perl-5.15.9/man
    PERLBREW_PATH = /export/home/cpant4/perl5/perlbrew/bin:/export/home/cpant4/perl5/perlbrew/perls/perl-5.15.9/bin
    PERLBREW_PERL = perl-5.15.9
    PERLBREW_ROOT = /export/home/cpant4/perl5/perlbrew
    PERLBREW_VERSION = 0.41
    PERL_CR_SMOKER_CURRENT = HTTP-MobileAgent-Plugin-SmartPhone-0.014
    PERL_EXTUTILS_AUTOINSTALL = --defaultdeps
    PERL_MM_USE_DEFAULT = 1
    SHELL = /bin/bash
    TERM = xterm

Perl special variables (and OS-specific diagnostics, for MSWin32):

    $^X = /export/home/cpant4/perl5/perlbrew/perls/perl-5.15.9/bin/perl5.15.9
    $UID/$EUID = 104 / 104
    $GID = 1 1
    $EGID = 1 1

Perl module toolchain versions installed:

    Module              Have    
    ------------------- --------
    CPAN                1.9800  
    CPAN::Meta          2.120921
    Cwd                 3.39_02 
    ExtUtils::CBuilder  0.280206
    ExtUtils::Command   1.17    
    ExtUtils::Install   1.58    
    ExtUtils::MakeMaker 6.63_02 
    ExtUtils::Manifest  1.61    
    ExtUtils::ParseXS   3.16    
    File::Spec          3.39_02 
    JSON                2.53    
    JSON::PP            2.27200 
    Module::Build       0.40    
    Module::Signature   n/a     
    Parse::CPAN::Meta   1.4404  
    Test::Harness       3.23    
    Test::More          0.98    
    YAML                0.80    
    YAML::Syck          1.20    
    version             0.97    


--

Summary of my perl5 (revision 5 version 15 subversion 9) configuration:
   
  Platform:
    osname=solaris, osvers=2.10, archname=i86pc-solaris-64int
    uname='sunos vmrz0046 5.10 generic_141445-09 i86pc i386 i86pc solaris '
    config_args='-de -Dprefix=/export/home/cpant4/perl5/perlbrew/perls/perl-5.15.9 -Dcc=gcc -Duse64bitint -Dusedevel -Dusedevel'
    hint=recommended, useposix=true, d_sigaction=define
    useithreads=undef, usemultiplicity=undef
    useperlio=define, d_sfio=undef, uselargefiles=define, usesocks=undef
    use64bitint=define, use64bitall=undef, uselongdouble=undef
    usemymalloc=n, bincompat5005=undef
  Compiler:
    cc='gcc', ccflags ='-DPTR_IS_LONG -fno-strict-aliasing -pipe -I/usr/local/include -D_LARGEFILE_SOURCE -D_FILE_OFFSET_BITS=64 -DPERL_USE_SAFE_PUTENV',
    optimize='-O',
    cppflags='-DPTR_IS_LONG -fno-strict-aliasing -pipe -I/usr/local/include'
    ccversion='', gccversion='3.4.6', gccosandvers='solaris2.10'
    intsize=4, longsize=4, ptrsize=4, doublesize=8, byteorder=12345678
    d_longlong=define, longlongsize=8, d_longdbl=define, longdblsize=12
    ivtype='long long', ivsize=8, nvtype='double', nvsize=8, Off_t='off_t', lseeksize=8
    alignbytes=4, prototype=define
  Linker and Libraries:
    ld='gcc', ldflags =' -L/usr/local/lib '
    libpth=/usr/local/lib /usr/lib /usr/ccs/lib
    libs=-lsocket -lnsl -lgdbm -ldl -lm -lc
    perllibs=-lsocket -lnsl -ldl -lm -lc
    libc=/lib/libc.so, so=so, useshrplib=false, libperl=libperl.a
    gnulibc_version=''
  Dynamic Linking:
    dlsrc=dl_dlopen.xs, dlext=so, d_dlsymun=undef, ccdlflags=' '
    cccdlflags='-fPIC', lddlflags='-G -L/usr/local/lib'


Characteristics of this binary (from libperl): 
  Compile-time options: HAS_TIMES PERLIO_LAYERS PERL_DONT_CREATE_GVSV
                        PERL_MALLOC_WRAP PERL_PRESERVE_IVUV PERL_USE_DEVEL
                        PERL_USE_SAFE_PUTENV USE_64_BIT_INT USE_LARGE_FILES
                        USE_LOCALE USE_LOCALE_COLLATE USE_LOCALE_CTYPE
                        USE_LOCALE_NUMERIC USE_PERLIO USE_PERL_ATOF
  Built under solaris
  Compiled at Apr 11 2012 15:23:49
  %ENV:
    PERL5LIB="/export/home/cpant4/.cpan/build/HTML-Selector-XPath-0.14-I3ifuO/blib/arch:/export/home/cpant4/.cpan/build/HTML-Selector-XPath-0.14-I3ifuO/blib/lib"
    PERL5OPT=""
    PERL5_CPANPLUS_IS_RUNNING="3698"
    PERL5_CPAN_IS_RUNNING="3698"
    PERL5_CPAN_IS_RUNNING_IN_RECURSION="26076,3698"
    PERLBREW_BASHRC_VERSION="0.41"
    PERLBREW_HOME="/export/home/cpant4/.perlbrew"
    PERLBREW_MANPATH="/export/home/cpant4/perl5/perlbrew/perls/perl-5.15.9/man"
    PERLBREW_PATH="/export/home/cpant4/perl5/perlbrew/bin:/export/home/cpant4/perl5/perlbrew/perls/perl-5.15.9/bin"
    PERLBREW_PERL="perl-5.15.9"
    PERLBREW_ROOT="/export/home/cpant4/perl5/perlbrew"
    PERLBREW_VERSION="0.41"
    PERL_CR_SMOKER_CURRENT="HTTP-MobileAgent-Plugin-SmartPhone-0.014"
    PERL_EXTUTILS_AUTOINSTALL="--defaultdeps"
    PERL_MM_USE_DEFAULT="1"
  @INC:
    /export/home/cpant4/.cpan/build/HTML-Selector-XPath-0.14-I3ifuO/blib/arch
    /export/home/cpant4/.cpan/build/HTML-Selector-XPath-0.14-I3ifuO/blib/lib
    /export/home/cpant4/perl5/perlbrew/perls/perl-5.15.9/lib/site_perl/5.15.9/i86pc-solaris-64int
    /export/home/cpant4/perl5/perlbrew/perls/perl-5.15.9/lib/site_perl/5.15.9
    /export/home/cpant4/perl5/perlbrew/perls/perl-5.15.9/lib/5.15.9/i86pc-solaris-64int
    /export/home/cpant4/perl5/perlbrew/perls/perl-5.15.9/lib/5.15.9
    .