Filter-Crypto v2.09 Perl 5 v5.33.2 x86_64-linux

Status
Pass
From
Slaven Rezić
Dist
Filter-Crypto v2.09
Platform
Perl 5 v5.33.2 x86_64-linux
Date
2020-12-08 09:29:34
ID
e1dd0664-3937-11eb-a760-88551f24ea8f
This distribution has been tested as part of the CPAN Testers
project, supporting the Perl programming language.  See
http://wiki.cpantesters.org/ for more information or email
questions to cpan-testers-discuss@perl.org


--
Dear Steve Hay,

This is a computer-generated report for Filter-Crypto-2.09
on perl 5.33.2, created by CPAN-Reporter-1.2018.

Thank you for uploading your work to CPAN.  Congratulations!
All tests were successful.

Sections of this report:

    * Tester comments
    * Program output
    * Prerequisites
    * Environment and other context

------------------------------
TESTER COMMENTS
------------------------------

Additional comments from tester:

none provided

------------------------------
PROGRAM OUTPUT
------------------------------

Output from '/usr/bin/make test':

make[1]: Entering directory '/home/cpansand/.cpan/build/2020120809/Filter-Crypto-2.09-1/CryptFile'
"/opt/perl-5.33.2/bin/perl5.33.2" -MExtUtils::Command::MM -e 'cp_nonempty' -- CryptFile.bs ../blib/arch/auto/Filter/Crypto/CryptFile/CryptFile.bs 644
Manifying 1 pod document
make[1]: Leaving directory '/home/cpansand/.cpan/build/2020120809/Filter-Crypto-2.09-1/CryptFile'
make[1]: Entering directory '/home/cpansand/.cpan/build/2020120809/Filter-Crypto-2.09-1/Decrypt'
"/opt/perl-5.33.2/bin/perl5.33.2" -MExtUtils::Command::MM -e 'cp_nonempty' -- Decrypt.bs ../blib/arch/auto/Filter/Crypto/Decrypt/Decrypt.bs 644
Manifying 1 pod document
make[1]: Leaving directory '/home/cpansand/.cpan/build/2020120809/Filter-Crypto-2.09-1/Decrypt'
PERL_DL_NONLAZY=1 "/opt/perl-5.33.2/bin/perl5.33.2" "-MExtUtils::Command::MM" "-MTest::Harness" "-e" "undef *Test::Harness::Switches; test_harness(0, 'blib/lib', 'blib/arch')" t/*.t
t/01_imports_01.t .... ok
t/01_imports_02.t .... ok
t/01_imports_03.t .... ok
t/01_imports_04.t .... ok
t/02_function.t ...... ok
t/03_script.t ........ ok
t/04_par.t ........... ok
t/05_errstr.t ........ ok
t/06_changes.t ....... skipped: Author testing only
t/07_critic.t ........ skipped: Author testing only
t/08_pod.t ........... skipped: Author testing only
t/09_pod_coverage.t .. skipped: Author testing only
All tests successful.
Files=12, Tests=448, 10 wallclock secs ( 0.08 usr  0.05 sys +  7.19 cusr  3.48 csys = 10.80 CPU)
Result: PASS

------------------------------
PREREQUISITES
------------------------------

Prerequisite modules loaded:

requires:

    Module                Need     Have     
    --------------------- -------- ---------
    Carp                  0        1.50     
    Config                0        5.033002 
    constant              0        1.33     
    Cwd                   0        3.78     
    Exporter              0        5.75     
    ExtUtils::MakeMaker   6.66     7.56     
    Fcntl                 0        1.14     
    File::Basename        0        2.85     
    File::Copy            0        2.34     
    File::Find            0        1.37     
    File::Spec::Functions 0        3.78     
    File::Temp            0        0.2311   
    Getopt::Long          0        2.51     
    perl                  5.008001 5.033002 
    Pod::Usage            1.15     2.01     
    Scalar::Util          0        1.55     
    strict                0        1.12     
    Text::ParseWords      0        3.30     
    Text::Wrap            0        2013.0523
    warnings              0        1.48     
    XSLoader              0        0.30     

build_requires:

    Module                Need     Have     
    --------------------- -------- ---------
    blib                  0        1.07     
    ExtUtils::MakeMaker   0        7.56     
    File::Path            0        2.18     
    FindBin               0        1.51     
    Test::More            0        1.302183 

configure_requires:

    Module                Need     Have     
    --------------------- -------- ---------
    Carp                  0        1.50     
    Config                0        5.033002 
    constant              0        1.33     
    Cwd                   0        3.78     
    ExtUtils::MakeMaker   6.66     7.56     
    Fcntl                 0        1.14     
    File::Basename        0        2.85     
    File::Copy            0        2.34     
    File::Spec::Functions 0        3.78     
    Getopt::Long          0        2.51     
    perl                  5.008001 5.033002 
    Pod::Usage            1.15     2.01     
    strict                0        1.12     
    Text::Wrap            0        2013.0523
    warnings              0        1.48     


------------------------------
ENVIRONMENT AND OTHER CONTEXT
------------------------------

Environment variables:

    LANG = C
    PATH = /usr/local/bin:/usr/bin:/bin:/usr/local/sbin:/usr/sbin:/sbin:/home/cpansand/bin/linux-gnu:/home/cpansand/bin/sh:/home/cpansand/bin:/usr/games:/home/cpansand/devel:/home/eserte/src/srezic-misc/scripts
    PERL5LIB = 
    PERL5OPT = 
    PERL5_CPANPLUS_IS_RUNNING = 4829
    PERL5_CPAN_IS_RUNNING = 4829
    PERL5_CPAN_IS_RUNNING_IN_RECURSION = 4661,4829
    PERLDOC = -MPod::Perldoc::ToTextOverstrike
    PERL_BATCH = yes
    PERL_CANARY_STABILITY_NOPROMPT = 1
    PERL_CPAN_REPORTER_CONFIG = /var/tmp/cpansmoker-1023/2020120809/cpanreporter_000_config.ini
    PERL_EXTUTILS_AUTOINSTALL = --defaultdeps
    PERL_USE_UNSAFE_INC = 1
    SHELL = /usr/bin/zsh
    TERM = screen
    TMPDIR = /var/tmp/cpansmoker-1023/2020120809

Perl special variables (and OS-specific diagnostics, for MSWin32):

    $^X = /opt/perl-5.33.2/bin/perl5.33.2
    $UID/$EUID = 1023 / 1023
    $GID = 1023 1023
    $EGID = 1023 1023

Perl module toolchain versions installed:

    Module              Have    
    ------------------- --------
    CPAN                2.27    
    CPAN::Meta          2.150010
    Cwd                 3.78    
    ExtUtils::CBuilder  0.280235
    ExtUtils::Command   7.56    
    ExtUtils::Install   2.18    
    ExtUtils::MakeMaker 7.56    
    ExtUtils::Manifest  1.72    
    ExtUtils::ParseXS   3.41    
    File::Spec          3.78    
    JSON                4.02    
    JSON::PP            4.05    
    Module::Build       0.4231  
    Module::Signature   n/a     
    Parse::CPAN::Meta   2.150010
    Test::Harness       3.42    
    Test::More          1.302183
    YAML                1.30    
    YAML::Syck          1.34    
    version             0.9928  


--

Summary of my perl5 (revision 5 version 33 subversion 2) configuration:
   
  Platform:
    osname=linux
    osvers=4.19.0-10-amd64
    archname=x86_64-linux
    uname='linux debian10 4.19.0-10-amd64 #1 smp debian 4.19.132-1 (2020-07-24) x86_64 gnulinux '
    config_args='-ds -e -Dprefix=/opt/perl-5.33.2 -Dusedevel -Dusemallocwrap=no -Dcf_email=srezic@cpan.org'
    hint=recommended
    useposix=true
    d_sigaction=define
    useithreads=undef
    usemultiplicity=undef
    use64bitint=define
    use64bitall=define
    uselongdouble=undef
    usemymalloc=n
    default_inc_excludes_dot=define
  Compiler:
    cc='cc'
    ccflags ='-fwrapv -fno-strict-aliasing -pipe -fstack-protector-strong -I/usr/local/include -D_LARGEFILE_SOURCE -D_FILE_OFFSET_BITS=64 -D_FORTIFY_SOURCE=2'
    optimize='-O2'
    cppflags='-fwrapv -fno-strict-aliasing -pipe -fstack-protector-strong -I/usr/local/include'
    ccversion=''
    gccversion='8.3.0'
    gccosandvers=''
    intsize=4
    longsize=8
    ptrsize=8
    doublesize=8
    byteorder=12345678
    doublekind=3
    d_longlong=define
    longlongsize=8
    d_longdbl=define
    longdblsize=16
    longdblkind=3
    ivtype='long'
    ivsize=8
    nvtype='double'
    nvsize=8
    Off_t='off_t'
    lseeksize=8
    alignbytes=8
    prototype=define
  Linker and Libraries:
    ld='cc'
    ldflags =' -fstack-protector-strong -L/usr/local/lib'
    libpth=/usr/local/lib /usr/lib/gcc/x86_64-linux-gnu/8/include-fixed /usr/include/x86_64-linux-gnu /usr/lib /lib/x86_64-linux-gnu /lib/../lib /usr/lib/x86_64-linux-gnu /usr/lib/../lib /lib
    libs=-lpthread -lnsl -lgdbm -ldb -ldl -lm -lcrypt -lutil -lc
    perllibs=-lpthread -lnsl -ldl -lm -lcrypt -lutil -lc
    libc=libc-2.28.so
    so=so
    useshrplib=false
    libperl=libperl.a
    gnulibc_version='2.28'
  Dynamic Linking:
    dlsrc=dl_dlopen.xs
    dlext=so
    d_dlsymun=undef
    ccdlflags='-Wl,-E'
    cccdlflags='-fPIC'
    lddlflags='-shared -O2 -L/usr/local/lib -fstack-protector-strong'


Characteristics of this binary (from libperl): 
  Compile-time options:
    HAS_TIMES
    PERLIO_LAYERS
    PERL_COPY_ON_WRITE
    PERL_DONT_CREATE_GVSV
    PERL_OP_PARENT
    PERL_PRESERVE_IVUV
    PERL_USE_DEVEL
    USE_64_BIT_ALL
    USE_64_BIT_INT
    USE_LARGE_FILES
    USE_LOCALE
    USE_LOCALE_COLLATE
    USE_LOCALE_CTYPE
    USE_LOCALE_NUMERIC
    USE_LOCALE_TIME
    USE_PERLIO
    USE_PERL_ATOF
  Built under linux
  Compiled at Sep 26 2020 14:44:13
  %ENV:
    PERL5LIB=""
    PERL5OPT=""
    PERL5_CPANPLUS_IS_RUNNING="4829"
    PERL5_CPAN_IS_RUNNING="4829"
    PERL5_CPAN_IS_RUNNING_IN_RECURSION="4661,4829"
    PERLDOC="-MPod::Perldoc::ToTextOverstrike"
    PERL_BATCH="yes"
    PERL_CANARY_STABILITY_NOPROMPT="1"
    PERL_CPAN_REPORTER_CONFIG="/var/tmp/cpansmoker-1023/2020120809/cpanreporter_000_config.ini"
    PERL_EXTUTILS_AUTOINSTALL="--defaultdeps"
    PERL_USE_UNSAFE_INC="1"
  @INC:
    /opt/perl-5.33.2/lib/site_perl/5.33.2/x86_64-linux
    /opt/perl-5.33.2/lib/site_perl/5.33.2
    /opt/perl-5.33.2/lib/5.33.2/x86_64-linux
    /opt/perl-5.33.2/lib/5.33.2
    .