Report for Math-MatrixReal-2.13

Back
From: metabase:user:314402c4-2aae-11df-837a-5e0a49663a4f
Subject: PASS Math-MatrixReal-2.13 v5.24.0 GNU/Linux
Date: 2017-01-24T19:39:55Z

This distribution has been tested as part of the CPAN Testers
project, supporting the Perl programming language.  See
http://wiki.cpantesters.org/ for more information or email
questions to cpan-testers-discuss@perl.org


--
Dear Jonathan Leto,

This is a computer-generated report for Math-MatrixReal-2.13
on perl 5.24.0, created by CPAN-Reporter-1.2018.

Thank you for uploading your work to CPAN.  Congratulations!
All tests were successful.

Sections of this report:

    * Tester comments
    * Program output
    * Prerequisites
    * Environment and other context

------------------------------
TESTER COMMENTS
------------------------------

Additional comments from tester:

none provided

------------------------------
PROGRAM OUTPUT
------------------------------

Output from './Build test':

# Testing Math::MatrixReal 2.13 on linux, Perl (/opt/perl-5.24.0/bin/perl5.24.0) 5.024000
t/00-load.t ............ ok
t/adjoint.t ............ ok
t/arith.t .............. ok
t/assign.t ............. ok
t/basic.t .............. ok

 * Estimated diagonalization time for 150x150 matrix:  6.93 s
   Estimated biggest matrix diagonalisable within 1 day cpu: 3402x3402
 * Estimated eigenvalues-only computation time for 150x150 matrix:  1.15 s
   Estimated biggest matrix manageable within 1 day cpu: 6115x6115
 Btw, do you want to crunch such one now?  (no, just kidding...;-)
t/bench_eigen.t ........ ok
t/bench_eigen2.t ....... ok
t/binary.t ............. ok
t/bool.t ............... ok
t/cofactor.t ........... ok
t/concat.t ............. ok
t/condition.t .......... ok
t/decompose_LR.t ....... ok
t/det.t ................ ok
t/diag.t ............... ok
t/display_precision.t .. ok
t/div.t ................ ok
t/each.t ............... ok
t/eigen_3x3.t .......... ok
t/eigen_7x7.t .......... ok
t/eigen_NxN.t .......... ok
t/equality.t ........... ok
t/exponent.t ........... ok
t/ext1.t ............... ok
t/gramian.t ............ ok
t/gsm.t ................ ok
t/inequality.t ......... ok
t/inverse.t ............ ok
t/is_LR.t .............. ok
t/isrowcol.t ........... ok
t/latex.t .............. ok
t/length.t ............. ok
t/list.t ............... ok
t/matlab.t ............. ok
t/max_min.t ............ ok
t/minimax.t ............ ok
t/minor.t .............. ok
t/norm.t ............... ok
t/normality.t .......... ok
t/orthogonal.t ......... ok
t/periodic.t ........... ok
t/positive.t ........... ok
t/product.t ............ ok
t/quadratic.t .......... ok
t/rand.t ............... ok
t/rank.t ............... ok
t/scinotation.t ........ ok
t/similar.t ............ ok
t/spectral.t ........... ok
t/stringify.t .......... ok
t/submatrix.t .......... ok
t/swap.t ............... ok
t/symmetric.t .......... ok
t/trace.t .............. ok
t/transpose.t .......... ok
t/triang.t ............. ok
t/tridiag.t ............ ok
t/vecnorm.t ............ ok
t/yacas.t .............. ok
All tests successful.
Files=59, Tests=353, 10 wallclock secs ( 0.27 usr  0.14 sys +  8.57 cusr  1.32 csys = 10.30 CPU)
Result: PASS

------------------------------
PREREQUISITES
------------------------------

Prerequisite modules loaded:

build_requires:

    Module        Need Have  
    ------------- ---- ------
    File::Spec    0    3.63  
    Test::Most    0    0.35  

configure_requires:

    Module        Need Have  
    ------------- ---- ------
    Module::Build 0.38 0.4220


------------------------------
ENVIRONMENT AND OTHER CONTEXT
------------------------------

Environment variables:

    LANG = de_DE.utf8
    LANGUAGE = de_DE.utf8
    LC_ALL = de_DE.utf8
    PATH = /usr/local/bin:/usr/bin:/bin:/usr/local/sbin:/usr/sbin:/sbin:/home/cpansand/bin/linux-gnu:/home/cpansand/bin/sh:/home/cpansand/bin:/usr/games:/home/cpansand/devel:/home/eserte/src/srezic-misc/scripts
    PERL5LIB = 
    PERL5OPT = 
    PERL5_CPANPLUS_IS_RUNNING = 955
    PERL5_CPAN_IS_RUNNING = 955
    PERL5_CPAN_IS_RUNNING_IN_RECURSION = 32538,955
    PERLDOC = -MPod::Perldoc::ToTextOverstrike
    PERL_BATCH = yes
    PERL_CANARY_STABILITY_NOPROMPT = 1
    PERL_CPAN_REPORTER_CONFIG = /var/tmp/cpansmoker-1001/2017012403/cpanreporter_000_config.ini
    PERL_EXTUTILS_AUTOINSTALL = --defaultdeps
    SHELL = /bin/zsh
    TERM = screen
    TMPDIR = /var/tmp/cpansmoker-1001/2017012403

Perl special variables (and OS-specific diagnostics, for MSWin32):

    $^X = /opt/perl-5.24.0/bin/perl5.24.0
    $UID/$EUID = 1001 / 1001
    $GID = 1001 1001
    $EGID = 1001 1001

Perl module toolchain versions installed:

    Module              Have    
    ------------------- --------
    CPAN                2.11    
    CPAN::Meta          2.150010
    Cwd                 3.63    
    ExtUtils::CBuilder  0.280225
    ExtUtils::Command   7.24    
    ExtUtils::Install   2.04    
    ExtUtils::MakeMaker 7.24    
    ExtUtils::Manifest  1.70    
    ExtUtils::ParseXS   3.31    
    File::Spec          3.63    
    JSON                2.90    
    JSON::PP            2.27400 
    Module::Build       0.4220  
    Module::Signature   0.81    
    Parse::CPAN::Meta   2.150010
    Test::Harness       3.36    
    Test::More          1.302075
    YAML                1.21    
    YAML::Syck          1.29    
    version             0.9916  


--

Summary of my perl5 (revision 5 version 24 subversion 0) configuration:
   
  Platform:
    osname=linux, osvers=3.10.0-042stab120.6, archname=x86_64-linux
    uname='linux h1980015.stratoserver.net 3.10.0-042stab120.6 #1 smp thu oct 27 16:59:03 msk 2016 x86_64 x86_64 x86_64 gnulinux '
    config_args='-ds -e -Dprefix=/opt/perl-5.24.0 -Dcf_email=srezic@cpan.org'
    hint=recommended, useposix=true, d_sigaction=define
    useithreads=undef, usemultiplicity=undef
    use64bitint=define, use64bitall=define, uselongdouble=undef
    usemymalloc=n, bincompat5005=undef
  Compiler:
    cc='cc', ccflags ='-fwrapv -fno-strict-aliasing -pipe -fstack-protector-strong -I/usr/local/include -D_LARGEFILE_SOURCE -D_FILE_OFFSET_BITS=64 -D_FORTIFY_SOURCE=2',
    optimize='-O2',
    cppflags='-fwrapv -fno-strict-aliasing -pipe -fstack-protector-strong -I/usr/local/include'
    ccversion='', gccversion='4.8.5 20150623 (Red Hat 4.8.5-11)', gccosandvers=''
    intsize=4, longsize=8, ptrsize=8, doublesize=8, byteorder=12345678, doublekind=3
    d_longlong=define, longlongsize=8, d_longdbl=define, longdblsize=16, longdblkind=3
    ivtype='long', ivsize=8, nvtype='double', nvsize=8, Off_t='off_t', lseeksize=8
    alignbytes=8, prototype=define
  Linker and Libraries:
    ld='cc', ldflags =' -fstack-protector-strong -L/usr/local/lib'
    libpth=/usr/local/lib /usr/lib /lib/../lib64 /usr/lib/../lib64 /lib /lib64 /usr/lib64 /usr/local/lib64
    libs=-lpthread -lnsl -lgdbm -ldb -ldl -lm -lcrypt -lutil -lc -lgdbm_compat
    perllibs=-lpthread -lnsl -ldl -lm -lcrypt -lutil -lc
    libc=libc-2.17.so, so=so, useshrplib=false, libperl=libperl.a
    gnulibc_version='2.17'
  Dynamic Linking:
    dlsrc=dl_dlopen.xs, dlext=so, d_dlsymun=undef, ccdlflags='-Wl,-E'
    cccdlflags='-fPIC', lddlflags='-shared -O2 -L/usr/local/lib -fstack-protector-strong'


Characteristics of this binary (from libperl): 
  Compile-time options: HAS_TIMES PERLIO_LAYERS PERL_COPY_ON_WRITE
                        PERL_DONT_CREATE_GVSV
                        PERL_HASH_FUNC_ONE_AT_A_TIME_HARD PERL_MALLOC_WRAP
                        PERL_PRESERVE_IVUV USE_64_BIT_ALL USE_64_BIT_INT
                        USE_LARGE_FILES USE_LOCALE USE_LOCALE_COLLATE
                        USE_LOCALE_CTYPE USE_LOCALE_NUMERIC USE_LOCALE_TIME
                        USE_PERLIO USE_PERL_ATOF
  Built under linux
  Compiled at Jan 22 2017 10:44:09
  %ENV:
    PERL5LIB=""
    PERL5OPT=""
    PERL5_CPANPLUS_IS_RUNNING="955"
    PERL5_CPAN_IS_RUNNING="955"
    PERL5_CPAN_IS_RUNNING_IN_RECURSION="32538,955"
    PERLDOC="-MPod::Perldoc::ToTextOverstrike"
    PERL_BATCH="yes"
    PERL_CANARY_STABILITY_NOPROMPT="1"
    PERL_CPAN_REPORTER_CONFIG="/var/tmp/cpansmoker-1001/2017012403/cpanreporter_000_config.ini"
    PERL_EXTUTILS_AUTOINSTALL="--defaultdeps"
  @INC:
    /opt/perl-5.24.0/lib/site_perl/5.24.0/x86_64-linux
    /opt/perl-5.24.0/lib/site_perl/5.24.0
    /opt/perl-5.24.0/lib/5.24.0/x86_64-linux
    /opt/perl-5.24.0/lib/5.24.0
    .