Convert-Color v0.11 Perl 5 v5.27.10 amd64-netbsd
- Status
- Pass
- From
- Carlos Guevara
- Dist
-
Convert-Color v0.11
- Platform
- Perl 5 v5.27.10 amd64-netbsd
- Date
- 2018-03-06 19:30:52
- ID
- e1e5fd9c-2174-11e8-8d4c-a2f199224d4f
This distribution has been tested as part of the CPAN Testers
project, supporting the Perl programming language. See
http://wiki.cpantesters.org/ for more information or email
questions to cpan-testers-discuss@perl.org
--
Dear Paul Evans,
This is a computer-generated report for Convert-Color-0.11
on perl 5.27.10, created by CPAN-Reporter-1.2018.
Thank you for uploading your work to CPAN. Congratulations!
All tests were successful.
Sections of this report:
* Tester comments
* Program output
* Prerequisites
* Environment and other context
------------------------------
TESTER COMMENTS
------------------------------
Additional comments from tester:
none provided
------------------------------
PROGRAM OUTPUT
------------------------------
Output from './Build test':
t/00use.t ........... ok
t/01rgb.t ........... ok
t/02hsv.t ........... ok
t/03hsl.t ........... ok
t/04cmy.t ........... ok
t/05cmyk.t .......... ok
t/11convert-rgb.t ... ok
t/12convert-hsv.t ... ok
t/13convert-hsl.t ... ok
t/14convert-cmy.t ... ok
t/15convert-cmyk.t .. ok
t/20magic-const.t ... ok
t/21rgb-blend.t ..... ok
t/22rgb-dst.t ....... ok
t/23hsv-dst.t ....... ok
t/24hsl-dst.t ....... ok
t/30vga.t ........... ok
t/31x11.t ........... skipped: Cannot load X11 rgb.txt database
t/99pod.t ........... ok
All tests successful.
Files=19, Tests=432, 6 wallclock secs ( 0.05 usr 0.51 sys + 1.20 cusr 4.76 csys = 6.52 CPU)
Result: PASS
------------------------------
PREREQUISITES
------------------------------
Prerequisite modules loaded:
requires:
Module Need Have
------------------- ---- --------
List::UtilsBy 0 0.11
Module::Pluggable 0 5.2
build_requires:
Module Need Have
------------------- ---- --------
Test::More 0.88 1.302128
Test::Number::Delta 0 1.06
------------------------------
ENVIRONMENT AND OTHER CONTEXT
------------------------------
Environment variables:
LC_ALL = C
NONINTERACTIVE_TESTING = 1
PATH = /home/cpan/bin/perl-blead/bin:/home/cpan/bin/perl-blead/bin:/home/cpan/bin:/home/cpan/bin:/bin:/sbin:/usr/bin:/usr/sbin:/usr/X11R7/bin:/usr/X11R6/bin:/usr/pkg/bin:/usr/pkg/sbin:/usr/games:/usr/local/bin:/usr/local/sbin
PERL5LIB =
PERL5OPT =
PERL5_CPANPLUS_IS_RUNNING = 13818
PERL5_CPAN_IS_RUNNING = 13818
PERL_MM_USE_DEFAULT = 1
PERL_USE_UNSAFE_INC = 1
PERL_VERSION = blead
SHELL = /usr/pkg/bin/bash
TERM = screen
TMPDIR = /home/cpan/tmp
Perl special variables (and OS-specific diagnostics, for MSWin32):
$^X = /home/cpan/bin/perl-blead/bin/perl5.27.10
$UID/$EUID = 1001 / 1001
$GID = 100 100
$EGID = 100 100
Perl module toolchain versions installed:
Module Have
------------------- --------
CPAN 2.20
CPAN::Meta 2.150010
Cwd 3.74
ExtUtils::CBuilder 0.280230
ExtUtils::Command 7.33_03
ExtUtils::Install 2.14
ExtUtils::MakeMaker 7.33_03
ExtUtils::Manifest 1.70
ExtUtils::ParseXS 3.39
File::Spec 3.74
JSON 2.97001
JSON::PP 2.97001
Module::Build 0.4224
Module::Signature n/a
Parse::CPAN::Meta 2.150010
Test::Harness 3.41
Test::More 1.302128
YAML 1.24
YAML::Syck n/a
version 0.9918
--
Summary of my perl5 (revision 5 version 27 subversion 10) configuration:
Commit id: 49ea76a70e8a4984b7d555bfbac872c0624b858c
Platform:
osname=netbsd
osvers=6.1.5
archname=amd64-netbsd
uname='netbsd cjg-netbsd6 6.1.5 netbsd 6.1.5 (generic) amd64 '
config_args='-des -Dprefix=~/bin/perl-blead -Dscriptdir=~/bin/perl-blead/bin -Dusedevel -Duse64bitall'
hint=recommended
useposix=true
d_sigaction=define
useithreads=undef
usemultiplicity=undef
use64bitint=define
use64bitall=define
uselongdouble=undef
usemymalloc=n
default_inc_excludes_dot=define
bincompat5005=undef
Compiler:
cc='cc'
ccflags ='-fwrapv -fno-strict-aliasing -pipe -fstack-protector -I/usr/pkg/include -D_FORTIFY_SOURCE=2'
optimize='-O'
cppflags='-fwrapv -fno-strict-aliasing -pipe -fstack-protector -I/usr/pkg/include'
ccversion=''
gccversion='4.5.3'
gccosandvers=''
intsize=4
longsize=8
ptrsize=8
doublesize=8
byteorder=12345678
doublekind=3
d_longlong=define
longlongsize=8
d_longdbl=define
longdblsize=16
longdblkind=3
ivtype='long'
ivsize=8
nvtype='double'
nvsize=8
Off_t='off_t'
lseeksize=8
alignbytes=8
prototype=define
Linker and Libraries:
ld='cc'
ldflags =' -Wl,-rpath,/usr/pkg/lib -Wl,-rpath,/usr/local/lib -fstack-protector -L/usr/pkg/lib'
libpth=/usr/include/gcc-4.5 /usr/lib /usr/pkg/lib /lib
libs=-lpthread -lm -lcrypt -lutil -lc -lposix
perllibs=-lpthread -lm -lcrypt -lutil -lc -lposix
libc=/lib/libc.so
so=so
useshrplib=false
libperl=libperl.a
gnulibc_version=''
Dynamic Linking:
dlsrc=dl_dlopen.xs
dlext=so
d_dlsymun=undef
ccdlflags='-Wl,-E '
cccdlflags='-DPIC -fPIC '
lddlflags='--whole-archive -shared -L/usr/pkg/lib -fstack-protector'
Characteristics of this binary (from libperl):
Compile-time options:
HAS_TIMES
PERLIO_LAYERS
PERL_COPY_ON_WRITE
PERL_DONT_CREATE_GVSV
PERL_MALLOC_WRAP
PERL_OP_PARENT
PERL_PRESERVE_IVUV
PERL_USE_DEVEL
USE_64_BIT_ALL
USE_64_BIT_INT
USE_LARGE_FILES
USE_LOCALE
USE_LOCALE_COLLATE
USE_LOCALE_CTYPE
USE_LOCALE_NUMERIC
USE_LOCALE_TIME
USE_PERLIO
USE_PERL_ATOF
Built under netbsd
Compiled at Mar 6 2018 10:08:25
%ENV:
PERL5LIB=""
PERL5OPT=""
PERL5_CPANPLUS_IS_RUNNING="13818"
PERL5_CPAN_IS_RUNNING="13818"
PERL_MM_USE_DEFAULT="1"
PERL_USE_UNSAFE_INC="1"
PERL_VERSION="blead"
@INC:
/home/cpan/bin/perl-blead/lib/site_perl/5.27.10/amd64-netbsd
/home/cpan/bin/perl-blead/lib/site_perl/5.27.10
/home/cpan/bin/perl-blead/lib/5.27.10/amd64-netbsd
/home/cpan/bin/perl-blead/lib/5.27.10
.