Net-Statsd-Server v0.20 Perl 5 v5.43.3 x86_64-linux-thread-multi

Status
Pass
From
Carlos Guevara
Dist
Net-Statsd-Server v0.20
Platform
Perl 5 v5.43.3 x86_64-linux-thread-multi
Date
2025-09-22 15:21:59
ID
e1e974be-97c7-11f0-b838-b06b03735080
This distribution has been tested as part of the CPAN Testers
project, supporting the Perl programming language.  See
http://wiki.cpantesters.org/ for more information or email
questions to cpan-testers-discuss@perl.org


--
Dear Cosimo Streppone,

This is a computer-generated report for Net-Statsd-Server-0.20
on perl 5.43.3, created by CPAN-Reporter-1.2020.

Thank you for uploading your work to CPAN.  Congratulations!
All tests were successful.

Sections of this report:

    * Tester comments
    * Program output
    * Prerequisites
    * Environment and other context

------------------------------
TESTER COMMENTS
------------------------------

Additional comments from tester:

this report is from an automated smoke testing program
and was not reviewed by a human for accuracy

------------------------------
PROGRAM OUTPUT
------------------------------

Output from '/usr/bin/make test':

PERL_DL_NONLAZY=1 "/home/cpan/bin/perl/bin/perl5.43.3" "-MExtUtils::Command::MM" "-MTest::Harness" "-e" "undef *Test::Harness::Switches; test_harness(0, 'blib/lib', 'blib/arch')" t/*.t t/integration-tests/*.t
t/000-sanity.t ............................. ok
t/config.t ................................. ok
t/graphite.t ............................... ok
2025-09-22 11:21:48.000000 -0400 note  Net::Statsd::Server: Initializing Net::Statsd::Server::Backend::Console backend
2025-09-22 11:21:48.000000 -0400 note  Net::Statsd::Server: Initializing Net::Statsd::Server::Backend::Graphite backend
2025-09-22 11:21:48.000000 -0400 info  AnyEvent: Autoloaded model 'AnyEvent::Impl::Perl', using it.
2025-09-22 11:21:48.291531 -0400 note  Net::Statsd::Server: statsd server started on 0.0.0.0:40001 (v0.17)
2025-09-22 11:21:48.291610 -0400 note  Net::Statsd::Server: manager interface started on 0.0.0.0:40002
2025-09-22 11:21:48.291656 -0400 note  Net::Statsd::Server: metrics flush will happen every 1s
2025-09-22 11:21:48.739016 -0400 warn  Net::Statsd::Server: Bad line: 1 in msg "a_bad_test_value|z"
2025-09-22 11:21:49.292578 -0400 note  Net::Statsd::Server: flushing metrics
Flushing stats at Mon Sep 22 11:21:49 2025
{"sets":null,"counter_rates":{"statsd.packets_received":1,"statsd.bad_lines_seen":1},"counters":{"statsd.packets_received":1,"statsd.bad_lines_seen":1},"pctThreshold":[90],"gauges":{},"timers":{},"timer_data":{}}
t/integration-tests/bad-message.t .......... ok
2025-09-22 11:21:49.000000 -0400 note  Net::Statsd::Server: Initializing Net::Statsd::Server::Backend::Console backend
2025-09-22 11:21:49.000000 -0400 note  Net::Statsd::Server: Initializing Net::Statsd::Server::Backend::Graphite backend
2025-09-22 11:21:49.000000 -0400 info  AnyEvent: Autoloaded model 'AnyEvent::Impl::Perl', using it.
2025-09-22 11:21:49.452497 -0400 note  Net::Statsd::Server: statsd server started on 0.0.0.0:40001 (v0.17)
2025-09-22 11:21:49.452518 -0400 note  Net::Statsd::Server: manager interface started on 0.0.0.0:40002
2025-09-22 11:21:49.452539 -0400 note  Net::Statsd::Server: metrics flush will happen every 1s
2025-09-22 11:21:50.453541 -0400 note  Net::Statsd::Server: flushing metrics
Flushing stats at Mon Sep 22 11:21:50 2025
{"sets":null,"counter_rates":{"statsd.packets_received":1,"statsd.bad_lines_seen":0,"a_test_value":100},"pctThreshold":[90],"timer_data":{},"gauges":{},"timers":{},"counters":{"statsd.packets_received":1,"statsd.bad_lines_seen":0,"a_test_value":100}}
# stats.counters.statsd.packets_received.rate 1.000000 1758554510
# stats.counters.statsd.packets_received.count 1 1758554510
# stats.counters.statsd.bad_lines_seen.rate 0.000000 1758554510
# stats.counters.statsd.bad_lines_seen.count 0 1758554510
# stats.counters.a_test_value.rate 100.000000 1758554510
# stats.counters.a_test_value.count 100 1758554510
# stats.statsd.numStats 3 1758554510
# stats.statsd.graphiteStats.calculationtime 0.071000 1758554510
# stats.statsd.processing_time 0.036 1758554510
# stats.statsd.graphiteStats.last_exception 139759678634680 1758554510
# stats.statsd.graphiteStats.last_flush 139759678634680 1758554510
t/integration-tests/counts-are-valid.t ..... ok
2025-09-22 11:21:50.000000 -0400 note  Net::Statsd::Server: Initializing Net::Statsd::Server::Backend::Graphite backend
2025-09-22 11:21:50.000000 -0400 info  AnyEvent: Autoloaded model 'AnyEvent::Impl::Perl', using it.
2025-09-22 11:21:50.610608 -0400 note  Net::Statsd::Server: statsd server started on 0.0.0.0:40001 (v0.17)
2025-09-22 11:21:50.610687 -0400 note  Net::Statsd::Server: manager interface started on 0.0.0.0:40002
2025-09-22 11:21:50.610733 -0400 note  Net::Statsd::Server: metrics flush will happen every 1s
2025-09-22 11:21:51.611632 -0400 note  Net::Statsd::Server: flushing metrics
# First flush. Test gauge should be there.
2025-09-22 11:21:52.612081 -0400 note  Net::Statsd::Server: flushing metrics
# Second flush. deleteGauges=false should keep the test gauge.
t/integration-tests/delete-gauges-false.t .. ok
2025-09-22 11:21:52.000000 -0400 note  Net::Statsd::Server: Initializing Net::Statsd::Server::Backend::Graphite backend
2025-09-22 11:21:52.000000 -0400 info  AnyEvent: Autoloaded model 'AnyEvent::Impl::Perl', using it.
2025-09-22 11:21:52.803842 -0400 note  Net::Statsd::Server: statsd server started on 0.0.0.0:40001 (v0.17)
2025-09-22 11:21:52.803958 -0400 note  Net::Statsd::Server: manager interface started on 0.0.0.0:40002
2025-09-22 11:21:52.804016 -0400 note  Net::Statsd::Server: metrics flush will happen every 1s
2025-09-22 11:21:53.804765 -0400 note  Net::Statsd::Server: flushing metrics
# First flush. Test gauge should be there.
2025-09-22 11:21:54.805186 -0400 note  Net::Statsd::Server: flushing metrics
# Second flush. deleteIdleStats should have cleared the test gauge.
t/integration-tests/delete-idle-stats.t .... ok
2025-09-22 11:21:54.000000 -0400 note  Net::Statsd::Server: Initializing Net::Statsd::Server::Backend::Console backend
2025-09-22 11:21:54.000000 -0400 note  Net::Statsd::Server: Initializing Net::Statsd::Server::Backend::Graphite backend
2025-09-22 11:21:54.000000 -0400 info  AnyEvent: Autoloaded model 'AnyEvent::Impl::Perl', using it.
2025-09-22 11:21:54.965929 -0400 note  Net::Statsd::Server: statsd server started on 0.0.0.0:40001 (v0.17)
2025-09-22 11:21:54.965953 -0400 note  Net::Statsd::Server: manager interface started on 0.0.0.0:40002
2025-09-22 11:21:54.965975 -0400 note  Net::Statsd::Server: metrics flush will happen every 1s
2025-09-22 11:21:55.967053 -0400 note  Net::Statsd::Server: flushing metrics
Flushing stats at Mon Sep 22 11:21:55 2025
{"counter_rates":{"statsd.bad_lines_seen":0,"statsd.packets_received":1,"a_test_value,category=web,severity=high":100},"counters":{"statsd.bad_lines_seen":0,"a_test_value,category=web,severity=high":100,"statsd.packets_received":1},"gauges":{},"sets":null,"timers":{},"timer_data":{},"pctThreshold":[90]}
# stats.counters.statsd.bad_lines_seen.rate 0.000000 1758554515
# stats.counters.statsd.bad_lines_seen.count 0 1758554515
# stats.counters.a_test_value,category=web,severity=high.rate 100.000000 1758554515
# stats.counters.a_test_value,category=web,severity=high.count 100 1758554515
# stats.counters.statsd.packets_received.rate 1.000000 1758554515
# stats.counters.statsd.packets_received.count 1 1758554515
# stats.statsd.numStats 3 1758554515
# stats.statsd.graphiteStats.calculationtime 0.068000 1758554515
# stats.statsd.processing_time 0.036 1758554515
# stats.statsd.graphiteStats.last_exception 139877865167544 1758554515
# stats.statsd.graphiteStats.last_flush 139877865167544 1758554515
t/integration-tests/keys-with-tags.t ....... ok
2025-09-22 11:21:56.000000 -0400 note  Net::Statsd::Server: Initializing Net::Statsd::Server::Backend::Graphite backend
2025-09-22 11:21:56.000000 -0400 info  AnyEvent: Autoloaded model 'AnyEvent::Impl::Perl', using it.
2025-09-22 11:21:56.126221 -0400 note  Net::Statsd::Server: statsd server started on 0.0.0.0:40001 (v0.17)
2025-09-22 11:21:56.126245 -0400 note  Net::Statsd::Server: manager interface started on 0.0.0.0:40002
2025-09-22 11:21:56.126267 -0400 note  Net::Statsd::Server: metrics flush will happen every 1s
# Expected mean value is 2006.53
2025-09-22 11:21:57.127304 -0400 note  Net::Statsd::Server: flushing metrics
# stats.counters.statsd.bad_lines_seen.rate 0.000000 1758554517
# stats.counters.statsd.bad_lines_seen.count 0 1758554517
# stats.counters.statsd.packets_received.rate 100.000000 1758554517
# stats.counters.statsd.packets_received.count 100 1758554517
# stats.timers.read_latency.count_95 95.000000 1758554517
# stats.timers.read_latency.mean_95 1957.389474 1758554517
# stats.timers.read_latency.count_ps 100.000000 1758554517
# stats.timers.read_latency.median 1923.500000 1758554517
# stats.timers.read_latency.sum_squares_95 397271328.000000 1758554517
# stats.timers.read_latency.sum_98 194725.000000 1758554517
# stats.timers.read_latency.count_98 98.000000 1758554517
# stats.timers.read_latency.sum_95 185952.000000 1758554517
# stats.timers.read_latency.upper 2974.000000 1758554517
# stats.timers.read_latency.sum 200653.000000 1758554517
# stats.timers.read_latency.count_99 99.000000 1758554517
# stats.timers.read_latency.lower 1010.000000 1758554517
# stats.timers.read_latency.sum_squares_99 431652863.000000 1758554517
# stats.timers.read_latency.sum_squares_98 422926747.000000 1758554517
# stats.timers.read_latency.upper_99 2954.000000 1758554517
# stats.timers.read_latency.mean_98 1986.989796 1758554517
# stats.timers.read_latency.mean 2006.530000 1758554517
# stats.timers.read_latency.sum_squares 440497539.000000 1758554517
# stats.timers.read_latency.sum_99 197679.000000 1758554517
# stats.timers.read_latency.count 100.000000 1758554517
# stats.timers.read_latency.mean_99 1996.757576 1758554517
# stats.timers.read_latency.upper_98 2937.000000 1758554517
# stats.timers.read_latency.upper_95 2911.000000 1758554517
# stats.timers.read_latency.std 615.477659 1758554517
# stats.statsd.numStats 3 1758554517
# stats.statsd.graphiteStats.calculationtime 0.376000 1758554517
# stats.statsd.processing_time 0.636 1758554517
# stats.statsd.graphiteStats.last_exception 140455752948408 1758554517
# stats.statsd.graphiteStats.last_flush 140455752948408 1758554517
t/integration-tests/percent-threshold.t .... ok
2025-09-22 11:21:57.000000 -0400 note  Net::Statsd::Server: Initializing Net::Statsd::Server::Backend::Console backend
2025-09-22 11:21:57.000000 -0400 note  Net::Statsd::Server: Initializing Net::Statsd::Server::Backend::Graphite backend
2025-09-22 11:21:57.000000 -0400 info  AnyEvent: Autoloaded model 'AnyEvent::Impl::Perl', using it.
2025-09-22 11:21:57.290323 -0400 note  Net::Statsd::Server: statsd server started on 0.0.0.0:40001 (v0.17)
2025-09-22 11:21:57.290396 -0400 note  Net::Statsd::Server: manager interface started on 0.0.0.0:40002
2025-09-22 11:21:57.290443 -0400 note  Net::Statsd::Server: metrics flush will happen every 1s
2025-09-22 11:21:58.291234 -0400 note  Net::Statsd::Server: flushing metrics
Flushing stats at Mon Sep 22 11:21:58 2025
{"counters":{"statsd.packets_received":1,"statsd.bad_lines_seen":0},"sets":null,"counter_rates":{"statsd.packets_received":1,"statsd.bad_lines_seen":0},"gauges":{},"pctThreshold":["90"],"timers":{"a_test_value":["100"]},"timer_data":{"a_test_value":{"sum_90":"100","sum_squares":10000,"upper":"100","median":"100","sum":"100","count_90":1,"count_ps":1,"mean_90":"100","count":1,"mean":100,"upper_90":"100","sum_squares_90":10000,"lower":"100","std":0}}}
# stats.counters.statsd.packets_received.rate 1.000000 1758554518
# stats.counters.statsd.packets_received.count 1 1758554518
# stats.counters.statsd.bad_lines_seen.rate 0.000000 1758554518
# stats.counters.statsd.bad_lines_seen.count 0 1758554518
# stats.timers.a_test_value.sum_90 100.000000 1758554518
# stats.timers.a_test_value.sum_squares 10000.000000 1758554518
# stats.timers.a_test_value.upper 100.000000 1758554518
# stats.timers.a_test_value.median 100.000000 1758554518
# stats.timers.a_test_value.sum 100.000000 1758554518
# stats.timers.a_test_value.count_90 1.000000 1758554518
# stats.timers.a_test_value.count_ps 1.000000 1758554518
# stats.timers.a_test_value.mean_90 100.000000 1758554518
# stats.timers.a_test_value.count 1.000000 1758554518
# stats.timers.a_test_value.mean 100.000000 1758554518
# stats.timers.a_test_value.upper_90 100.000000 1758554518
# stats.timers.a_test_value.sum_squares_90 10000.000000 1758554518
# stats.timers.a_test_value.lower 100.000000 1758554518
# stats.timers.a_test_value.std 0.000000 1758554518
# stats.statsd.numStats 3 1758554518
# stats.statsd.graphiteStats.calculationtime 0.089000 1758554518
# stats.statsd.processing_time 0.084 1758554518
# stats.statsd.graphiteStats.last_exception 140462785444536 1758554518
# stats.statsd.graphiteStats.last_flush 140462785444536 1758554518
t/integration-tests/timers-are-valid.t ..... ok
t/process-metrics.t ........................ ok
t/trim.t ................................... ok
All tests successful.
Files=12, Tests=92, 11 wallclock secs ( 0.04 usr  0.04 sys +  0.91 cusr  0.19 csys =  1.18 CPU)
Result: PASS

------------------------------
PREREQUISITES
------------------------------

Prerequisite modules loaded:

requires:

    Module                Need Have    
    --------------------- ---- --------
    AnyEvent::Handle::UDP 0    0.050   
    IO::Socket::INET      0    1.55    
    JSON::XS              0    4.04    

build_requires:

    Module                Need Have    
    --------------------- ---- --------
    ExtUtils::MakeMaker   0    7.76    
    Test::More            0    1.302214

configure_requires:

    Module                Need Have    
    --------------------- ---- --------
    ExtUtils::MakeMaker   0    7.76    


------------------------------
ENVIRONMENT AND OTHER CONTEXT
------------------------------

Environment variables:

    AUTOMATED_TESTING = 1
    DATE_MANIP_TEST_DM5 = 1
    LANG = C.UTF-8
    LC_COLLATE = C
    NONINTERACTIVE_TESTING = 1
    NO_NETWORK_TESTING = 1
    PATH = /home/cpan/bin/perl/bin:/usr/local/sbin:/usr/local/bin:/usr/sbin:/usr/bin:/sbin:/bin
    PERL5LIB = 
    PERL5OPT = 
    PERL5_CPANPLUS_IS_RUNNING = 2230
    PERL5_CPAN_IS_RUNNING = 2230
    PERL_MM_USE_DEFAULT = 1
    PERL_PERTURB_KEYS = 0
    PERL_USE_UNSAFE_INC = 1
    SHELL = /bin/bash
    TERM = screen

Perl special variables (and OS-specific diagnostics, for MSWin32):

    $^X = /home/cpan/bin/perl/bin/perl5.43.3
    $UID/$EUID = 1001 / 1001
    $GID = 1001 1001
    $EGID = 1001 1001

Perl module toolchain versions installed:

    Module              Have    
    ------------------- --------
    CPAN                2.38    
    CPAN::Meta          2.150010
    Cwd                 3.94    
    ExtUtils::CBuilder  0.280242
    ExtUtils::Command   7.76    
    ExtUtils::Install   2.22    
    ExtUtils::MakeMaker 7.76    
    ExtUtils::Manifest  1.75    
    ExtUtils::ParseXS   3.60    
    File::Spec          3.94    
    JSON                4.10    
    JSON::PP            4.16    
    Module::Build       0.4234  
    Module::Signature   n/a     
    Parse::CPAN::Meta   2.150010
    Test2               1.302214
    Test::Harness       3.52    
    Test::More          1.302214
    YAML                1.31    
    YAML::Syck          1.34    
    version             0.9933  


--

Summary of my perl5 (revision 5 version 43 subversion 3) configuration:
  Commit id: bc675a263c13b6bbf3598a088c5d5c3414bb2903
  Platform:
    osname=linux
    osvers=6.12.47-0-lts
    archname=x86_64-linux-thread-multi
    uname='linux cjg-alpine3 6.12.47-0-lts #1-alpine smp preempt_dynamic 2025-09-12 07:07:11 x86_64 linux '
    config_args='-des -Dprefix=/home/cpan/bin/perl -Dscriptdir=/home/cpan/bin/perl/bin -Dusedevel -Duse64bitall -Duseithreads'
    hint=recommended
    useposix=true
    d_sigaction=define
    useithreads=define
    usemultiplicity=define
    use64bitint=define
    use64bitall=define
    uselongdouble=undef
    usemymalloc=n
    default_inc_excludes_dot=define
  Compiler:
    cc='cc'
    ccflags ='-D_REENTRANT -D_GNU_SOURCE -D_GNU_SOURCE -fwrapv -fno-strict-aliasing -pipe -fstack-protector-strong -D_LARGEFILE_SOURCE -D_FILE_OFFSET_BITS=64'
    optimize='-O2'
    cppflags='-D_REENTRANT -D_GNU_SOURCE -D_GNU_SOURCE -fwrapv -fno-strict-aliasing -pipe -fstack-protector-strong'
    ccversion=''
    gccversion='14.2.0'
    gccosandvers=''
    intsize=4
    longsize=8
    ptrsize=8
    doublesize=8
    byteorder=12345678
    doublekind=3
    d_longlong=define
    longlongsize=8
    d_longdbl=define
    longdblsize=16
    longdblkind=3
    ivtype='long'
    ivsize=8
    nvtype='double'
    nvsize=8
    Off_t='off_t'
    lseeksize=8
    alignbytes=8
    prototype=define
  Linker and Libraries:
    ld='cc'
    ldflags =' -fstack-protector-strong -L/usr/local/lib'
    libpth=/usr/lib /usr/local/lib /lib
    libs=-lpthread -lgdbm -ldb -ldl -lm -lcrypt -lutil -lc -lgdbm_compat
    perllibs=-lpthread -ldl -lm -lcrypt -lutil -lc
    libc=/usr/lib/libc.a
    so=so
    useshrplib=false
    libperl=libperl.a
    gnulibc_version=''
  Dynamic Linking:
    dlsrc=dl_dlopen.xs
    dlext=so
    d_dlsymun=undef
    ccdlflags='-Wl,-E'
    cccdlflags='-fPIC'
    lddlflags='-shared -O2 -L/usr/local/lib -fstack-protector-strong'


Characteristics of this binary (from libperl): 
  Compile-time options:
    HAS_LONG_DOUBLE
    HAS_STRTOLD
    HAS_TIMES
    MULTIPLICITY
    PERLIO_LAYERS
    PERL_COPY_ON_WRITE
    PERL_DONT_CREATE_GVSV
    PERL_HASH_FUNC_SIPHASH13
    PERL_HASH_USE_SBOX32
    PERL_MALLOC_WRAP
    PERL_OP_PARENT
    PERL_PRESERVE_IVUV
    PERL_USE_DEVEL
    PERL_USE_SAFE_PUTENV
    USE_64_BIT_ALL
    USE_64_BIT_INT
    USE_ITHREADS
    USE_LARGE_FILES
    USE_LOCALE
    USE_LOCALE_COLLATE
    USE_LOCALE_CTYPE
    USE_LOCALE_NUMERIC
    USE_LOCALE_TIME
    USE_PERLIO
    USE_PERL_ATOF
    USE_REENTRANT_API
    USE_THREAD_SAFE_LOCALE
  Built under linux
  Compiled at Sep 21 2025 23:19:57
  %ENV:
    PERL5LIB=""
    PERL5OPT=""
    PERL5_CPANPLUS_IS_RUNNING="2230"
    PERL5_CPAN_IS_RUNNING="2230"
    PERL_MM_USE_DEFAULT="1"
    PERL_PERTURB_KEYS="0"
    PERL_USE_UNSAFE_INC="1"
  @INC:
    /home/cpan/bin/perl/lib/site_perl/5.43.3/x86_64-linux-thread-multi
    /home/cpan/bin/perl/lib/site_perl/5.43.3
    /home/cpan/bin/perl/lib/5.43.3/x86_64-linux-thread-multi
    /home/cpan/bin/perl/lib/5.43.3
    .