Catmandu v1.2019 Perl 5 v5.24.0 x86_64-linux

Status
Pass
From
Slaven Rezić
Dist
Catmandu v1.2019
Platform
Perl 5 v5.24.0 x86_64-linux
Date
2022-03-21 15:59:26
ID
e1f09472-a92f-11ec-b02b-d2751f24ea8f
This distribution has been tested as part of the CPAN Testers
project, supporting the Perl programming language.  See
http://wiki.cpantesters.org/ for more information or email
questions to cpan-testers-discuss@perl.org


--
Dear Nicolas Steenlant,

This is a computer-generated report for Catmandu-1.2019
on perl 5.24.0, created by CPAN-Reporter-1.2018.

Thank you for uploading your work to CPAN.  Congratulations!
All tests were successful.

Sections of this report:

    * Tester comments
    * Program output
    * Prerequisites
    * Environment and other context

------------------------------
TESTER COMMENTS
------------------------------

Additional comments from tester:

none provided

------------------------------
PROGRAM OUTPUT
------------------------------

Output from './Build test':

* WARNING: Configuration was initially created with Module::Build
  version '0.422' but we are now using version '0.4231'.
  If errors occur, you must re-run the Build.PL or Makefile.PL script.
t/Catmandu-Addable.t ..................... ok
t/Catmandu-ArrayIterator.t ............... ok
t/Catmandu-Bag.t ......................... ok
t/Catmandu-Buffer.t ...................... ok
t/Catmandu-CLI.t ......................... ok
t/Catmandu-CQLSearchable.t ............... ok
t/Catmandu-Cmd-compile.t ................. ok
t/Catmandu-Cmd-config.t .................. ok
t/Catmandu-Cmd-convert.t ................. ok
t/Catmandu-Cmd-copy.t .................... ok
t/Catmandu-Cmd-count.t ................... ok
t/Catmandu-Cmd-delete.t .................. ok
t/Catmandu-Cmd-export.t .................. ok
t/Catmandu-Cmd-help.t .................... ok
t/Catmandu-Cmd-import.t .................. ok
t/Catmandu-Cmd-info.t .................... ok
t/Catmandu-Cmd-run.t ..................... ok
t/Catmandu-Cmd-touch.t ................... ok
t/Catmandu-Cmd.t ......................... ok
t/Catmandu-Counter.t ..................... ok
t/Catmandu-Env.t ......................... ok
t/Catmandu-Error.t ....................... ok
t/Catmandu-Exporter-CSV.t ................ ok
t/Catmandu-Exporter-Count.t .............. ok
t/Catmandu-Exporter-JSON.t ............... ok
t/Catmandu-Exporter-Mock.t ............... ok
t/Catmandu-Exporter-Multi.t .............. ok
t/Catmandu-Exporter-Null.t ............... ok
t/Catmandu-Exporter-TSV.t ................ ok
t/Catmandu-Exporter-Text.t ............... ok
t/Catmandu-Exporter-YAML.t ............... ok
t/Catmandu-Exporter.t .................... ok
t/Catmandu-Fix-Base.t .................... ok
t/Catmandu-Fix-Bind-Group.t .............. ok
t/Catmandu-Fix-Bind-benchmark.t .......... ok
t/Catmandu-Fix-Bind-each.t ............... ok
t/Catmandu-Fix-Bind-hashmap.t ............ ok
t/Catmandu-Fix-Bind-identity.t ........... ok
t/Catmandu-Fix-Bind-importer.t ........... ok
t/Catmandu-Fix-Bind-iterate.t ............ ok
t/Catmandu-Fix-Bind-list.t ............... ok
t/Catmandu-Fix-Bind-maybe.t .............. ok
t/Catmandu-Fix-Bind-timeout.t ............ ok
t/Catmandu-Fix-Bind-visitor.t ............ ok
t/Catmandu-Fix-Bind-with.t ............... ok
t/Catmandu-Fix-Bind.t .................... ok
t/Catmandu-Fix-Condition-all_equal.t ..... ok
t/Catmandu-Fix-Condition-all_match.t ..... ok
t/Catmandu-Fix-Condition-any_equal.t ..... ok
t/Catmandu-Fix-Condition-any_match.t ..... ok
t/Catmandu-Fix-Condition-exists.t ........ ok
t/Catmandu-Fix-Condition-greater_than.t .. ok
t/Catmandu-Fix-Condition-in.t ............ ok
t/Catmandu-Fix-Condition-is_array.t ...... ok
t/Catmandu-Fix-Condition-is_false.t ...... ok
t/Catmandu-Fix-Condition-is_null.t ....... ok
t/Catmandu-Fix-Condition-is_number.t ..... ok
t/Catmandu-Fix-Condition-is_object.t ..... ok
t/Catmandu-Fix-Condition-is_string.t ..... ok
t/Catmandu-Fix-Condition-is_true.t ....... ok
t/Catmandu-Fix-Condition-less_than.t ..... ok
t/Catmandu-Fix-Condition-valid.t ......... ok
t/Catmandu-Fix-Condition.t ............... ok
t/Catmandu-Fix-Inlineable.t .............. ok
t/Catmandu-Fix-Parser.t .................. ok
t/Catmandu-Fix-add_field.t ............... ok
t/Catmandu-Fix-add_to_exporter.t ......... ok
t/Catmandu-Fix-add_to_store.t ............ ok
t/Catmandu-Fix-append.t .................. ok
t/Catmandu-Fix-array.t ................... ok
t/Catmandu-Fix-assoc.t ................... ok
t/Catmandu-Fix-capitalize.t .............. ok
t/Catmandu-Fix-clone.t ................... ok
t/Catmandu-Fix-code.t .................... ok
t/Catmandu-Fix-collapse.t ................ ok
t/Catmandu-Fix-compact.t ................. ok
t/Catmandu-Fix-copy.t .................... ok
t/Catmandu-Fix-copy_field.t .............. ok
t/Catmandu-Fix-count.t ................... ok
t/Catmandu-Fix-cp.t ...................... ok
t/Catmandu-Fix-disassoc.t ................ ok
t/Catmandu-Fix-downcase.t ................ ok
t/Catmandu-Fix-error.t ................... ok
t/Catmandu-Fix-eval.t .................... ok
t/Catmandu-Fix-expand.t .................. ok
t/Catmandu-Fix-expand_date.t ............. ok
t/Catmandu-Fix-export_to_string.t ........ ok
t/Catmandu-Fix-filter.t .................. ok
t/Catmandu-Fix-flatten.t ................. ok
t/Catmandu-Fix-format.t .................. ok
t/Catmandu-Fix-from_json.t ............... ok
t/Catmandu-Fix-hash.t .................... ok
t/Catmandu-Fix-import_from_string.t ...... ok
t/Catmandu-Fix-include.t ................. ok
t/Catmandu-Fix-index.t ................... ok
t/Catmandu-Fix-int.t ..................... ok
t/Catmandu-Fix-join_field.t .............. ok
t/Catmandu-Fix-log.t ..................... ok
t/Catmandu-Fix-lookup.t .................. ok
t/Catmandu-Fix-lookup_in_store.t ......... ok
t/Catmandu-Fix-mapping.t ................. ok
t/Catmandu-Fix-move.t .................... ok
t/Catmandu-Fix-move_field.t .............. ok
t/Catmandu-Fix-mv.t ...................... ok
t/Catmandu-Fix-nothing.t ................. ok
t/Catmandu-Fix-parse_text.t .............. ok
t/Catmandu-Fix-paste.t ................... ok
t/Catmandu-Fix-perlcode.t ................ ok
t/Catmandu-Fix-prepend.t ................. ok
t/Catmandu-Fix-random.t .................. ok
t/Catmandu-Fix-reject.t .................. ok
t/Catmandu-Fix-remove.t .................. ok
t/Catmandu-Fix-remove_field.t ............ ok
t/Catmandu-Fix-rename.t .................. ok
t/Catmandu-Fix-replace_all.t ............. ok
t/Catmandu-Fix-retain.t .................. ok
t/Catmandu-Fix-retain_field.t ............ ok
t/Catmandu-Fix-reverse.t ................. ok
t/Catmandu-Fix-rm.t ...................... ok
t/Catmandu-Fix-search_in_store.t ......... ok
t/Catmandu-Fix-set_array.t ............... ok
t/Catmandu-Fix-set_field.t ............... ok
t/Catmandu-Fix-set_hash.t ................ ok
t/Catmandu-Fix-sleep.t ................... ok
t/Catmandu-Fix-sort_field.t .............. ok
t/Catmandu-Fix-split_field.t ............. ok
t/Catmandu-Fix-string.t .................. ok
t/Catmandu-Fix-substring.t ............... ok
t/Catmandu-Fix-sum.t ..................... ok
t/Catmandu-Fix-to_json.t ................. ok
t/Catmandu-Fix-trim.t .................... ok
t/Catmandu-Fix-uniq.t .................... ok
t/Catmandu-Fix-upcase.t .................. ok
t/Catmandu-Fix-uri_decode.t .............. ok
t/Catmandu-Fix-uri_encode.t .............. ok
t/Catmandu-Fix-uri_encode_decode.t ....... ok
t/Catmandu-Fix-vacuum.t .................. ok
t/Catmandu-Fix-validate.t ................ ok
t/Catmandu-Fix.t ......................... ok
t/Catmandu-Fixable.t ..................... ok
t/Catmandu-Flushable.t ................... ok
t/Catmandu-Hits.t ........................ ok
t/Catmandu-IdGenerator-Mock.t ............ ok
t/Catmandu-IdGenerator-UUID.t ............ ok
t/Catmandu-IdGenerator.t ................. ok
t/Catmandu-Importer-CSV.t ................ ok
t/Catmandu-Importer-JSON.t ............... ok
t/Catmandu-Importer-Mock.t ............... ok
t/Catmandu-Importer-Modules.t ............ ok
t/Catmandu-Importer-Multi.t .............. ok
t/Catmandu-Importer-TSV.t ................ ok
t/Catmandu-Importer-Text.t ............... ok
t/Catmandu-Importer-YAML.t ............... ok
t/Catmandu-Importer.t .................... ok
t/Catmandu-Interactive.t ................. ok
t/Catmandu-Iterable.t .................... ok
t/Catmandu-IterableOnce.t ................ ok
t/Catmandu-Iterator.t .................... ok
t/Catmandu-MultiIterator.t ............... ok
t/Catmandu-Paged.t ....................... ok
t/Catmandu-Path-simple.t ................. ok
t/Catmandu-Pluggable.t ................... ok
t/Catmandu-Plugin-Datestamps.t ........... ok
t/Catmandu-Plugin-Readonly.t ............. ok
t/Catmandu-Plugin-Versioning.t ........... ok
t/Catmandu-Sane.t ........................ ok
t/Catmandu-Searchable.t .................. ok
t/Catmandu-Serializer.t .................. ok
t/Catmandu-Store-Hash.t .................. ok
t/Catmandu-Store-Multi-Bag.t ............. ok
t/Catmandu-Store-Multi.t ................. ok
t/Catmandu-Store.t ....................... ok
t/Catmandu-Util.t ........................ ok
t/Catmandu-Validator-Mock.t .............. ok
t/Catmandu-Validator-Simple.t ............ ok
t/Catmandu-Validator.t ................... ok
t/Catmandu.t ............................. ok
t/author-pod-syntax.t .................... skipped: these tests are for testing by the author
t/release-perltidy.t ..................... skipped: these tests are for release candidate testing
All tests successful.
Files=179, Tests=2126, 40 wallclock secs ( 0.28 usr  0.17 sys + 23.01 cusr  4.30 csys = 27.76 CPU)
Result: PASS

------------------------------
PREREQUISITES
------------------------------

Prerequisite modules loaded:

requires:

    Module                      Need     Have    
    --------------------------- -------- --------
    Any::URI::Escape            0        0.01    
    App::Cmd                    0.33     0.331   
    asa                         0        1.03    
    CGI::Expand                 2.02     2.05    
    Class::Method::Modifiers    0        2.12    
    Clone                       0.31     0.38    
    Config::Onion               1.004    1.006   
    Cpanel::JSON::XS            3.0213   3.0217  
    Data::Compare               1.22     1.25    
    Data::Util                  0.66     0.67    
    Hash::Merge::Simple         0        0.051   
    HTTP::Request               0        6.11    
    IO::Handle::Util            0.01     0.01    
    List::MoreUtils             0.401    0.430   
    Log::Any                    0        1.042   
    Log::Any::Adapter           0        1.042   
    LWP::UserAgent              0        6.15    
    MIME::Types                 0        2.13    
    Module::Build               0.4229   0.4231  
    Module::Info                0        0.37    
    Moo                         1.004006 2.002004
    MooX::Aliases               0.001006 0.001006
    namespace::clean            0.24     0.27    
    Package::Stash              0        0.37    
    Parser::MGC                 0.21     0.21    
    Path::Iterator::Rule        0        1.012   
    Path::Tiny                  0        0.096   
    perl                        v5.14.0  5.024000
    Role::Tiny                  0        2.000003
    Role::Tiny::With            0        2.000003
    String::CamelCase           0        0.02    
    Sub::Exporter               0.982    0.987   
    Sub::Quote                  0        2.002004
    Text::CSV                   1.21     1.33    
    Text::Hogan::Compiler       1.02     1.03    
    Throwable                   0.200004 0.200013
    Time::HiRes                 0        1.9739  
    Try::Tiny::ByClass          0.01     0.01    
    Unicode::Normalize          0        1.25    
    URI                         0        1.71    
    URI::Template               0.22     0.22    
    UUID::Tiny                  1.04     1.04    
    YAML::XS                    0.83     0.83    

build_requires:

    Module                      Need     Have    
    --------------------------- -------- --------
    Capture::Tiny               0        0.44    
    Log::Any::Adapter::Log4perl 0        0.08    
    Log::Any::Test              1.03     1.042   
    Log::Log4perl               0        1.47    
    Module::Build               0.4229   0.4231  
    Test::Deep                  0.112    1.120   
    Test::Exception             0.43     0.43    
    Test::LWP::UserAgent        0        0.030   
    Test::More                  0.99     1.302052
    Test::Pod                   0        1.51    

configure_requires:

    Module                      Need     Have    
    --------------------------- -------- --------
    Module::Build               0.28     0.4231  


------------------------------
ENVIRONMENT AND OTHER CONTEXT
------------------------------

Environment variables:

    LANG = en_US.UTF-8
    LANGUAGE = en_US:en
    LC_ALL = en_US.UTF-8
    PATH = /usr/local/bin:/usr/bin:/bin:/usr/local/sbin:/usr/sbin:/sbin:/home/cpansand/bin/linux-gnu:/home/cpansand/bin/sh:/home/cpansand/bin:/usr/games:/home/cpansand/devel:/home/eserte/src/srezic-misc/scripts
    PERL5LIB = /home/cpansand/.cpan/build/2022032116/YAML-LibYAML-0.83-2/blib/arch:/home/cpansand/.cpan/build/2022032116/YAML-LibYAML-0.83-2/blib/lib:/home/cpansand/.cpan/build/2022032116/Parser-MGC-0.21-2/blib/arch:/home/cpansand/.cpan/build/2022032116/Parser-MGC-0.21-2/blib/lib:/home/cpansand/.cpan/build/2022032116/Feature-Compat-Try-0.05-2/blib/arch:/home/cpansand/.cpan/build/2022032116/Feature-Compat-Try-0.05-2/blib/lib:/home/cpansand/.cpan/build/2022032116/Syntax-Keyword-Try-0.27-2/blib/arch:/home/cpansand/.cpan/build/2022032116/Syntax-Keyword-Try-0.27-2/blib/lib:/home/cpansand/.cpan/build/2022032116/XS-Parse-Keyword-0.22-2/blib/arch:/home/cpansand/.cpan/build/2022032116/XS-Parse-Keyword-0.22-2/blib/lib:/home/cpansand/.cpan/build/2022032116/ExtUtils-CChecker-0.11-2/blib/arch:/home/cpansand/.cpan/build/2022032116/ExtUtils-CChecker-0.11-2/blib/lib:/home/cpansand/.cpan/build/2022032116/Module-Build-0.4231-2/blib/arch:/home/cpansand/.cpan/build/2022032116/Module-Build-0.4231-2/blib/lib:/home/cpansand/.cpan/build/2022032116/Data-Util-0.67-2/blib/arch:/home/cpansand/.cpan/build/2022032116/Data-Util-0.67-2/blib/lib
    PERL5OPT = 
    PERL5_CPANPLUS_IS_RUNNING = 25680
    PERL5_CPAN_IS_RUNNING = 25680
    PERL5_CPAN_IS_RUNNING_IN_RECURSION = 18549,25680
    PERLDOC = -MPod::Perldoc::ToTextOverstrike
    PERL_BATCH = yes
    PERL_CANARY_STABILITY_NOPROMPT = 1
    PERL_CPAN_REPORTER_CONFIG = /var/tmp/cpansmoker-1023/2022032116/cpanreporter_000_config.ini
    PERL_EXTUTILS_AUTOINSTALL = --defaultdeps
    PERL_USE_UNSAFE_INC = 1
    SHELL = /bin/zsh
    TERM = screen
    TMPDIR = /var/tmp/cpansmoker-1023/2022032116

Perl special variables (and OS-specific diagnostics, for MSWin32):

    $^X = /opt/perl-5.24.0/bin/perl
    $UID/$EUID = 1023 / 1023
    $GID = 1023 1023
    $EGID = 1023 1023

Perl module toolchain versions installed:

    Module              Have    
    ------------------- --------
    CPAN                2.28    
    CPAN::Meta          2.150010
    Cwd                 3.63    
    ExtUtils::CBuilder  0.280225
    ExtUtils::Command   7.24    
    ExtUtils::Install   2.04    
    ExtUtils::MakeMaker 7.24    
    ExtUtils::Manifest  1.70    
    ExtUtils::ParseXS   3.31    
    File::Spec          3.63    
    JSON                2.90    
    JSON::PP            2.27300 
    Module::Build       0.4231  
    Module::Signature   0.80    
    Parse::CPAN::Meta   2.150010
    Test::Harness       3.36    
    Test::More          1.302052
    YAML                1.17    
    YAML::Syck          1.29    
    version             0.9916  


--

Summary of my perl5 (revision 5 version 24 subversion 0) configuration:
   
  Platform:
    osname=linux, osvers=3.2.0-4-amd64, archname=x86_64-linux
    uname='linux cvrsnica-wheezy 3.2.0-4-amd64 #1 smp debian 3.2.54-2 x86_64 gnulinux '
    config_args='-ds -e -Dprefix=/opt/perl-5.24.0 -Dcf_email=srezic@cpan.org'
    hint=recommended, useposix=true, d_sigaction=define
    useithreads=undef, usemultiplicity=undef
    use64bitint=define, use64bitall=define, uselongdouble=undef
    usemymalloc=n, bincompat5005=undef
  Compiler:
    cc='cc', ccflags ='-fwrapv -fno-strict-aliasing -pipe -fstack-protector -I/usr/local/include -D_LARGEFILE_SOURCE -D_FILE_OFFSET_BITS=64 -D_FORTIFY_SOURCE=2',
    optimize='-O2',
    cppflags='-fwrapv -fno-strict-aliasing -pipe -fstack-protector -I/usr/local/include'
    ccversion='', gccversion='4.7.2', gccosandvers=''
    intsize=4, longsize=8, ptrsize=8, doublesize=8, byteorder=12345678, doublekind=3
    d_longlong=define, longlongsize=8, d_longdbl=define, longdblsize=16, longdblkind=3
    ivtype='long', ivsize=8, nvtype='double', nvsize=8, Off_t='off_t', lseeksize=8
    alignbytes=8, prototype=define
  Linker and Libraries:
    ld='cc', ldflags =' -fstack-protector -L/usr/local/lib'
    libpth=/usr/local/lib /usr/lib/gcc/x86_64-linux-gnu/4.7/include-fixed /usr/include/x86_64-linux-gnu /usr/lib /lib/x86_64-linux-gnu /lib/../lib /usr/lib/x86_64-linux-gnu /usr/lib/../lib /lib
    libs=-lpthread -lnsl -ldb -ldl -lm -lcrypt -lutil -lc
    perllibs=-lpthread -lnsl -ldl -lm -lcrypt -lutil -lc
    libc=libc-2.13.so, so=so, useshrplib=false, libperl=libperl.a
    gnulibc_version='2.13'
  Dynamic Linking:
    dlsrc=dl_dlopen.xs, dlext=so, d_dlsymun=undef, ccdlflags='-Wl,-E'
    cccdlflags='-fPIC', lddlflags='-shared -O2 -L/usr/local/lib -fstack-protector'


Characteristics of this binary (from libperl): 
  Compile-time options: HAS_TIMES PERLIO_LAYERS PERL_COPY_ON_WRITE
                        PERL_DONT_CREATE_GVSV
                        PERL_HASH_FUNC_ONE_AT_A_TIME_HARD PERL_MALLOC_WRAP
                        PERL_PRESERVE_IVUV USE_64_BIT_ALL USE_64_BIT_INT
                        USE_LARGE_FILES USE_LOCALE USE_LOCALE_COLLATE
                        USE_LOCALE_CTYPE USE_LOCALE_NUMERIC USE_LOCALE_TIME
                        USE_PERLIO USE_PERL_ATOF
  Built under linux
  Compiled at May 30 2016 08:43:25
  %ENV:
    PERL5LIB="/home/cpansand/.cpan/build/2022032116/YAML-LibYAML-0.83-2/blib/arch:/home/cpansand/.cpan/build/2022032116/YAML-LibYAML-0.83-2/blib/lib:/home/cpansand/.cpan/build/2022032116/Parser-MGC-0.21-2/blib/arch:/home/cpansand/.cpan/build/2022032116/Parser-MGC-0.21-2/blib/lib:/home/cpansand/.cpan/build/2022032116/Feature-Compat-Try-0.05-2/blib/arch:/home/cpansand/.cpan/build/2022032116/Feature-Compat-Try-0.05-2/blib/lib:/home/cpansand/.cpan/build/2022032116/Syntax-Keyword-Try-0.27-2/blib/arch:/home/cpansand/.cpan/build/2022032116/Syntax-Keyword-Try-0.27-2/blib/lib:/home/cpansand/.cpan/build/2022032116/XS-Parse-Keyword-0.22-2/blib/arch:/home/cpansand/.cpan/build/2022032116/XS-Parse-Keyword-0.22-2/blib/lib:/home/cpansand/.cpan/build/2022032116/ExtUtils-CChecker-0.11-2/blib/arch:/home/cpansand/.cpan/build/2022032116/ExtUtils-CChecker-0.11-2/blib/lib:/home/cpansand/.cpan/build/2022032116/Module-Build-0.4231-2/blib/arch:/home/cpansand/.cpan/build/2022032116/Module-Build-0.4231-2/blib/lib:/home/cpansand/.cpan/build/2022032116/Data-Util-0.67-2/blib/arch:/home/cpansand/.cpan/build/2022032116/Data-Util-0.67-2/blib/lib"
    PERL5OPT=""
    PERL5_CPANPLUS_IS_RUNNING="25680"
    PERL5_CPAN_IS_RUNNING="25680"
    PERL5_CPAN_IS_RUNNING_IN_RECURSION="18549,25680"
    PERLDOC="-MPod::Perldoc::ToTextOverstrike"
    PERL_BATCH="yes"
    PERL_CANARY_STABILITY_NOPROMPT="1"
    PERL_CPAN_REPORTER_CONFIG="/var/tmp/cpansmoker-1023/2022032116/cpanreporter_000_config.ini"
    PERL_EXTUTILS_AUTOINSTALL="--defaultdeps"
    PERL_USE_UNSAFE_INC="1"
  @INC:
    /home/cpansand/.cpan/build/2022032116/YAML-LibYAML-0.83-2/blib/arch
    /home/cpansand/.cpan/build/2022032116/YAML-LibYAML-0.83-2/blib/lib
    /home/cpansand/.cpan/build/2022032116/Parser-MGC-0.21-2/blib/arch
    /home/cpansand/.cpan/build/2022032116/Parser-MGC-0.21-2/blib/lib
    /home/cpansand/.cpan/build/2022032116/Feature-Compat-Try-0.05-2/blib/arch
    /home/cpansand/.cpan/build/2022032116/Feature-Compat-Try-0.05-2/blib/lib
    /home/cpansand/.cpan/build/2022032116/Syntax-Keyword-Try-0.27-2/blib/arch
    /home/cpansand/.cpan/build/2022032116/Syntax-Keyword-Try-0.27-2/blib/lib
    /home/cpansand/.cpan/build/2022032116/XS-Parse-Keyword-0.22-2/blib/arch
    /home/cpansand/.cpan/build/2022032116/XS-Parse-Keyword-0.22-2/blib/lib
    /home/cpansand/.cpan/build/2022032116/ExtUtils-CChecker-0.11-2/blib/arch
    /home/cpansand/.cpan/build/2022032116/ExtUtils-CChecker-0.11-2/blib/lib
    /home/cpansand/.cpan/build/2022032116/Module-Build-0.4231-2/blib/arch
    /home/cpansand/.cpan/build/2022032116/Module-Build-0.4231-2/blib/lib
    /home/cpansand/.cpan/build/2022032116/Data-Util-0.67-2/blib/arch
    /home/cpansand/.cpan/build/2022032116/Data-Util-0.67-2/blib/lib
    /opt/perl-5.24.0/lib/site_perl/5.24.0/x86_64-linux
    /opt/perl-5.24.0/lib/site_perl/5.24.0
    /opt/perl-5.24.0/lib/5.24.0/x86_64-linux
    /opt/perl-5.24.0/lib/5.24.0
    .