Device-Modem v1.59 Perl 5 v5.30.2 x86_64-linux
- Status
- Pass
- From
- Nigel Horne
- Dist
-
Device-Modem v1.59
- Platform
- Perl 5 v5.30.2 x86_64-linux
- Date
- 2020-06-15 08:47:45
- ID
- e1f505b2-aee4-11ea-bda4-dbf7b0a29b66
This distribution has been tested as part of the CPAN Testers
project, supporting the Perl programming language. See
http://wiki.cpantesters.org/ for more information or email
questions to cpan-testers-discuss@perl.org
--
Dear Cosimo Streppone,
This is a computer-generated report for Device-Modem-1.59
on perl 5.30.2, created by CPAN-Reporter-1.2018.
Thank you for uploading your work to CPAN. Congratulations!
All tests were successful.
Sections of this report:
* Tester comments
* Program output
* Prerequisites
* Environment and other context
------------------------------
TESTER COMMENTS
------------------------------
Additional comments from tester:
this report is from an automated smoke testing program
and was not reviewed by a human for accuracy
------------------------------
PROGRAM OUTPUT
------------------------------
Output from '/usr/bin/make test':
PERL_DL_NONLAZY=1 "/home/njh/perl5/perlbrew/perls/perl-5.30.2/bin/perl" "-MExtUtils::Command::MM" "-MTest::Harness" "-e" "undef *Test::Harness::Switches; test_harness(0, 'blib/lib', 'blib/arch')" t/*.t
t/02-coms.t ............ skipped: These tests require root access on non-Windows devices
t/01-load.t ............ ok
#
# Versions for all modules listed in MYMETA.json (including optional ones):
#
# === Configure Requires ===
#
# Module Want Have
# ------------------- ---- ----
# ExtUtils::MakeMaker any 7.44
#
# === Build Requires ===
#
# Module Want Have
# ------------------- ---- ----
# ExtUtils::MakeMaker any 7.44
#
# === Test Requires ===
#
# Module Want Have
# ------------------- ---- --------
# ExtUtils::MakeMaker any 7.44
# File::Spec any 3.78
# Test::More any 1.302175
# warnings any 1.44
#
# === Test Recommends ===
#
# Module Want Have
# ---------- -------- --------
# CPAN::Meta 2.120900 2.150010
#
# === Runtime Requires ===
#
# Module Want Have
# ------------------ ---- ----
# Carp any 1.50
# Device::SerialPort any 1.04
# Exporter any 5.74
# File::Basename any 2.85
# File::Path any 2.16
# IO::Handle any 1.42
# Sys::Syslog any 0.36
# base any 2.27
# constant any 1.33
# overload any 1.30
# strict any 1.11
#
t/00-report-prereqs.t .. ok
All tests successful.
Files=3, Tests=7, 0 wallclock secs ( 0.02 usr 0.01 sys + 0.37 cusr 0.08 csys = 0.48 CPU)
Result: PASS
------------------------------
PREREQUISITES
------------------------------
Prerequisite modules loaded:
requires:
Module Need Have
------------------- ----- --------
base 0 2.27
Carp 0 1.50
constant 0 1.33
Device::SerialPort 0 1.04
Exporter 0 5.74
File::Basename 0 2.85
File::Path 0 2.16
IO::Handle 0 1.42
overload 0 1.30
perl 5.006 5.030002
strict 0 1.11
Sys::Syslog 0 0.36
build_requires:
Module Need Have
------------------- ----- --------
ExtUtils::MakeMaker 0 7.44
File::Spec 0 3.78
Test::More 0 1.302175
warnings 0 1.44
configure_requires:
Module Need Have
------------------- ----- --------
ExtUtils::MakeMaker 0 7.44
------------------------------
ENVIRONMENT AND OTHER CONTEXT
------------------------------
Environment variables:
AUTOMATED_TESTING = 1
HARNESS_OPTIONS = j3
LANG = en_US.UTF-8
PATH = /home/njh/perl5/perlbrew/bin:/home/njh/perl5/perlbrew/perls/perl-5.30.2/bin:/home/njh/src/njh/smoker/bin:/usr/bin:/bin
PERL5LIB = /home/njh/.cpan/build/Device-SerialPort-1.04-1/blib/arch:/home/njh/.cpan/build/Device-SerialPort-1.04-1/blib/lib
PERL5OPT =
PERL5_CPANPLUS_IS_RUNNING = 11825
PERL5_CPAN_IS_RUNNING = 11825
PERL5_CPAN_IS_RUNNING_IN_RECURSION = 11806,11825
PERLBREW_HOME = /home/njh/.perlbrew
PERLBREW_MANPATH = /home/njh/perl5/perlbrew/perls/perl-5.30.2/man
PERLBREW_PATH = /home/njh/perl5/perlbrew/bin:/home/njh/perl5/perlbrew/perls/perl-5.30.2/bin
PERLBREW_PERL = perl-5.30.2
PERLBREW_ROOT = /home/njh/perl5/perlbrew
PERLBREW_SHELLRC_VERSION = 0.88
PERLBREW_VERSION = 0.88
PERL_USE_UNSAFE_INC = 1
SHELL = /usr/bin/bash
TMPDIR = /tmp/testwrapper.11808
Perl special variables (and OS-specific diagnostics, for MSWin32):
$^X = /home/njh/perl5/perlbrew/perls/perl-5.30.2/bin/perl
$UID/$EUID = 1000 / 1000
$GID = 1000 1000
$EGID = 1000 1000
Perl module toolchain versions installed:
Module Have
------------------- --------
CPAN 2.22
CPAN::Meta 2.150010
Cwd 3.78
ExtUtils::CBuilder 0.280234
ExtUtils::Command 7.44
ExtUtils::Install 2.14
ExtUtils::MakeMaker 7.44
ExtUtils::Manifest 1.72
ExtUtils::ParseXS 3.40
File::Spec 3.78
JSON 4.02
JSON::PP 4.04
Module::Build 0.4231
Module::Signature n/a
Parse::CPAN::Meta 2.150010
Test::Harness 3.42
Test::More 1.302175
YAML 1.30
YAML::Syck 1.32
version 0.9924
--
Summary of my perl5 (revision 5 version 30 subversion 2) configuration:
Platform:
osname=linux
osvers=4.18.0-147.5.1.el8_1.x86_64
archname=x86_64-linux
uname='linux smoker01 4.18.0-147.5.1.el8_1.x86_64 #1 smp wed feb 5 02:00:39 utc 2020 x86_64 x86_64 x86_64 gnulinux '
config_args='-de -Dprefix=/home/njh/perl5/perlbrew/perls/perl-5.30.2 -Aeval:scriptdir=/home/njh/perl5/perlbrew/perls/perl-5.30.2/bin'
hint=recommended
useposix=true
d_sigaction=define
useithreads=undef
usemultiplicity=undef
use64bitint=define
use64bitall=define
uselongdouble=undef
usemymalloc=n
default_inc_excludes_dot=define
bincompat5005=undef
Compiler:
cc='cc'
ccflags ='-fwrapv -fno-strict-aliasing -pipe -fstack-protector-strong -I/usr/local/include -D_LARGEFILE_SOURCE -D_FILE_OFFSET_BITS=64 -D_FORTIFY_SOURCE=2'
optimize='-O2'
cppflags='-fwrapv -fno-strict-aliasing -pipe -fstack-protector-strong -I/usr/local/include'
ccversion=''
gccversion='8.3.1 20190507 (Red Hat 8.3.1-4)'
gccosandvers=''
intsize=4
longsize=8
ptrsize=8
doublesize=8
byteorder=12345678
doublekind=3
d_longlong=define
longlongsize=8
d_longdbl=define
longdblsize=16
longdblkind=3
ivtype='long'
ivsize=8
nvtype='double'
nvsize=8
Off_t='off_t'
lseeksize=8
alignbytes=8
prototype=define
Linker and Libraries:
ld='cc'
ldflags =' -fstack-protector-strong -L/usr/local/lib'
libpth=/usr/local/lib /usr/lib /lib/../lib64 /usr/lib/../lib64 /lib /lib64 /usr/lib64 /usr/local/lib64
libs=-lpthread -ldl -lm -lcrypt -lutil -lc
perllibs=-lpthread -ldl -lm -lcrypt -lutil -lc
libc=libc-2.28.so
so=so
useshrplib=false
libperl=libperl.a
gnulibc_version='2.28'
Dynamic Linking:
dlsrc=dl_dlopen.xs
dlext=so
d_dlsymun=undef
ccdlflags='-Wl,-E'
cccdlflags='-fPIC'
lddlflags='-shared -O2 -L/usr/local/lib -fstack-protector-strong'
Characteristics of this binary (from libperl):
Compile-time options:
HAS_TIMES
PERLIO_LAYERS
PERL_COPY_ON_WRITE
PERL_DONT_CREATE_GVSV
PERL_MALLOC_WRAP
PERL_OP_PARENT
PERL_PRESERVE_IVUV
USE_64_BIT_ALL
USE_64_BIT_INT
USE_LARGE_FILES
USE_LOCALE
USE_LOCALE_COLLATE
USE_LOCALE_CTYPE
USE_LOCALE_NUMERIC
USE_LOCALE_TIME
USE_PERLIO
USE_PERL_ATOF
Locally applied patches:
Devel::PatchPerl 1.80
Built under linux
Compiled at Mar 31 2020 11:26:27
%ENV:
PERL5LIB="/home/njh/.cpan/build/Device-SerialPort-1.04-1/blib/arch:/home/njh/.cpan/build/Device-SerialPort-1.04-1/blib/lib"
PERL5OPT=""
PERL5_CPANPLUS_IS_RUNNING="11825"
PERL5_CPAN_IS_RUNNING="11825"
PERL5_CPAN_IS_RUNNING_IN_RECURSION="11806,11825"
PERLBREW_HOME="/home/njh/.perlbrew"
PERLBREW_MANPATH="/home/njh/perl5/perlbrew/perls/perl-5.30.2/man"
PERLBREW_PATH="/home/njh/perl5/perlbrew/bin:/home/njh/perl5/perlbrew/perls/perl-5.30.2/bin"
PERLBREW_PERL="perl-5.30.2"
PERLBREW_ROOT="/home/njh/perl5/perlbrew"
PERLBREW_SHELLRC_VERSION="0.88"
PERLBREW_VERSION="0.88"
PERL_USE_UNSAFE_INC="1"
@INC:
/home/njh/.cpan/build/Device-SerialPort-1.04-1/blib/arch
/home/njh/.cpan/build/Device-SerialPort-1.04-1/blib/lib
/home/njh/perl5/perlbrew/perls/perl-5.30.2/lib/site_perl/5.30.2/x86_64-linux
/home/njh/perl5/perlbrew/perls/perl-5.30.2/lib/site_perl/5.30.2
/home/njh/perl5/perlbrew/perls/perl-5.30.2/lib/5.30.2/x86_64-linux
/home/njh/perl5/perlbrew/perls/perl-5.30.2/lib/5.30.2
.