Catalyst-Plugin-Authentication v0.10024 Perl 5 v5.43.2 darwin-2level
- Status
- Pass
- From
- John SJ Anderson
- Dist
-
Catalyst-Plugin-Authentication v0.10024
- Platform
- Perl 5 v5.43.2 darwin-2level
- Date
- 2025-08-20 23:39:15
- ID
- e1fb8b44-7e1e-11f0-bc3f-b3e5f10d54ab
This distribution has been tested as part of the CPAN Testers
project, supporting the Perl programming language. See
http://wiki.cpantesters.org/ for more information or email
questions to cpan-testers-discuss@perl.org
--
Dear JJNAPIORK,
This is a computer-generated report for Catalyst-Plugin-Authentication-0.10024
on perl 5.43.2, created by App::cpanminus::reporter 0.22 (1.7048).
Thank you for uploading your work to CPAN. Congratulations!
All tests were successful.
Sections of this report:
* Tester comments
* Program output
* Prerequisites
* Environment and other context
------------------------------
TESTER COMMENTS
------------------------------
Additional comments from tester:
none provided
------------------------------
PROGRAM OUTPUT
------------------------------
Output from '':
Building and testing Catalyst-Plugin-Authentication-0.10024
cp lib/Catalyst/Authentication/Realm.pm blib/lib/Catalyst/Authentication/Realm.pm
cp lib/Catalyst/Plugin/Authentication/User.pm blib/lib/Catalyst/Plugin/Authentication/User.pm
cp lib/Catalyst/Authentication/Credential/NoPassword.pm blib/lib/Catalyst/Authentication/Credential/NoPassword.pm
cp lib/Catalyst/Plugin/Authentication/User/Hash.pm blib/lib/Catalyst/Plugin/Authentication/User/Hash.pm
cp lib/Catalyst/Authentication/Realm/Progressive.pm blib/lib/Catalyst/Authentication/Realm/Progressive.pm
cp lib/Catalyst/Authentication/Store.pod blib/lib/Catalyst/Authentication/Store.pod
cp lib/Catalyst/Authentication/Credential/Remote.pm blib/lib/Catalyst/Authentication/Credential/Remote.pm
cp lib/Catalyst/Authentication/User/Hash.pm blib/lib/Catalyst/Authentication/User/Hash.pm
cp lib/Catalyst/Authentication/Store/Null.pm blib/lib/Catalyst/Authentication/Store/Null.pm
cp lib/Catalyst/Authentication/Realm/Compatibility.pm blib/lib/Catalyst/Authentication/Realm/Compatibility.pm
cp lib/Catalyst/Plugin/Authentication/Store/Minimal.pm blib/lib/Catalyst/Plugin/Authentication/Store/Minimal.pm
cp lib/Catalyst/Authentication/Store/Minimal.pm blib/lib/Catalyst/Authentication/Store/Minimal.pm
cp lib/Catalyst/Authentication/Credential/Password.pm blib/lib/Catalyst/Authentication/Credential/Password.pm
cp lib/Catalyst/Plugin/Authentication/Credential/Password.pm blib/lib/Catalyst/Plugin/Authentication/Credential/Password.pm
cp lib/Catalyst/Authentication/User.pm blib/lib/Catalyst/Authentication/User.pm
cp lib/Catalyst/Plugin/Authentication.pm blib/lib/Catalyst/Plugin/Authentication.pm
cp lib/Catalyst/Plugin/Authentication/Internals.pod blib/lib/Catalyst/Plugin/Authentication/Internals.pod
PERL_DL_NONLAZY=1 "/opt/plenv/versions/5.43.2/bin/perl5.43.2" "-MExtUtils::Command::MM" "-MTest::Harness" "-e" "undef *Test::Harness::Switches; test_harness(0, 'blib/lib', 'blib/arch')" t/*.t
t/04_authentication.t ............ ok
t/05_password.t .................. ok
t/06_user.t ...................... ok
t/live_app.t ..................... ok
t/live_app_realms.t .............. ok
t/live_app_realms_compat.t ....... ok
t/live_app_realms_progressive.t .. ok
t/live_app_remote1.t ............. ok
t/live_app_remote2.t ............. ok
t/live_app_session.t ............. skipped: This test needs Catalyst::Plugin::Session and Catalyst::Plugin::Session::State::Cookie installed
Attempt to call undefined import method with arguments ("Catalyst::Authentication::Credential::NoPassword at right spot") via package "Catalyst::Authentication::Credential::NoPassword" (Perhaps you forgot to load the package?) at t/store_nopassord.t line 6.
t/store_nopassord.t .............. ok
All tests successful.
Files=11, Tests=87, 1 wallclock secs ( 0.01 usr 0.01 sys + 1.15 cusr 0.11 csys = 1.28 CPU)
Result: PASS
------------------------------
PREREQUISITES
------------------------------
Prerequisite modules loaded:
runtime:
Module Need Have
-------------------------------------- ---- --------
Catalyst::Runtime 0 5.90132
Moose 0 2.4000
MooseX::Emulate::Class::Accessor::Fast 0 0.009032
MRO::Compat 0 0.15
namespace::autoclean 0 0.31
String::RewritePrefix 0 0.009
Try::Tiny 0 0.32
configure:
Module Need Have
-------------------------------------- ---- --------
ExtUtils::MakeMaker 0 7.76
------------------------------
ENVIRONMENT AND OTHER CONTEXT
------------------------------
Environment variables:
LANG = en_US.UTF-8
LC_ALL = en_US.UTF-8
LC_TERMINAL = iTerm2
LC_TERMINAL_VERSION = 3.5.14
PATH = /opt/plenv/versions/5.43.2/bin:/opt/plenv/libexec:/opt/plenv/plugins/perl-build/bin:/opt/rbenv/shims:/Users/genehack/src/git-subrepo/lib:/opt/nextstrain-env/cli-standalone:/Users/genehack/bin:/opt/rust/cargo/bin:/opt/plenv/shims:/opt/plenv/bin:/opt/git/bin:/opt/homebrew/bin:/opt/local/bin:/usr/bin:/bin:/usr/sbin:/sbin
PERL_CPANM_OPT = --skip-installed --prompt
SHELL = /bin/zsh
TERM = screen-256color
TMPDIR = /var/folders/p0/j7mly95s4nd__w74h26sqqkc0000gn/T/
Perl special variables (and OS-specific diagnostics, for MSWin32):
EGID = 20 20 12 61 79 80 81 98 701 33 100 204 250 395 398 101 400
EUID = 501
EXECUTABLE_NAME = /opt/plenv/versions/5.43.2/bin/perl5.43.2
GID = 20 20 12 61 79 80 81 98 701 33 100 204 250 395 398 101 400
UID = 501
Perl module toolchain versions installed:
Module Have
------------------- --------
CPAN 2.38
CPAN::Meta 2.150010
Cwd 3.94
ExtUtils::CBuilder 0.280242
ExtUtils::Command 7.76
ExtUtils::Install 2.22
ExtUtils::MakeMaker 7.76
ExtUtils::Manifest 1.75
ExtUtils::ParseXS 3.59
File::Spec 3.94
JSON 4.10
JSON::PP 4.16
Module::Build 0.4234
Module::Signature n/a
Parse::CPAN::Meta 2.150010
Test::Harness 3.52
Test::More 1.302214
YAML 1.31
YAML::Syck n/a
version 0.9933
--
Summary of my perl5 (revision 5 version 43 subversion 2) configuration:
Platform:
osname=darwin
osvers=24.6.0
archname=darwin-2level
uname='darwin nextmac.home.genehack.org 24.6.0 darwin kernel version 24.6.0: mon jul 14 11:30:55 pdt 2025; root:xnu-11417.140.69~1release_arm64_t6031 arm64 arm darwin '
config_args='-Dprefix=/opt/plenv/versions/5.43.2 -de -Dversiononly -Dusedevel -A'eval:scriptdir=/opt/plenv/versions/5.43.2/bin''
hint=recommended
useposix=true
d_sigaction=define
useithreads=undef
usemultiplicity=undef
use64bitint=define
use64bitall=define
uselongdouble=undef
usemymalloc=n
default_inc_excludes_dot=define
Compiler:
cc='cc'
ccflags ='-fno-common -DPERL_DARWIN -DNO_THREAD_SAFE_QUERYLOCALE -DNO_POSIX_2008_LOCALE -DHAS_BROKEN_LANGINFO_CODESET -DNO_LOCALE_COLLATE -fno-strict-aliasing -pipe -fstack-protector-strong'
optimize='-O3'
cppflags='-fno-common -DPERL_DARWIN -DNO_THREAD_SAFE_QUERYLOCALE -DNO_POSIX_2008_LOCALE -DHAS_BROKEN_LANGINFO_CODESET -DNO_LOCALE_COLLATE -fno-strict-aliasing -pipe -fstack-protector-strong'
ccversion=''
gccversion='Apple LLVM 17.0.0 (clang-1700.0.13.5)'
gccosandvers=''
intsize=4
longsize=8
ptrsize=8
doublesize=8
byteorder=12345678
doublekind=3
d_longlong=define
longlongsize=8
d_longdbl=define
longdblsize=8
longdblkind=0
ivtype='long'
ivsize=8
nvtype='double'
nvsize=8
Off_t='off_t'
lseeksize=8
alignbytes=8
prototype=define
Linker and Libraries:
ld='cc'
ldflags =' -fstack-protector-strong'
libpth=/Applications/Xcode.app/Contents/Developer/Toolchains/XcodeDefault.xctoolchain/usr/lib/clang/17/lib /Applications/Xcode.app/Contents/Developer/Platforms/MacOSX.platform/Developer/SDKs/MacOSX.sdk/usr/lib /Applications/Xcode.app/Contents/Developer/Toolchains/XcodeDefault.xctoolchain/usr/lib /usr/lib
libs=
perllibs=
libc=
so=dylib
useshrplib=false
libperl=libperl.a
gnulibc_version=''
Dynamic Linking:
dlsrc=dl_dlopen.xs
dlext=bundle
d_dlsymun=undef
ccdlflags=' '
cccdlflags=' '
lddlflags='-bundle -undefined dynamic_lookup -fstack-protector-strong'
Characteristics of this binary (from libperl):
Compile-time options:
HAS_LONG_DOUBLE
HAS_STRTOLD
HAS_TIMES
PERLIO_LAYERS
PERL_COPY_ON_WRITE
PERL_DONT_CREATE_GVSV
PERL_HASH_FUNC_SIPHASH13
PERL_HASH_USE_SBOX32
PERL_MALLOC_WRAP
PERL_OP_PARENT
PERL_PRESERVE_IVUV
PERL_USE_DEVEL
PERL_USE_SAFE_PUTENV
USE_64_BIT_ALL
USE_64_BIT_INT
USE_LARGE_FILES
USE_LOCALE
USE_LOCALE_CTYPE
USE_LOCALE_NUMERIC
USE_LOCALE_TIME
USE_PERLIO
USE_PERL_ATOF
Built under darwin
Compiled at Aug 20 2025 15:39:00
%ENV:
PERL_CPANM_OPT="--skip-installed --prompt"
@INC:
/opt/plenv/versions/5.43.2/lib/perl5/site_perl/5.43.2/darwin-2level
/opt/plenv/versions/5.43.2/lib/perl5/site_perl/5.43.2
/opt/plenv/versions/5.43.2/lib/perl5/5.43.2/darwin-2level
/opt/plenv/versions/5.43.2/lib/perl5/5.43.2