Report for Alien-Debian-Apt-PM-0.03

Back
From: metabase:user:68a9c4ac-1ec7-11e0-bf29-9c4bfeb2ac3f
Subject: PASS Alien-Debian-Apt-PM-0.03 v5.14.2 GNU/Linux
Date: 2012-02-21T01:03:36Z

This distribution has been tested as part of the CPAN Testers
project, supporting the Perl programming language.  See
http://wiki.cpantesters.org/ for more information or email
questions to cpan-testers-discuss@perl.org


--
Dear Jozef Kutej,

This is a computer-generated report for Alien-Debian-Apt-PM-0.03
on perl 5.14.2, created by CPAN-Reporter-1.2004.

Thank you for uploading your work to CPAN.  Congratulations!
All tests were successful.

Sections of this report:

    * Tester comments
    * Program output
    * Prerequisites
    * Environment and other context

------------------------------
TESTER COMMENTS
------------------------------

Additional comments from tester:

this report is from an automated smoke testing program
and was not reviewed by a human for accuracy

------------------------------
PROGRAM OUTPUT
------------------------------

Output from './Build test':

t/distribution.t .. ok
t/pod-coverage.t .. ok
t/pod-spell.t ..... skipped: Set the environment variable TEST_SPELLING to enable this test.
t/pod.t ........... ok
All tests successful.
Files=4, Tests=12,  1 wallclock secs ( 0.01 usr  0.01 sys +  0.28 cusr  0.01 csys =  0.31 CPU)
Result: PASS

------------------------------
PREREQUISITES
------------------------------

Prerequisite modules loaded:

configure_requires:

    Module        Need Have  
    ------------- ---- ------
    Module::Build 0.36 0.3800


------------------------------
ENVIRONMENT AND OTHER CONTEXT
------------------------------

Environment variables:

    AUTOMATED_TESTING = 1
    LANG = en_US.UTF-8
    MANPATH_WITHOUT_PERLBREW = 
    PATH = /home/smoker/perl5/perlbrew/bin:/home/smoker/perl5/perlbrew/perls/perl-5.14.2/bin:/usr/kerberos/bin:/home/smoker/bin:/usr/local/bin:/bin:/usr/bin:/usr/X11R6/bin:/pasid:.:/home/smoker/bin
    PATH_WITHOUT_PERLBREW = /usr/kerberos/bin:/home/smoker/bin:/usr/local/bin:/bin:/usr/bin:/usr/X11R6/bin:/pasid:.
    PERL5LIB = 
    PERL5OPT = 
    PERL5_CPANPLUS_IS_RUNNING = 31792
    PERL5_CPAN_IS_RUNNING = 31792
    PERL5_CPAN_IS_RUNNING_IN_RECURSION = 32553,31792
    PERLBREW_BASHRC_VERSION = 0.39
    PERLBREW_HOME = /home/smoker/.perlbrew
    PERLBREW_MANPATH = /home/smoker/perl5/perlbrew/perls/perl-5.14.2/man
    PERLBREW_PATH = /home/smoker/perl5/perlbrew/bin:/home/smoker/perl5/perlbrew/perls/perl-5.14.2/bin
    PERLBREW_PERL = perl-5.14.2
    PERLBREW_ROOT = /home/smoker/perl5/perlbrew
    PERLBREW_VERSION = 0.36
    PERL_CR_SMOKER_CURRENT = Alien-Debian-Apt-PM-0.03
    PERL_EXTUTILS_AUTOINSTALL = --defaultdeps
    PERL_MM_USE_DEFAULT = 1
    SHELL = /bin/bash
    TERM = linux

Perl special variables (and OS-specific diagnostics, for MSWin32):

    $^X = /home/smoker/perl5/perlbrew/perls/perl-5.14.2/bin/perl
    $UID/$EUID = 500 / 500
    $GID = 500 500
    $EGID = 500 500

Perl module toolchain versions installed:

    Module              Have    
    ------------------- --------
    CPAN                1.9800  
    CPAN::Meta          2.120351
    Cwd                 3.36    
    ExtUtils::CBuilder  0.280203
    ExtUtils::Command   1.17    
    ExtUtils::Install   1.56    
    ExtUtils::MakeMaker 6.62    
    ExtUtils::Manifest  1.60    
    ExtUtils::ParseXS   3.15    
    File::Spec          3.33    
    JSON                2.53    
    JSON::PP            2.27200 
    Module::Build       0.3800  
    Module::Signature   0.68    
    Parse::CPAN::Meta   1.4402  
    Test::Harness       3.23    
    Test::More          0.98    
    YAML                0.80    
    YAML::Syck          1.20    
    version             0.96    


--

Summary of my perl5 (revision 5 version 14 subversion 2) configuration:
   
  Platform:
    osname=linux, osvers=2.6.10-1.771_fc2, archname=i686-linux
    uname='linux engine-smoker.localdomain 2.6.10-1.771_fc2 #1 mon mar 28 00:50:14 est 2005 i686 i686 i386 gnulinux '
    config_args='-de -Dprefix=/home/smoker/perl5/perlbrew/perls/perl-5.14.2'
    hint=recommended, useposix=true, d_sigaction=define
    useithreads=undef, usemultiplicity=undef
    useperlio=define, d_sfio=undef, uselargefiles=define, usesocks=undef
    use64bitint=undef, use64bitall=undef, uselongdouble=undef
    usemymalloc=n, bincompat5005=undef
  Compiler:
    cc='cc', ccflags ='-fno-strict-aliasing -pipe -I/usr/local/include -D_LARGEFILE_SOURCE -D_FILE_OFFSET_BITS=64',
    optimize='-O2',
    cppflags='-fno-strict-aliasing -pipe -I/usr/local/include'
    ccversion='', gccversion='3.3.3 20040412 (Red Hat Linux 3.3.3-7)', gccosandvers=''
    intsize=4, longsize=4, ptrsize=4, doublesize=8, byteorder=1234
    d_longlong=define, longlongsize=8, d_longdbl=define, longdblsize=12
    ivtype='long', ivsize=4, nvtype='double', nvsize=8, Off_t='off_t', lseeksize=8
    alignbytes=4, prototype=define
  Linker and Libraries:
    ld='cc', ldflags =' -L/usr/local/lib'
    libpth=/usr/local/lib /lib /usr/lib
    libs=-lnsl -ldl -lm -lcrypt -lutil -lc
    perllibs=-lnsl -ldl -lm -lcrypt -lutil -lc
    libc=/lib/libc-2.3.3.so, so=so, useshrplib=false, libperl=libperl.a
    gnulibc_version='2.3.3'
  Dynamic Linking:
    dlsrc=dl_dlopen.xs, dlext=so, d_dlsymun=undef, ccdlflags='-Wl,-E'
    cccdlflags='-fPIC', lddlflags='-shared -O2 -L/usr/local/lib'


Characteristics of this binary (from libperl): 
  Compile-time options: PERL_DONT_CREATE_GVSV PERL_MALLOC_WRAP
                        PERL_PRESERVE_IVUV USE_LARGE_FILES USE_PERLIO
                        USE_PERL_ATOF
  Built under linux
  Compiled at Dec 20 2011 17:52:05
  %ENV:
    PERL5LIB=""
    PERL5OPT=""
    PERL5_CPANPLUS_IS_RUNNING="31792"
    PERL5_CPAN_IS_RUNNING="31792"
    PERL5_CPAN_IS_RUNNING_IN_RECURSION="32553,31792"
    PERLBREW_BASHRC_VERSION="0.39"
    PERLBREW_HOME="/home/smoker/.perlbrew"
    PERLBREW_MANPATH="/home/smoker/perl5/perlbrew/perls/perl-5.14.2/man"
    PERLBREW_PATH="/home/smoker/perl5/perlbrew/bin:/home/smoker/perl5/perlbrew/perls/perl-5.14.2/bin"
    PERLBREW_PERL="perl-5.14.2"
    PERLBREW_ROOT="/home/smoker/perl5/perlbrew"
    PERLBREW_VERSION="0.36"
    PERL_CR_SMOKER_CURRENT="Alien-Debian-Apt-PM-0.03"
    PERL_EXTUTILS_AUTOINSTALL="--defaultdeps"
    PERL_MM_USE_DEFAULT="1"
  @INC:
    /home/smoker/perl5/perlbrew/perls/perl-5.14.2/lib/site_perl/5.14.2/i686-linux
    /home/smoker/perl5/perlbrew/perls/perl-5.14.2/lib/site_perl/5.14.2
    /home/smoker/perl5/perlbrew/perls/perl-5.14.2/lib/5.14.2/i686-linux
    /home/smoker/perl5/perlbrew/perls/perl-5.14.2/lib/5.14.2
    .