libwww-perl v6.72 Perl 5 v5.38.0 darwin-2level
- Status
- Pass
- From
- Stanislaw Pusep
- Dist
-
libwww-perl v6.72
- Platform
- Perl 5 v5.38.0 darwin-2level
- Date
- 2023-07-18 07:22:42
- ID
- e22ced1c-253b-11ee-9e9f-d14ff74778a3
This distribution has been tested as part of the CPAN Testers
project, supporting the Perl programming language. See
http://wiki.cpantesters.org/ for more information or email
questions to cpan-testers-discuss@perl.org
--
Dear OALDERS,
This is a computer-generated report for libwww-perl-6.72
on perl 5.38.0, created by App::cpanminus::reporter 0.20 (1.7044).
Thank you for uploading your work to CPAN. Congratulations!
All tests were successful.
Sections of this report:
* Tester comments
* Program output
* Prerequisites
* Environment and other context
------------------------------
TESTER COMMENTS
------------------------------
Additional comments from tester:
none provided
------------------------------
PROGRAM OUTPUT
------------------------------
Output from '':
Building and testing libwww-perl-6.72
cp lib/LWP/Protocol/data.pm blib/lib/LWP/Protocol/data.pm
cp lib/LWP/Protocol/file.pm blib/lib/LWP/Protocol/file.pm
cp lwptut.pod blib/lib/lwptut.pod
cp lwpcook.pod blib/lib/lwpcook.pod
cp lib/LWP/Authen/Basic.pm blib/lib/LWP/Authen/Basic.pm
cp lib/LWP.pm blib/lib/LWP.pm
cp lib/LWP/UserAgent.pm blib/lib/LWP/UserAgent.pm
cp lib/LWP/Simple.pm blib/lib/LWP/Simple.pm
cp lib/LWP/DebugFile.pm blib/lib/LWP/DebugFile.pm
cp lib/LWP/Protocol/gopher.pm blib/lib/LWP/Protocol/gopher.pm
cp lib/LWP/Protocol/mailto.pm blib/lib/LWP/Protocol/mailto.pm
cp lib/LWP/Protocol.pm blib/lib/LWP/Protocol.pm
cp lib/LWP/Protocol/cpan.pm blib/lib/LWP/Protocol/cpan.pm
cp lib/LWP/ConnCache.pm blib/lib/LWP/ConnCache.pm
cp lib/LWP/Debug/TraceHTTP.pm blib/lib/LWP/Debug/TraceHTTP.pm
cp lib/LWP/Protocol/loopback.pm blib/lib/LWP/Protocol/loopback.pm
cp lib/LWP/MemberMixin.pm blib/lib/LWP/MemberMixin.pm
cp lib/LWP/Protocol/nntp.pm blib/lib/LWP/Protocol/nntp.pm
cp lib/LWP/Protocol/http.pm blib/lib/LWP/Protocol/http.pm
cp lib/LWP/Debug.pm blib/lib/LWP/Debug.pm
cp lib/LWP/Authen/Ntlm.pm blib/lib/LWP/Authen/Ntlm.pm
cp lib/LWP/RobotUA.pm blib/lib/LWP/RobotUA.pm
cp lib/LWP/Authen/Digest.pm blib/lib/LWP/Authen/Digest.pm
cp lib/LWP/Protocol/nogo.pm blib/lib/LWP/Protocol/nogo.pm
cp lib/LWP/Protocol/ftp.pm blib/lib/LWP/Protocol/ftp.pm
cp bin/lwp-download blib/script/lwp-download
"/Users/stan/perl5/perlbrew/perls/perl-5.38.0/bin/perl" -MExtUtils::MY -e 'MY->fixin(shift)' -- blib/script/lwp-download
cp bin/lwp-dump blib/script/lwp-dump
"/Users/stan/perl5/perlbrew/perls/perl-5.38.0/bin/perl" -MExtUtils::MY -e 'MY->fixin(shift)' -- blib/script/lwp-dump
cp bin/lwp-mirror blib/script/lwp-mirror
"/Users/stan/perl5/perlbrew/perls/perl-5.38.0/bin/perl" -MExtUtils::MY -e 'MY->fixin(shift)' -- blib/script/lwp-mirror
cp bin/lwp-request blib/script/lwp-request
"/Users/stan/perl5/perlbrew/perls/perl-5.38.0/bin/perl" -MExtUtils::MY -e 'MY->fixin(shift)' -- blib/script/lwp-request
PERL_DL_NONLAZY=1 "/Users/stan/perl5/perlbrew/perls/perl-5.38.0/bin/perl" "-MExtUtils::Command::MM" "-MTest::Harness" "-e" "undef *Test::Harness::Switches; test_harness(0, 'blib/lib', 'blib/arch')" t/*.t t/base/*.t t/base/protocols/*.t t/leak/*.t t/local/*.t t/robot/*.t
#
# Versions for all modules listed in MYMETA.json (including optional ones):
#
# === Configure Requires ===
#
# Module Want Have
# ------------------- ---- ----
# ExtUtils::MakeMaker any 7.70
# File::Copy any 2.41
# Getopt::Long any 2.54
#
# === Configure Suggests ===
#
# Module Want Have
# -------- ------- ----
# JSON::PP 2.27300 4.16
#
# === Build Requires ===
#
# Module Want Have
# ------------------- ---- ----
# ExtUtils::MakeMaker any 7.70
#
# === Test Requires ===
#
# Module Want Have
# ---------------------- ---- --------
# ExtUtils::MakeMaker any 7.70
# File::Spec any 3.88
# FindBin any 1.53
# HTTP::Daemon 6.12 6.16
# Test::Fatal any 0.017
# Test::More 0.96 1.302195
# Test::Needs any 0.002010
# Test::RequiresInternet any 0.05
#
# === Test Recommends ===
#
# Module Want Have
# --------------- -------- --------
# CPAN::Meta 2.120900 2.150010
# Test::LeakTrace any 0.17
#
# === Runtime Requires ===
#
# Module Want Have
# --------------------- -------- --------
# Digest::MD5 any 2.58_01
# Encode 2.12 3.19
# Encode::Locale any 1.05
# File::Copy any 2.41
# File::Listing 6 6.16
# File::Temp any 0.2311
# Getopt::Long any 2.54
# HTML::Entities any 3.81
# HTML::HeadParser 3.71 3.81
# HTTP::CookieJar::LWP any 0.014
# HTTP::Cookies 6 6.10
# HTTP::Date 6 6.06
# HTTP::Negotiate 6 6.01
# HTTP::Request 6.18 6.44
# HTTP::Request::Common 6.18 6.44
# HTTP::Response 6.18 6.44
# HTTP::Status 6.18 6.44
# IO::Select any 1.52
# IO::Socket any 1.52
# LWP::MediaTypes 6 6.04
# MIME::Base64 2.1 3.16_01
# Module::Load any 0.36
# Net::FTP 2.58 3.15
# Net::HTTP 6.18 6.23
# Scalar::Util any 1.63
# Try::Tiny any 0.31
# URI 1.10 5.19
# URI::Escape any 5.19
# WWW::RobotRules 6 6.02
# parent 0.217 0.241
# perl 5.008001 5.038000
# strict any 1.12
# warnings any 1.65
#
# === Runtime Suggests ===
#
# Module Want Have
# -------------------- ---- -------
# Authen::NTLM 1.02 missing
# Data::Dump 1.13 1.25
# IO::Socket::INET any 1.52
# LWP::Protocol::https 6.02 6.11
#
t/00-report-prereqs.t .......... ok
t/10-attrs.t ................... ok
t/base/default_content_type.t .. ok
t/base/protocols.t ............. ok
t/base/protocols/nntp.t ........ skipped: nntp.perl.org is unstable and Test::RequiresInternet is not catching it
t/base/proxy.t ................. ok
t/base/proxy_request.t ......... ok
t/base/simple.t ................ ok
t/base/ua.t .................... ok
t/base/ua_handlers.t ........... ok
t/leak/no_leak.t ............... ok
t/local/autoload-get.t ......... ok
t/local/autoload.t ............. ok
t/local/cookie_jar.t ........... ok
t/local/download_to_fh.t ....... ok
t/local/get.t .................. ok
t/local/http.t ................. ok
t/local/httpsub.t .............. ok
t/local/protosub.t ............. ok
t/redirect.t ................... ok
t/robot/ua-get.t ............... ok
t/robot/ua.t ................... ok
All tests successful.
Files=22, Tests=311, 27 wallclock secs ( 0.07 usr 0.04 sys + 2.90 cusr 0.57 csys = 3.58 CPU)
Result: PASS
------------------------------
PREREQUISITES
------------------------------
Prerequisite modules loaded:
runtime:
Module Need Have
--------------------- -------- --------
Digest::MD5 0 2.58_01
Encode 2.12 3.19
Encode::Locale 0 1.05
File::Copy 0 2.41
File::Listing 6 6.16
File::Temp 0 0.2311
Getopt::Long 0 2.54
HTML::Entities 0 3.81
HTML::HeadParser 3.71 3.81
HTTP::CookieJar::LWP 0 0.014
HTTP::Cookies 6 6.10
HTTP::Date 6 6.06
HTTP::Negotiate 6 6.01
HTTP::Request 6.18 6.44
HTTP::Request::Common 6.18 6.44
HTTP::Response 6.18 6.44
HTTP::Status 6.18 6.44
IO::Select 0 1.52
IO::Socket 0 1.52
LWP::MediaTypes 6 6.04
MIME::Base64 2.1 3.16_01
Module::Load 0 0.36
Net::FTP 2.58 3.15
Net::HTTP 6.18 6.23
parent 0.217 0.241
perl 5.008001 5.038000
Scalar::Util 0 1.63
strict 0 1.12
Try::Tiny 0 0.31
URI 1.10 5.19
URI::Escape 0 5.19
warnings 0 1.65
WWW::RobotRules 6 6.02
build:
Module Need Have
--------------------- -------- --------
ExtUtils::MakeMaker 0 7.70
configure:
Module Need Have
--------------------- -------- --------
ExtUtils::MakeMaker 0 7.70
File::Copy 0 2.41
Getopt::Long 0 2.54
------------------------------
ENVIRONMENT AND OTHER CONTEXT
------------------------------
Environment variables:
LANG = en_US.UTF-8
LC_ALL = en_US.UTF-8
LDFLAGS = -L/usr/local/opt/curl/lib
PATH = /Users/stan/perl5/perlbrew/bin:/Users/stan/perl5/perlbrew/perls/perl-5.38.0/bin:/Users/stan/perl5/perlbrew/bin:/Users/stan/perl5/perlbrew/perls/perl-5.38.0/bin:/usr/local/opt/mysql-client/bin:/usr/local/opt/curl/bin:/usr/local/bin:/usr/local/sbin:/usr/local/bin:/System/Cryptexes/App/usr/bin:/usr/bin:/bin:/usr/sbin:/sbin:/Applications/Little Snitch.app/Contents/Components:/opt/X11/bin:/var/run/com.apple.security.cryptexd/codex.system/bootstrap/usr/local/bin:/var/run/com.apple.security.cryptexd/codex.system/bootstrap/usr/bin:/var/run/com.apple.security.cryptexd/codex.system/bootstrap/usr/appleinternal/bin:/Users/stan/.vim/bin:/Users/stan/bin:/Users/stan/node_modules/.bin:/usr/local/sbin:/usr/local/opt/mysql-client/bin:/usr/local/opt/curl/bin:/Applications/kitty.app/Contents/MacOS
PERL5LIB =
PERLBREW_HOME = /Users/stan/.perlbrew
PERLBREW_LIB =
PERLBREW_MANPATH = /Users/stan/perl5/perlbrew/perls/perl-5.38.0/man
PERLBREW_PATH = /Users/stan/perl5/perlbrew/bin:/Users/stan/perl5/perlbrew/perls/perl-5.38.0/bin
PERLBREW_PERL = perl-5.38.0
PERLBREW_ROOT = /Users/stan/perl5/perlbrew
PERLBREW_SHELLRC_VERSION = 0.92
PERLBREW_VERSION = 0.92
PERL_LOCAL_LIB_ROOT =
PERL_MM_USE_DEFAULT = 1
SHELL = /usr/local/bin/zsh
TERM = screen-256color
TMPDIR = /var/folders/tk/hx6fvpsj3yzbyd1k1br945mc0000gn/T/
Perl special variables (and OS-specific diagnostics, for MSWin32):
EGID = 20 20 12 61 79 80 81 98 701 33 100 204 250 395 398 101 400
EUID = 501
EXECUTABLE_NAME = /Users/stan/perl5/perlbrew/perls/perl-5.38.0/bin/perl
GID = 20 20 12 61 79 80 81 98 701 33 100 204 250 395 398 101 400
UID = 501
Perl module toolchain versions installed:
Module Have
------------------- --------
CPAN 2.36
CPAN::Meta 2.150010
Cwd 3.89
ExtUtils::CBuilder 0.280238
ExtUtils::Command 7.70
ExtUtils::Install 2.22
ExtUtils::MakeMaker 7.70
ExtUtils::Manifest 1.75
ExtUtils::ParseXS 3.51
File::Spec 3.88
JSON 4.10
JSON::PP 4.16
Module::Build 0.4234
Module::Signature 0.88
Parse::CPAN::Meta 2.150010
Test::Harness 3.44
Test::More 1.302195
YAML 1.30
YAML::Syck n/a
version 0.9929
--
Summary of my perl5 (revision 5 version 38 subversion 0) configuration:
Platform:
osname=darwin
osvers=22.5.0
archname=darwin-2level
uname='darwin imac.fritz.box 22.5.0 darwin kernel version 22.5.0: thu jun 8 22:22:22 pdt 2023; root:xnu-8796.121.3~7release_x86_64 x86_64 '
config_args='-de -Dprefix=/Users/stan/perl5/perlbrew/perls/perl-5.38.0 -Aeval:scriptdir=/Users/stan/perl5/perlbrew/perls/perl-5.38.0/bin'
hint=recommended
useposix=true
d_sigaction=define
useithreads=undef
usemultiplicity=undef
use64bitint=define
use64bitall=define
uselongdouble=undef
usemymalloc=n
default_inc_excludes_dot=define
Compiler:
cc='cc'
ccflags ='-fno-common -DPERL_DARWIN -mmacosx-version-min=13.4 -DNO_POSIX_2008_LOCALE -fno-strict-aliasing -pipe -fstack-protector-strong -I/usr/local/include'
optimize='-O3'
cppflags='-fno-common -DPERL_DARWIN -mmacosx-version-min=13.4 -DNO_POSIX_2008_LOCALE -fno-strict-aliasing -pipe -fstack-protector-strong -I/usr/local/include'
ccversion=''
gccversion='Apple LLVM 14.0.3 (clang-1403.0.22.14.1)'
gccosandvers=''
intsize=4
longsize=8
ptrsize=8
doublesize=8
byteorder=12345678
doublekind=3
d_longlong=define
longlongsize=8
d_longdbl=define
longdblsize=16
longdblkind=3
ivtype='long'
ivsize=8
nvtype='double'
nvsize=8
Off_t='off_t'
lseeksize=8
alignbytes=8
prototype=define
Linker and Libraries:
ld='cc'
ldflags =' -mmacosx-version-min=13.4 -fstack-protector-strong -L/usr/local/lib'
libpth=/usr/local/lib /Library/Developer/CommandLineTools/usr/lib/clang/14.0.3/lib /Library/Developer/CommandLineTools/SDKs/MacOSX13.3.sdk/usr/lib /Library/Developer/CommandLineTools/usr/lib /usr/lib
libs=-lgdbm -ldb
perllibs=
libc=
so=dylib
useshrplib=false
libperl=libperl.a
gnulibc_version=''
Dynamic Linking:
dlsrc=dl_dlopen.xs
dlext=bundle
d_dlsymun=undef
ccdlflags=' '
cccdlflags=' '
lddlflags=' -mmacosx-version-min=13.4 -bundle -undefined dynamic_lookup -L/usr/local/lib -fstack-protector-strong'
Characteristics of this binary (from libperl):
Compile-time options:
HAS_LONG_DOUBLE
HAS_STRTOLD
HAS_TIMES
PERLIO_LAYERS
PERL_COPY_ON_WRITE
PERL_DONT_CREATE_GVSV
PERL_HASH_FUNC_SIPHASH13
PERL_HASH_USE_SBOX32
PERL_MALLOC_WRAP
PERL_OP_PARENT
PERL_PRESERVE_IVUV
PERL_USE_SAFE_PUTENV
USE_64_BIT_ALL
USE_64_BIT_INT
USE_LARGE_FILES
USE_LOCALE
USE_LOCALE_COLLATE
USE_LOCALE_CTYPE
USE_LOCALE_NUMERIC
USE_LOCALE_TIME
USE_PERLIO
USE_PERL_ATOF
Built under darwin
Compiled at Jul 3 2023 07:56:20
%ENV:
PERL5LIB=""
PERLBREW_HOME="/Users/stan/.perlbrew"
PERLBREW_LIB=""
PERLBREW_MANPATH="/Users/stan/perl5/perlbrew/perls/perl-5.38.0/man"
PERLBREW_PATH="/Users/stan/perl5/perlbrew/bin:/Users/stan/perl5/perlbrew/perls/perl-5.38.0/bin"
PERLBREW_PERL="perl-5.38.0"
PERLBREW_ROOT="/Users/stan/perl5/perlbrew"
PERLBREW_SHELLRC_VERSION="0.92"
PERLBREW_VERSION="0.92"
PERL_LOCAL_LIB_ROOT=""
PERL_MM_USE_DEFAULT="1"
@INC:
/Users/stan/perl5/perlbrew/perls/perl-5.38.0/lib/site_perl/5.38.0/darwin-2level
/Users/stan/perl5/perlbrew/perls/perl-5.38.0/lib/site_perl/5.38.0
/Users/stan/perl5/perlbrew/perls/perl-5.38.0/lib/5.38.0/darwin-2level
/Users/stan/perl5/perlbrew/perls/perl-5.38.0/lib/5.38.0