Report for HTML-Format-2.11

Back
From: metabase:user:314402c4-2aae-11df-837a-5e0a49663a4f
Subject: PASS HTML-Format-2.11 v5.8.9 FreeBSD
Date: 2013-10-27T21:15:19Z

This distribution has been tested as part of the CPAN Testers
project, supporting the Perl programming language.  See
http://wiki.cpantesters.org/ for more information or email
questions to cpan-testers-discuss@perl.org


--
Dear Nigel Metheringham,

This is a computer-generated report for HTML-Format-2.11
on perl 5.8.9, created by CPAN-Reporter-1.2006.

Thank you for uploading your work to CPAN.  Congratulations!
All tests were successful.

Sections of this report:

    * Tester comments
    * Program output
    * Prerequisites
    * Environment and other context

------------------------------
TESTER COMMENTS
------------------------------

Additional comments from tester:

none provided

------------------------------
PROGRAM OUTPUT
------------------------------

Output from './Build test':

t/00-compile.t ............... ok
# Testing with Perl 5.008009, /usr/perl5.8.9/bin/perl5.8.9
#     Carp version is 1.26
#     Data::Dumper version is 2.145
#     Encode version is 2.49
#     File::Slurp version is 9999.19
#     File::Spec version is 3.40
#     Font::Metrics::Courier version is undefined
#     Font::Metrics::CourierBold version is undefined
#     Font::Metrics::CourierBoldOblique version is undefined
#     Font::Metrics::CourierOblique version is undefined
#     Font::Metrics::Helvetica version is undefined
#     Font::Metrics::HelveticaBold version is undefined
#     Font::Metrics::HelveticaBoldOblique version is undefined
#     Font::Metrics::HelveticaOblique version is undefined
#     Font::Metrics::TimesBold version is undefined
#     Font::Metrics::TimesBoldItalic version is undefined
#     Font::Metrics::TimesItalic version is undefined
#     Font::Metrics::TimesRoman version is undefined
#     HTML::Element version is 5.03
#     HTML::TreeBuilder version is 5.03
#     IO::File version is 1.14
#     IO::Handle version is 1.28
#     IPC::Open3 version is 1.03
#     Module::Build version is 0.4007
#     Scalar::Util version is 1.33
#     Test::More version is 0.99
#     base version is 2.18
#     bytes version is 1.02
#     integer version is 1.00
#     parent version is 0.226
#     strict version is 1.03
#     utf8 version is 1.07
#     warnings version is 1.05_01
t/000-report-versions.t ...... ok
t/01_ps.t .................... ok
t/02_rtf.t ................... ok
t/03_text.t .................. ok
t/04_md.t .................... ok
t/author-critic.t ............ skipped: these tests are for testing by the author
t/author-pod-spell.t ......... skipped: these tests are for testing by the author
t/release-dist-manifest.t .... skipped: these tests are for release candidate testing
t/release-distmeta.t ......... skipped: these tests are for release candidate testing
t/release-eol.t .............. skipped: these tests are for release candidate testing
t/release-has-version.t ...... skipped: these tests are for release candidate testing
t/release-minimum-version.t .. skipped: these tests are for release candidate testing
t/release-no-tabs.t .......... skipped: these tests are for release candidate testing
t/release-pod-syntax.t ....... skipped: these tests are for release candidate testing
t/release-portability.t ...... skipped: these tests are for release candidate testing
t/release-synopsis.t ......... skipped: these tests are for release candidate testing
t/release-unused-vars.t ...... skipped: these tests are for release candidate testing
t/rt69426.t .................. ok
All tests successful.
Files=19, Tests=103,  2 wallclock secs ( 0.10 usr  0.03 sys +  0.96 cusr  0.24 csys =  1.34 CPU)
Result: PASS

------------------------------
PREREQUISITES
------------------------------

Prerequisite modules loaded:

requires:

    Module                              Need   Have    
    ----------------------------------- ------ --------
    base                                0      2.18    
    Carp                                0      1.26    
    Data::Dumper                        0      2.145   
    Encode                              0      2.49    
    Font::Metrics::Courier              0      0       
    Font::Metrics::CourierBold          0      0       
    Font::Metrics::CourierBoldOblique   0      0       
    Font::Metrics::CourierOblique       0      0       
    Font::Metrics::Helvetica            0      0       
    Font::Metrics::HelveticaBold        0      0       
    Font::Metrics::HelveticaBoldOblique 0      0       
    Font::Metrics::HelveticaOblique     0      0       
    Font::Metrics::TimesBold            0      0       
    Font::Metrics::TimesBoldItalic      0      0       
    Font::Metrics::TimesItalic          0      0       
    Font::Metrics::TimesRoman           0      0       
    HTML::Element                       3.15   5.03    
    HTML::TreeBuilder                   0      5.03    
    integer                             0      1.00    
    IO::File                            0      1.14    
    parent                              0      0.226   
    perl                                5.008  5.008009
    strict                              0      1.03    
    utf8                                0      1.07    
    warnings                            0      1.05_01 

build_requires:

    Module                              Need   Have    
    ----------------------------------- ------ --------
    bytes                               0      1.02    
    File::Slurp                         0      9999.19 
    File::Spec                          0      3.40    
    IO::Handle                          0      1.28    
    IPC::Open3                          0      1.03    
    Module::Build                       0.3601 0.4007  
    Scalar::Util                        0      1.33    
    Test::More                          0.96   0.99    

configure_requires:

    Module                              Need   Have    
    ----------------------------------- ------ --------
    Module::Build                       0.3601 0.4007  


------------------------------
ENVIRONMENT AND OTHER CONTEXT
------------------------------

Environment variables:

    DBIC_NO_WARN_BAD_PERL = 1
    PATH = /usr/local/bin:/usr/X11R6/bin:/usr/X11/bin:/usr/perl5.8.0/bin:/usr/bin:/bin:/usr/local/sbin:/usr/sbin:/sbin:/usr/local/pilot/bin:/home2/cpansand/bin/freebsd8.0:/home2/cpansand/bin/sh:/home2/cpansand/bin:/usr/X386/bin:/usr/games:/home2/cpansand/devel:/usr/home/e/eserte/work/srezic-misc/scripts
    PERL5LIB = /usr/local/src/CPAN/build/Getopt-ArgParse-1.0.3-vNEHK6/blib/arch:/usr/local/src/CPAN/build/Getopt-ArgParse-1.0.3-vNEHK6/blib/lib
    PERL5OPT = 
    PERL5_CPANPLUS_IS_RUNNING = 25139
    PERL5_CPAN_IS_RUNNING = 25139
    PERL5_CPAN_IS_RUNNING_IN_RECURSION = 25117,25139
    PERL_BATCH = yes
    PERL_CPAN_REPORTER_CONFIG = /var/tmp/cpansmoker-1023/sOyq0qZaYD_config.ini
    PERL_EXTUTILS_AUTOINSTALL = --defaultdeps
    PERL_HTML_DISPLAY_CLASS = HTML::Display::Mozilla
    SHELL = /usr/local/bin/zsh
    TERM = screen
    TMPDIR = /var/tmp/cpansmoker-1023

Perl special variables (and OS-specific diagnostics, for MSWin32):

    $^X = /usr/perl5.8.9/bin/perl5.8.9
    $UID/$EUID = 1023 / 1023
    $GID = 1023 1023
    $EGID = 1023 1023

Perl module toolchain versions installed:

    Module              Have    
    ------------------- --------
    CPAN                2.00    
    CPAN::Meta          2.132830
    Cwd                 3.40    
    ExtUtils::CBuilder  0.280205
    ExtUtils::Command   1.16    
    ExtUtils::Install   1.54    
    ExtUtils::MakeMaker 6.72    
    ExtUtils::Manifest  1.60    
    ExtUtils::ParseXS   3.22    
    File::Spec          3.40    
    JSON                2.59    
    JSON::PP            2.27200 
    Module::Build       0.4007  
    Module::Signature   0.73    
    Parse::CPAN::Meta   1.4407  
    Test::Harness       3.29    
    Test::More          0.99    
    YAML                0.84    
    YAML::Syck          1.27    
    version             0.9901  


--

Summary of my perl5 (revision 5 version 8 subversion 9) configuration:
  Platform:
    osname=freebsd, osvers=8.0-release, archname=i386-freebsd
    uname='freebsd biokovo.herceg.de 8.0-release freebsd 8.0-release #0: sat nov 21 15:48:17 utc 2009 root@almeida.cse.buffalo.edu:usrobjusrsrcsysgeneric i386 '
    config_args='-Dprefix=/usr/perl5.8.9 -Dusemymalloc=n -D cc=ccache cc -Dgccansipedantic -Duse64bit -de -D hintfile=myfreebsd'
    hint=recommended, useposix=true, d_sigaction=define
    usethreads=undef use5005threads=undef useithreads=undef usemultiplicity=undef
    useperlio=define d_sfio=undef uselargefiles=define usesocks=undef
    use64bitint=undef use64bitall=undef uselongdouble=undef
    usemymalloc=n, bincompat5005=undef
  Compiler:
    cc='ccache cc', ccflags ='-DHAS_FPSETMASK -DHAS_FLOATINGPOINT_H -fno-strict-aliasing -pipe -I/usr/local/include',
    optimize='-O2 -mtune=athlon64 -pipe',
    cppflags='-DHAS_FPSETMASK -DHAS_FLOATINGPOINT_H -fno-strict-aliasing -pipe -I/usr/local/include'
    ccversion='', gccversion='4.2.1 20070719  [FreeBSD]', gccosandvers=''
    intsize=4, longsize=4, ptrsize=4, doublesize=8, byteorder=1234
    d_longlong=define, longlongsize=8, d_longdbl=define, longdblsize=12
    ivtype='long', ivsize=4, nvtype='double', nvsize=8, Off_t='off_t', lseeksize=8
    alignbytes=4, prototype=define
  Linker and Libraries:
    ld='ccache cc', ldflags ='-Wl,-E  -L/usr/local/lib'
    libpth=/usr/lib /usr/local/lib
    libs=-lgdbm -lm -lcrypt -lutil -lc
    perllibs=-lm -lcrypt -lutil -lc
    libc=, so=so, useshrplib=false, libperl=libperl.a
    gnulibc_version=''
  Dynamic Linking:
    dlsrc=dl_dlopen.xs, dlext=so, d_dlsymun=undef, ccdlflags=' '
    cccdlflags='-DPIC -fPIC', lddlflags='-shared  -L/usr/local/lib'


Characteristics of this binary (from libperl): 
  Compile-time options: PERL_MALLOC_WRAP USE_FAST_STDIO USE_LARGE_FILES
                        USE_PERLIO
  Built under freebsd
  Compiled at Jan 28 2011 08:40:05
  %ENV:
    PERL5LIB="/usr/local/src/CPAN/build/Getopt-ArgParse-1.0.3-vNEHK6/blib/arch:/usr/local/src/CPAN/build/Getopt-ArgParse-1.0.3-vNEHK6/blib/lib"
    PERL5OPT=""
    PERL5_CPANPLUS_IS_RUNNING="25139"
    PERL5_CPAN_IS_RUNNING="25139"
    PERL5_CPAN_IS_RUNNING_IN_RECURSION="25117,25139"
    PERL_BATCH="yes"
    PERL_CPAN_REPORTER_CONFIG="/var/tmp/cpansmoker-1023/sOyq0qZaYD_config.ini"
    PERL_EXTUTILS_AUTOINSTALL="--defaultdeps"
    PERL_HTML_DISPLAY_CLASS="HTML::Display::Mozilla"
  @INC:
    /usr/local/src/CPAN/build/Getopt-ArgParse-1.0.3-vNEHK6/blib/arch
    /usr/local/src/CPAN/build/Getopt-ArgParse-1.0.3-vNEHK6/blib/lib
    /usr/perl5.8.9/lib/5.8.9/i386-freebsd
    /usr/perl5.8.9/lib/5.8.9
    /usr/perl5.8.9/lib/site_perl/5.8.9/i386-freebsd
    /usr/perl5.8.9/lib/site_perl/5.8.9
    .