Back
From: metabase:user:31d414ea-2aae-11df-837a-5e0a49663a4f
Subject: PASS Git-PurePerl-Walker-0.004001 v5.14.4 GNU/Linux
Date: 2017-03-12T23:23:22Z
This distribution has been tested as part of the CPAN Testers
project, supporting the Perl programming language. See
http://wiki.cpantesters.org/ for more information or email
questions to cpan-testers-discuss@perl.org
--
Dear Kent Fredric,
This is a computer-generated report for Git-PurePerl-Walker-0.004001
on perl 5.14.4, created by CPAN-Reporter-1.2018.
Thank you for uploading your work to CPAN. Congratulations!
All tests were successful.
Sections of this report:
* Tester comments
* Program output
* Prerequisites
* Environment and other context
------------------------------
TESTER COMMENTS
------------------------------
Additional comments from tester:
this report is from an automated smoke testing program
and was not reviewed by a human for accuracy
------------------------------
PROGRAM OUTPUT
------------------------------
Output from '/usr/bin/make test':
PERL_DL_NONLAZY=1 "/home/david/cpantesting/perl-5.14.4/bin/perl" "-MExtUtils::Command::MM" "-MTest::Harness" "-e" "undef *Test::Harness::Switches; test_harness(0, 'blib/lib', 'blib/arch')" t/*.t t/00-compile/*.t
t/00-compile/lib_Git_PurePerl_Walker_Method_FirstParent_FromHEAD_pm.t .. ok
t/00-compile/lib_Git_PurePerl_Walker_Method_FirstParent_pm.t ........... ok
t/00-compile/lib_Git_PurePerl_Walker_OnCommit_CallBack_pm.t ............ ok
t/00-compile/lib_Git_PurePerl_Walker_OnCommit_List_pm.t ................ ok
t/00-compile/lib_Git_PurePerl_Walker_pm.t .............................. ok
t/00-compile/lib_Git_PurePerl_Walker_Role_HasRepo_pm.t ................. ok
t/00-compile/lib_Git_PurePerl_Walker_Role_Method_pm.t .................. ok
t/00-compile/lib_Git_PurePerl_Walker_Role_OnCommit_pm.t ................ ok
t/00-compile/lib_Git_PurePerl_Walker_Types_pm.t ........................ ok
#
# Versions for all modules listed in MYMETA.json (including optional ones):
#
# === Configure Requires ===
#
# Module Want Have
# ------------------- ---- ----
# ExtUtils::MakeMaker any 7.24
#
# === Configure Recommends ===
#
# Module Want Have
# ------------------- ---- ----
# ExtUtils::MakeMaker 7.00 7.24
#
# === Build Requires ===
#
# Module Want Have
# ------------------- ---- ----
# ExtUtils::MakeMaker any 7.24
#
# === Test Requires ===
#
# Module Want Have
# ------------------- ---- --------
# Archive::Tar any 1.76
# ExtUtils::MakeMaker any 7.24
# File::Spec any 3.62
# File::Temp any 0.22
# File::pushd any 1.014
# FindBin any 1.50
# Package::Stash any 0.37
# Scalar::Util any 1.47
# Test::More any 1.302078
# lib any 0.63
#
# === Test Recommends ===
#
# Module Want Have
# ------------------- -------- --------
# CPAN::Meta 2.120900 2.143240
# ExtUtils::MakeMaker 7.00 7.24
# Test::More 0.99 1.302078
#
# === Runtime Requires ===
#
# Module Want Have
# -------------------- ---- ------
# Carp any 1.38
# Git::PurePerl any 0.53
# Module::Runtime any 0.014
# Moose any 2.2004
# Moose::Role any 2.2004
# MooseX::Clone any 0.06
# MooseX::Types any 0.50
# MooseX::Types::Moose any 0.50
# Path::Tiny any 0.104
# namespace::autoclean any 0.28
# strict any 1.04
# warnings any 1.12
#
# === Runtime Recommends ===
#
# Module Want Have
# ---------- ----- ------
# Moose 2.000 2.2004
# Path::Tiny 0.058 0.104
#
t/00-report-prereqs.t .................................................. ok
t/01_test.t ............................................................ ok
t/0200_firstparent.t ................................................... ok
t/0201_firstparent_fromhead.t .......................................... ok
t/03_callback.t ........................................................ ok
t/04_list.t ............................................................ ok
All tests successful.
Files=15, Tests=36, 6 wallclock secs ( 0.04 usr 0.04 sys + 4.43 cusr 0.92 csys = 5.43 CPU)
Result: PASS
------------------------------
PREREQUISITES
------------------------------
Prerequisite modules loaded:
requires:
Module Need Have
-------------------- ----- --------
Carp 0 1.38
Git::PurePerl 0 0.53
Module::Runtime 0 0.014
Moose 0 2.2004
Moose::Role 0 2.2004
MooseX::Clone 0 0.06
MooseX::Types 0 0.50
MooseX::Types::Moose 0 0.50
namespace::autoclean 0 0.28
Path::Tiny 0 0.104
perl 5.006 5.014004
strict 0 1.04
warnings 0 1.12
build_requires:
Module Need Have
-------------------- ----- --------
Archive::Tar 0 1.76
ExtUtils::MakeMaker 0 7.24
File::pushd 0 1.014
File::Spec 0 3.62
File::Temp 0 0.22
FindBin 0 1.50
lib 0 0.63
Package::Stash 0 0.37
Scalar::Util 0 1.47
Test::More 0 1.302078
configure_requires:
Module Need Have
-------------------- ----- --------
ExtUtils::MakeMaker 0 7.24
perl 5.006 5.014004
------------------------------
ENVIRONMENT AND OTHER CONTEXT
------------------------------
Environment variables:
AUTOMATED_TESTING = 1
NONINTERACTIVE_TESTING = 1
PATH = /usr/local/bin:/usr/bin:/bin:/usr/local/games:/usr/games
PERL = 5.14.4
PERL5LIB =
PERL5OPT =
PERL5_CPANPLUS_IS_RUNNING = 26951
PERL5_CPAN_IS_RUNNING = 26951
PERLVER = 5.14.4
PERL_INLINE_DIRECTORY = /home/david/.Inline-5.14.4
PERL_MM_USE_DEFAULT = 1
SHELL = /bin/bash
TERM = screen
Perl special variables (and OS-specific diagnostics, for MSWin32):
$^X = /home/david/cpantesting/perl-5.14.4/bin/perl
$UID/$EUID = 1000 / 1000
$GID = 1000 1000
$EGID = 1000 1000
Perl module toolchain versions installed:
Module Have
------------------- --------
CPAN 2.16
CPAN::Meta 2.143240
Cwd 3.62
ExtUtils::CBuilder 0.280203
ExtUtils::Command 7.24
ExtUtils::Install 2.04
ExtUtils::MakeMaker 7.24
ExtUtils::Manifest 1.70
ExtUtils::ParseXS 2.2210
File::Spec 3.62
JSON 2.90
JSON::PP 2.27400
Module::Build 0.4220
Module::Signature n/a
Parse::CPAN::Meta 1.4414
Test::Harness 3.36
Test::More 1.302078
YAML 1.18
YAML::Syck n/a
version 0.88
--
Summary of my perl5 (revision 5 version 14 subversion 4) configuration:
Platform:
osname=linux, osvers=3.16.0-4-amd64, archname=x86_64-linux-thread-multi
uname='linux pigsty.barnyard.co.uk 3.16.0-4-amd64 #1 smp debian 3.16.36-1+deb8u1 (2016-09-03) x86_64 gnulinux '
config_args='-de -Duse64bitall -Dusethreads -Dprefix=/home/david/cpantesting/perl-5.14.4'
hint=recommended, useposix=true, d_sigaction=define
useithreads=define, usemultiplicity=define
useperlio=define, d_sfio=undef, uselargefiles=define, usesocks=undef
use64bitint=define, use64bitall=define, uselongdouble=undef
usemymalloc=n, bincompat5005=undef
Compiler:
cc='cc', ccflags ='-D_REENTRANT -D_GNU_SOURCE -fno-strict-aliasing -pipe -fstack-protector -I/usr/local/include -D_LARGEFILE_SOURCE -D_FILE_OFFSET_BITS=64',
optimize='-O2',
cppflags='-D_REENTRANT -D_GNU_SOURCE -fno-strict-aliasing -pipe -fstack-protector -I/usr/local/include'
ccversion='', gccversion='4.9.2', gccosandvers=''
intsize=4, longsize=8, ptrsize=8, doublesize=8, byteorder=12345678
d_longlong=define, longlongsize=8, d_longdbl=define, longdblsize=16
ivtype='long', ivsize=8, nvtype='double', nvsize=8, Off_t='off_t', lseeksize=8
alignbytes=8, prototype=define
Linker and Libraries:
ld='cc', ldflags =' -fstack-protector -L/usr/local/lib'
libpth=/usr/local/lib /lib/x86_64-linux-gnu /lib/../lib /usr/lib/x86_64-linux-gnu /usr/lib/../lib /lib /usr/lib
libs=-lnsl -ldb -ldl -lm -lcrypt -lutil -lpthread -lc
perllibs=-lnsl -ldl -lm -lcrypt -lutil -lpthread -lc
libc=libc-2.19.so, so=so, useshrplib=false, libperl=libperl.a
gnulibc_version='2.19'
Dynamic Linking:
dlsrc=dl_dlopen.xs, dlext=so, d_dlsymun=undef, ccdlflags='-Wl,-E'
cccdlflags='-fPIC', lddlflags='-shared -O2 -L/usr/local/lib -fstack-protector'
Characteristics of this binary (from libperl):
Compile-time options: MULTIPLICITY PERL_DONT_CREATE_GVSV
PERL_IMPLICIT_CONTEXT PERL_MALLOC_WRAP
PERL_PRESERVE_IVUV USE_64_BIT_ALL USE_64_BIT_INT
USE_ITHREADS USE_LARGE_FILES USE_PERLIO USE_PERL_ATOF
USE_REENTRANT_API
Locally applied patches:
Devel::PatchPerl 1.44
Built under linux
Compiled at Oct 12 2016 15:07:52
%ENV:
PERL="5.14.4"
PERL5LIB=""
PERL5OPT=""
PERL5_CPANPLUS_IS_RUNNING="26951"
PERL5_CPAN_IS_RUNNING="26951"
PERLVER="5.14.4"
PERL_INLINE_DIRECTORY="/home/david/.Inline-5.14.4"
PERL_MM_USE_DEFAULT="1"
@INC:
/home/david/cpantesting/perl-5.14.4/lib/site_perl/5.14.4/x86_64-linux-thread-multi
/home/david/cpantesting/perl-5.14.4/lib/site_perl/5.14.4
/home/david/cpantesting/perl-5.14.4/lib/5.14.4/x86_64-linux-thread-multi
/home/david/cpantesting/perl-5.14.4/lib/5.14.4
.