Term-ReadLine-Perl5 v1.45 Perl 5 v5.27.3 x86_64-linux-ld
- Status
- Pass
- From
- Nigel Horne
- Dist
-
Term-ReadLine-Perl5 v1.45
- Platform
- Perl 5 v5.27.3 x86_64-linux-ld
- Date
- 2017-10-18 12:00:07
- ID
- e257062c-b3fb-11e7-9be1-bbe64cf6c7cd
This distribution has been tested as part of the CPAN Testers
project, supporting the Perl programming language. See
http://wiki.cpantesters.org/ for more information or email
questions to cpan-testers-discuss@perl.org
--
Dear Rocky Bernstein,
This is a computer-generated report for Term-ReadLine-Perl5-1.45
on perl 5.27.3, created by CPAN-Reporter-1.2018.
Thank you for uploading your work to CPAN. Congratulations!
All tests were successful.
Sections of this report:
* Tester comments
* Program output
* Prerequisites
* Environment and other context
------------------------------
TESTER COMMENTS
------------------------------
Additional comments from tester:
this report is from an automated smoke testing program
and was not reviewed by a human for accuracy
------------------------------
PROGRAM OUTPUT
------------------------------
Output from '/usr/bin/make test':
perl Build --makefile_env_macros 1 test
t/00test-pod.t ................. skipped: Test::Pod 1.44 required for testing POD
Unable to get Terminal Size. The TIOCGWINSZ ioctl didn't work. The COLUMNS and LINES environment variables didn't work. The resize program didn't work. The stty program didn't work. at /home/njh/.cpan/build/Term-ReadLine-Perl5-1.45-40/blib/lib/Term/ReadLine/Perl5/readline.pm line 2937.
test.pl ........................ skipped: Not interactive: $ENV{PERL_MM_NONINTERACTIVE}='' $ENV{AUTOMATED_TESTING}='1'
Unable to get Terminal Size. The TIOCGWINSZ ioctl didn't work. The COLUMNS and LINES environment variables didn't work. The resize program didn't work. The stty program didn't work. at /home/njh/.cpan/build/Term-ReadLine-Perl5-1.45-40/blib/lib/Term/ReadLine/Perl5/readline.pm line 2937.
t/01test-OO-compile.t .......... ok
Unable to get Terminal Size. The TIOCGWINSZ ioctl didn't work. The COLUMNS and LINES environment variables didn't work. The resize program didn't work. The stty program didn't work. at /home/njh/.cpan/build/Term-ReadLine-Perl5-1.45-40/blib/lib/Term/ReadLine/Perl5/readline.pm line 2937.
t/02test-OO-history-max-len.t .. ok
t/10test-basic.t ............... ok
Unable to get Terminal Size. The TIOCGWINSZ ioctl didn't work. The COLUMNS and LINES environment variables didn't work. The resize program didn't work. The stty program didn't work. at /home/njh/.cpan/build/Term-ReadLine-Perl5-1.45-40/blib/lib/Term/ReadLine/Perl5/readline.pm line 2937.
t/10test-common.t .............. ok
t/10test-changecase.t .......... ok
t/10test-filelist.t ............ ok
t/10test-history.t ............. ok
t/10test-readline.t ............ ok
Unable to get Terminal Size. The TIOCGWINSZ ioctl didn't work. The COLUMNS and LINES environment variables didn't work. The resize program didn't work. The stty program didn't work. at /home/njh/.cpan/build/Term-ReadLine-Perl5-1.45-40/blib/lib/Term/ReadLine/Perl5/readline.pm line 2937.
t/20test-read-input-file.t ..... ok
t/10test-motion.t .............. ok
t/15test-unescape.t ............ ok
All tests successful.
Files=13, Tests=132, 0 wallclock secs ( 0.04 usr 0.01 sys + 1.29 cusr 0.15 csys = 1.49 CPU)
Result: PASS
------------------------------
PREREQUISITES
------------------------------
Prerequisite modules loaded:
requires:
Module Need Have
------------------------------- -------- --------
Class::Accessor::Lite 0.05 0.08
File::HomeDir 0.81 1.002
File::Spec 0 3.68
IO::Handle 0 1.36
perl 5.008005 5.027003
POSIX 0 1.77
Term::ReadKey 2.3 2.37
Text::VisualWidth::PP 0 0.04
Unicode::EastAsianWidth::Detect 0.03 0.03
version 0 0.9918
build_requires:
Module Need Have
------------------------------- -------- --------
File::HomeDir 0.81 1.002
File::Spec 0 3.68
Term::Cap 0 1.17
Term::ReadKey 2.3 2.37
Test::More 0.98 1.302073
configure_requires:
Module Need Have
------------------------------- -------- --------
Module::Build 0.4004 0.4224
perl 5.008005 5.027003
------------------------------
ENVIRONMENT AND OTHER CONTEXT
------------------------------
Environment variables:
AUTOMATED_TESTING = 1
HARNESS_OPTIONS = j4
LANG = en_GB.UTF-8
LANGUAGE = en_GB:en
PATH = /home/njh/perl5/perlbrew/bin:/home/njh/perl5/perlbrew/perls/perl-5.27.3-ld/bin:/home/njh/perl5/perlbrew/bin:/usr/bin:/bin
PERL5LIB = /home/njh/.cpan/build/Unicode-EastAsianWidth-Detect-0.03-37/blib/arch:/home/njh/.cpan/build/Unicode-EastAsianWidth-Detect-0.03-37/blib/lib:/home/njh/.cpan/build/Text-VisualWidth-PP-0.04-37/blib/arch:/home/njh/.cpan/build/Text-VisualWidth-PP-0.04-37/blib/lib:/home/njh/.cpan/build/Unicode-EastAsianWidth-1.33-37/blib/arch:/home/njh/.cpan/build/Unicode-EastAsianWidth-1.33-37/blib/lib:/home/njh/.cpan/build/TermReadKey-2.37-17/blib/arch:/home/njh/.cpan/build/TermReadKey-2.37-17/blib/lib:/home/njh/.cpan/build/Class-Accessor-Lite-0.08-37/blib/arch:/home/njh/.cpan/build/Class-Accessor-Lite-0.08-37/blib/lib:/home/njh/.cpan/build/Module-Build-0.4224-3/blib/arch:/home/njh/.cpan/build/Module-Build-0.4224-3/blib/lib:/home/njh/.cpan/build/JSON-Parse-0.53-40/blib/arch:/home/njh/.cpan/build/JSON-Parse-0.53-40/blib/lib
PERL5OPT =
PERL5_CPANPLUS_IS_RUNNING = 29788
PERL5_CPAN_IS_RUNNING = 29788
PERLBREW_BASHRC_VERSION = 0.80
PERLBREW_HOME = /home/njh/.perlbrew
PERLBREW_LIB =
PERLBREW_MANPATH = /home/njh/perl5/perlbrew/perls/perl-5.27.3-ld/man
PERLBREW_PATH = /home/njh/perl5/perlbrew/bin:/home/njh/perl5/perlbrew/perls/perl-5.27.3-ld/bin
PERLBREW_PERL = perl-5.27.3-ld
PERLBREW_ROOT = /home/njh/perl5/perlbrew
PERLBREW_VERSION = 0.80
PERL_LOCAL_LIB_ROOT =
PERL_USE_UNSAFE_INC = 1
SHELL = /bin/sh
Perl special variables (and OS-specific diagnostics, for MSWin32):
$^X = /home/njh/perl5/perlbrew/perls/perl-5.27.3-ld/bin/perl
$UID/$EUID = 1000 / 1000
$GID = 1000 4 24 25 29 30 44 46 108 112 1000
$EGID = 1000 4 24 25 29 30 44 46 108 112 1000
Perl module toolchain versions installed:
Module Have
------------------- --------
CPAN 2.18
CPAN::Meta 2.150010
Cwd 3.68
ExtUtils::CBuilder 0.280228
ExtUtils::Command 7.30
ExtUtils::Install 2.14
ExtUtils::MakeMaker 7.30
ExtUtils::Manifest 1.70
ExtUtils::ParseXS 3.35
File::Spec 3.68
JSON n/a
JSON::PP 2.94
Module::Build 0.4224
Module::Signature n/a
Parse::CPAN::Meta 2.150010
Test::Harness 3.39
Test::More 1.302073
YAML n/a
YAML::Syck 1.30
version 0.9918
--
Summary of my perl5 (revision 5 version 27 subversion 3) configuration:
Platform:
osname=linux
osvers=4.11.0-1-amd64
archname=x86_64-linux-ld
uname='linux gateway 4.11.0-1-amd64 #1 smp debian 4.11.6-1 (2017-06-19) x86_64 gnulinux '
config_args='-de -Dprefix=/home/njh/perl5/perlbrew/perls/perl-5.27.3-ld -Dusedevel -Duselongdouble -Dusedevel -Accflags= -Aeval:scriptdir=/home/njh/perl5/perlbrew/perls/perl-5.27.3-ld/bin'
hint=recommended
useposix=true
d_sigaction=define
useithreads=undef
usemultiplicity=undef
use64bitint=define
use64bitall=define
uselongdouble=define
usemymalloc=n
default_inc_excludes_dot=define
bincompat5005=undef
Compiler:
cc='cc'
ccflags ='-fwrapv -fno-strict-aliasing -pipe -fstack-protector-strong -I/usr/local/include -D_LARGEFILE_SOURCE -D_FILE_OFFSET_BITS=64 -D_FORTIFY_SOURCE=2'
optimize='-O2'
cppflags='-fwrapv -fno-strict-aliasing -pipe -fstack-protector-strong -I/usr/local/include'
ccversion=''
gccversion='7.2.0'
gccosandvers=''
intsize=4
longsize=8
ptrsize=8
doublesize=8
byteorder=12345678
doublekind=3
d_longlong=define
longlongsize=8
d_longdbl=define
longdblsize=16
longdblkind=3
ivtype='long'
ivsize=8
nvtype='long double'
nvsize=16
Off_t='off_t'
lseeksize=8
alignbytes=16
prototype=define
Linker and Libraries:
ld='cc'
ldflags =' -fstack-protector-strong -L/usr/local/lib'
libpth=/usr/local/lib /usr/lib/gcc/x86_64-linux-gnu/7/include-fixed /usr/include/x86_64-linux-gnu /usr/lib /lib/x86_64-linux-gnu /lib/../lib /usr/lib/x86_64-linux-gnu /usr/lib/../lib /lib
libs=-lpthread -lnsl -lgdbm -ldb -ldl -lm -lcrypt -lutil -lc -lgdbm_compat
perllibs=-lpthread -lnsl -ldl -lm -lcrypt -lutil -lc
libc=libc-2.24.so
so=so
useshrplib=false
libperl=libperl.a
gnulibc_version='2.24'
Dynamic Linking:
dlsrc=dl_dlopen.xs
dlext=so
d_dlsymun=undef
ccdlflags='-Wl,-E'
cccdlflags='-fPIC'
lddlflags='-shared -O2 -L/usr/local/lib -fstack-protector-strong'
Characteristics of this binary (from libperl):
Compile-time options:
HAS_TIMES
PERLIO_LAYERS
PERL_COPY_ON_WRITE
PERL_DONT_CREATE_GVSV
PERL_MALLOC_WRAP
PERL_OP_PARENT
PERL_PRESERVE_IVUV
PERL_USE_DEVEL
USE_64_BIT_ALL
USE_64_BIT_INT
USE_LARGE_FILES
USE_LOCALE
USE_LOCALE_COLLATE
USE_LOCALE_CTYPE
USE_LOCALE_NUMERIC
USE_LOCALE_TIME
USE_LONG_DOUBLE
USE_PERLIO
USE_PERL_ATOF
Built under linux
Compiled at Sep 24 2017 00:55:07
%ENV:
PERL5LIB="/home/njh/.cpan/build/Unicode-EastAsianWidth-Detect-0.03-37/blib/arch:/home/njh/.cpan/build/Unicode-EastAsianWidth-Detect-0.03-37/blib/lib:/home/njh/.cpan/build/Text-VisualWidth-PP-0.04-37/blib/arch:/home/njh/.cpan/build/Text-VisualWidth-PP-0.04-37/blib/lib:/home/njh/.cpan/build/Unicode-EastAsianWidth-1.33-37/blib/arch:/home/njh/.cpan/build/Unicode-EastAsianWidth-1.33-37/blib/lib:/home/njh/.cpan/build/TermReadKey-2.37-17/blib/arch:/home/njh/.cpan/build/TermReadKey-2.37-17/blib/lib:/home/njh/.cpan/build/Class-Accessor-Lite-0.08-37/blib/arch:/home/njh/.cpan/build/Class-Accessor-Lite-0.08-37/blib/lib:/home/njh/.cpan/build/Module-Build-0.4224-3/blib/arch:/home/njh/.cpan/build/Module-Build-0.4224-3/blib/lib:/home/njh/.cpan/build/JSON-Parse-0.53-40/blib/arch:/home/njh/.cpan/build/JSON-Parse-0.53-40/blib/lib"
PERL5OPT=""
PERL5_CPANPLUS_IS_RUNNING="29788"
PERL5_CPAN_IS_RUNNING="29788"
PERLBREW_BASHRC_VERSION="0.80"
PERLBREW_HOME="/home/njh/.perlbrew"
PERLBREW_LIB=""
PERLBREW_MANPATH="/home/njh/perl5/perlbrew/perls/perl-5.27.3-ld/man"
PERLBREW_PATH="/home/njh/perl5/perlbrew/bin:/home/njh/perl5/perlbrew/perls/perl-5.27.3-ld/bin"
PERLBREW_PERL="perl-5.27.3-ld"
PERLBREW_ROOT="/home/njh/perl5/perlbrew"
PERLBREW_VERSION="0.80"
PERL_LOCAL_LIB_ROOT=""
PERL_USE_UNSAFE_INC="1"
@INC:
/home/njh/.cpan/build/Unicode-EastAsianWidth-Detect-0.03-37/blib/arch
/home/njh/.cpan/build/Unicode-EastAsianWidth-Detect-0.03-37/blib/lib
/home/njh/.cpan/build/Text-VisualWidth-PP-0.04-37/blib/arch
/home/njh/.cpan/build/Text-VisualWidth-PP-0.04-37/blib/lib
/home/njh/.cpan/build/Unicode-EastAsianWidth-1.33-37/blib/arch
/home/njh/.cpan/build/Unicode-EastAsianWidth-1.33-37/blib/lib
/home/njh/.cpan/build/TermReadKey-2.37-17/blib/arch
/home/njh/.cpan/build/TermReadKey-2.37-17/blib/lib
/home/njh/.cpan/build/Class-Accessor-Lite-0.08-37/blib/arch
/home/njh/.cpan/build/Class-Accessor-Lite-0.08-37/blib/lib
/home/njh/.cpan/build/Module-Build-0.4224-3/blib/arch
/home/njh/.cpan/build/Module-Build-0.4224-3/blib/lib
/home/njh/.cpan/build/JSON-Parse-0.53-40/blib/arch
/home/njh/.cpan/build/JSON-Parse-0.53-40/blib/lib
/home/njh/perl5/perlbrew/perls/perl-5.27.3-ld/lib/site_perl/5.27.3/x86_64-linux-ld
/home/njh/perl5/perlbrew/perls/perl-5.27.3-ld/lib/site_perl/5.27.3
/home/njh/perl5/perlbrew/perls/perl-5.27.3-ld/lib/5.27.3/x86_64-linux-ld
/home/njh/perl5/perlbrew/perls/perl-5.27.3-ld/lib/5.27.3
.