SOAP-Lite v1.27 Perl 5 v5.41.2 x86_64-linux-ld
- Status
- Pass
- From
- Andreas J. König (ANDK)
- Dist
-
SOAP-Lite v1.27
- Platform
- Perl 5 v5.41.2 x86_64-linux-ld
- Date
- 2024-07-30 04:33:35
- ID
- e269bbbe-4e2c-11ef-890e-a621aaf5cf5c
This distribution has been tested as part of the CPAN Testers
project, supporting the Perl programming language. See
http://wiki.cpantesters.org/ for more information or email
questions to cpan-testers-discuss@perl.org
--
Dear Fred Moyer,
This is a computer-generated report for SOAP-Lite-1.27
on perl 5.41.2, created by CPAN-Reporter-1.2019.
Thank you for uploading your work to CPAN. Congratulations!
All tests were successful.
Sections of this report:
* Tester comments
* Program output
* Prerequisites
* Environment and other context
------------------------------
TESTER COMMENTS
------------------------------
Additional comments from tester:
this report is from an automated smoke testing program
and was not reviewed by a human for accuracy
------------------------------
PROGRAM OUTPUT
------------------------------
Output from '/usr/bin/make test':
PERL_DL_NONLAZY=1 "/home/sand/src/perl/repoperls/installed-perls/host/k93msid/v5.41.2/fc43/bin/perl" "-MExtUtils::Command::MM" "-MTest::Harness" "-e" "undef *Test::Harness::Switches; test_harness(0, 'blib/lib', 'blib/arch')" t/*.t t/Issues/*.t t/SOAP/*.t t/SOAP/Lite/*.t t/SOAP/Lite/Deserializer/*.t t/SOAP/Schema/*.t t/SOAP/Transport/*.t t/SOAP/Transport/HTTP/*.t
t/01-core.t .................................. ok
t/010-serializer.t ........................... ok
t/012-cloneable.t ............................ ok
t/013-array-deserialization.t ................ ok
t/014_UNIVERSAL_use.t ........................ ok
t/015_UNIVERSAL_can.t ........................ ok
t/02-payload.t ............................... ok
t/03-server.t ................................ ok
t/04-attach-cid-encoded.t .................... ok
t/04-attach.t ................................ ok
t/05-customxml.t ............................. ok
t/06-modules.t ............................... ok
t/08-schema.t ................................ ok
t/11-cgi.t ................................... skipped: 500 Can't connect to localhost:80 (Connection refused)
t/12-cgi_https.t ............................. skipped: 500 Can't connect to localhost:443 (Connection refused)
t/13-mod_perl.t .............................. skipped: 500 Can't connect to localhost:80 (Connection refused)
t/14-cgi_apache.t ............................ skipped: 500 Can't connect to localhost:80 (Connection refused)
t/15-daemon.t ................................ skipped: 500 Can't connect to localhost:80 (Connection refused)
t/17-mod_soap.t .............................. skipped: 500 Can't connect to localhost:80 (Connection refused)
t/19-apachesoap.t ............................ skipped: 500 Can't connect to localhost:8080 (Connection refused)
t/21-public.t ................................ skipped: 500 Can't connect to services.xmethods.net:80 (Name or service not known)
t/22-interop_apache.t ........................ skipped: 500 Can't connect to nagoya.apache.org:5049 (Name or service not known)
t/23-ppm.t ................................... skipped: ActiveState's ppmserver.pl server seems to be broken - skipping tests
t/24-wsdl.t .................................. skipped: 500 Can't connect to services.xmethods.net:80 (Name or service not known)
t/36-leaks.t ................................. skipped: 500 Can't connect to services.soaplite.com:80 (Name or service not known)
t/38-packager.t .............................. ok
t/40-loopback.t .............................. ok
t/author-pod-syntax.t ........................ skipped: these tests are for testing by the author
t/Issues/rt107924.t .......................... ok
t/Issues/rt15176.t ........................... ok
t/Issues/rt53375.t ........................... ok
t/Issues/rt70329.t ........................... ok
t/Issues/rt70381.t ........................... skipped: This is a performance test. Set PROFILE_PERFORMANCE env var to a true value to run
t/Issues/rt72836.t ........................... skipped: Cannot test without Test::XML
t/Issues/rt74029.t ........................... skipped: not fixed yet
t/Issues/rt74308.t ........................... ok
t/Issues/rt75169.t ........................... ok
t/Issues/rt78588.t ........................... ok
t/Issues/rt88915.t ........................... ok
t/release-kwalitee.t ......................... skipped: these tests are for release candidate testing
t/SOAP/Data.t ................................ ok
t/SOAP/Lite/Deserializer/XMLSchema1999.t ..... ok
t/SOAP/Lite/Deserializer/XMLSchema2001.t ..... ok
t/SOAP/Lite/Deserializer/XMLSchemaSOAP1_1.t .. ok
t/SOAP/Lite/Deserializer/XMLSchemaSOAP1_2.t .. ok
t/SOAP/Lite/Packager.t ....................... ok
t/SOAP/Schema/WSDL.t ......................... ok
t/SOAP/Serializer.t .......................... ok
t/SOAP/Transport/HTTP.t ...................... ok
t/SOAP/Transport/HTTP/CGI.t .................. ok
t/SOAP/Transport/IO.t ........................ ok
t/SOAP/Transport/LOCAL.t ..................... ok
t/SOAP/Transport/LOOPBACK.t .................. ok
t/SOAP/Transport/MAILTO.t .................... skipped: Cannot test without Test::MockObject
t/SOAP/Transport/POP3.t ...................... ok
t/SOAP/Transport/TCP.t ....................... ok
All tests successful.
Files=56, Tests=877, 15 wallclock secs ( 0.19 usr 0.20 sys + 6.84 cusr 1.43 csys = 8.66 CPU)
Result: PASS
------------------------------
PREREQUISITES
------------------------------
Prerequisite modules loaded:
requires:
Module Need Have
-------------------- -------- --------
Class::Inspector 0 1.36
Compress::Zlib 0 2.212
constant 0 1.33
IO::SessionData 1.03 1.03
IO::Socket::SSL 0 2.088
LWP::Protocol::https 0 6.14
LWP::UserAgent 0 6.77
MIME::Base64 0 3.16_01
perl 5.006000 5.041002
Scalar::Util 0 1.63
Task::Weaken 0 1.06
URI 0 5.28
XML::Parser 2.23 2.47
build_requires:
Module Need Have
-------------------- -------- --------
ExtUtils::MakeMaker 0 7.70
IO::File 0 1.55
Test::More 0 1.302199
Test::Warn 0 0.37
XML::Parser::Lite 0.715 0.722
configure_requires:
Module Need Have
-------------------- -------- --------
ExtUtils::MakeMaker 0 7.70
opt_requires:
Module Need Have
-------------------- -------- --------
! Apache 0 n/a
! DIME::Tools 0.03 n/a
! FCGI 0 n/a
HTTP::Daemon 0 6.16
IO::File 0 1.55
MIME::Tools 0 5.515
Net::POP3 0 3.15
------------------------------
ENVIRONMENT AND OTHER CONTEXT
------------------------------
Environment variables:
AUTOMATED_TESTING = 1
LANG = en_US.UTF-8
LANGUAGE = en_US:en
PATH = /home/sand/bin:/usr/local/bin:/usr/bin:/bin:/usr/games:/usr/local/perl/bin:/usr/X11/bin:/sbin:/usr/sbin
PERL5LIB =
PERL5OPT =
PERL5_CPANPLUS_IS_RUNNING = 462428
PERL5_CPAN_IS_RUNNING = 462428
PERL_CANARY_STABILITY_NOPROMPT = 1
PERL_MM_USE_DEFAULT = 1
PERL_USE_UNSAFE_INC = 1
SHELL = /usr/bin/zsh
TERM = screen
Perl special variables (and OS-specific diagnostics, for MSWin32):
$^X = /home/sand/src/perl/repoperls/installed-perls/host/k93msid/v5.41.2/fc43/bin/perl
$UID/$EUID = 1005 / 1005
$GID = 1005 1005
$EGID = 1005 1005
Perl module toolchain versions installed:
Module Have
------------------- --------
CPAN 2.36
CPAN::Meta 2.150010
Cwd 3.92
ExtUtils::CBuilder 0.280240
ExtUtils::Command 7.70
ExtUtils::Install 2.22
ExtUtils::MakeMaker 7.70
ExtUtils::Manifest 1.75
ExtUtils::ParseXS 3.52
File::Spec 3.92
JSON 4.10
JSON::PP 4.16
Module::Build 0.4234
Module::Signature 0.88
Parse::CPAN::Meta 2.150010
Test2 1.302199
Test::Harness 3.48
Test::More 1.302199
YAML 1.31
YAML::Syck 1.34
version 0.9932
--
Summary of my perl5 (revision 5 version 41 subversion 2) configuration:
Commit id: bcb5884b9b0ae1345ac74420bacb865ba11baab3
Platform:
osname=linux
osvers=6.8.12-amd64
archname=x86_64-linux-ld
uname='linux k93msid 6.8.12-amd64 #1 smp preempt_dynamic debian 6.8.12-1 (2024-05-31) x86_64 gnulinux '
config_args='-Dprefix=/home/sand/src/perl/repoperls/installed-perls/host/k93msid/v5.41.2/fc43 -Dmyhostname=k93msid -Dinstallusrbinperl=n -Uversiononly -Dusedevel -des -Ui_db -Dlibswanted=cl pthread socket inet nsl gdbm dbm malloc dl ld sun m crypt sec util c cposix posix ucb BSD gdbm_compat -Uuseithreads -Duselongdouble -DEBUGGING=both'
hint=recommended
useposix=true
d_sigaction=define
useithreads=undef
usemultiplicity=undef
use64bitint=define
use64bitall=define
uselongdouble=define
usemymalloc=n
default_inc_excludes_dot=define
Compiler:
cc='cc'
ccflags ='-fwrapv -DDEBUGGING -fno-strict-aliasing -pipe -fstack-protector-strong -I/usr/local/include -D_LARGEFILE_SOURCE -D_FILE_OFFSET_BITS=64 -D_FORTIFY_SOURCE=2'
optimize='-O2 -g'
cppflags='-fwrapv -DDEBUGGING -fno-strict-aliasing -pipe -fstack-protector-strong -I/usr/local/include'
ccversion=''
gccversion='13.3.0'
gccosandvers=''
intsize=4
longsize=8
ptrsize=8
doublesize=8
byteorder=12345678
doublekind=3
d_longlong=define
longlongsize=8
d_longdbl=define
longdblsize=16
longdblkind=3
ivtype='long'
ivsize=8
nvtype='long double'
nvsize=16
Off_t='off_t'
lseeksize=8
alignbytes=16
prototype=define
Linker and Libraries:
ld='cc'
ldflags =' -fstack-protector-strong -L/usr/local/lib'
libpth=/usr/local/lib /usr/lib/x86_64-linux-gnu /usr/lib /usr/lib64
libs=-lpthread -ldl -lm -lcrypt -lutil -lc
perllibs=-lpthread -ldl -lm -lcrypt -lutil -lc
libc=/lib/x86_64-linux-gnu/libc.so.6
so=so
useshrplib=false
libperl=libperl.a
gnulibc_version='2.38'
Dynamic Linking:
dlsrc=dl_dlopen.xs
dlext=so
d_dlsymun=undef
ccdlflags='-Wl,-E'
cccdlflags='-fPIC'
lddlflags='-shared -O2 -g -L/usr/local/lib -fstack-protector-strong'
Characteristics of this binary (from libperl):
Compile-time options:
DEBUGGING
HAS_LONG_DOUBLE
HAS_STRTOLD
HAS_TIMES
PERLIO_LAYERS
PERL_COPY_ON_WRITE
PERL_DONT_CREATE_GVSV
PERL_HASH_FUNC_SIPHASH13
PERL_HASH_USE_SBOX32
PERL_MALLOC_WRAP
PERL_OP_PARENT
PERL_PRESERVE_IVUV
PERL_USE_DEVEL
PERL_USE_SAFE_PUTENV
USE_64_BIT_ALL
USE_64_BIT_INT
USE_LARGE_FILES
USE_LOCALE
USE_LOCALE_COLLATE
USE_LOCALE_CTYPE
USE_LOCALE_NUMERIC
USE_LOCALE_TIME
USE_LONG_DOUBLE
USE_PERLIO
USE_PERL_ATOF
Built under linux
Compiled at Jul 21 2024 20:58:08
%ENV:
PERL5LIB=""
PERL5OPT=""
PERL5_CPANPLUS_IS_RUNNING="462428"
PERL5_CPAN_IS_RUNNING="462428"
PERL_CANARY_STABILITY_NOPROMPT="1"
PERL_MM_USE_DEFAULT="1"
PERL_USE_UNSAFE_INC="1"
@INC:
/home/sand/src/perl/repoperls/installed-perls/host/k93msid/v5.41.2/fc43/lib/site_perl/5.41.2/x86_64-linux-ld
/home/sand/src/perl/repoperls/installed-perls/host/k93msid/v5.41.2/fc43/lib/site_perl/5.41.2
/home/sand/src/perl/repoperls/installed-perls/host/k93msid/v5.41.2/fc43/lib/5.41.2/x86_64-linux-ld
/home/sand/src/perl/repoperls/installed-perls/host/k93msid/v5.41.2/fc43/lib/5.41.2
.