Config-IniFiles v3.000003 Perl 5 v5.18.0 armv7l-linux-thread-multi
- Status
- Pass
- From
- Nigel Horne
- Dist
-
Config-IniFiles v3.000003
- Platform
- Perl 5 v5.18.0 armv7l-linux-thread-multi
- Date
- 2020-04-18 23:03:58
- ID
- e27277fc-81c8-11ea-baf9-8e7157f1bc38
This distribution has been tested as part of the CPAN Testers
project, supporting the Perl programming language. See
http://wiki.cpantesters.org/ for more information or email
questions to cpan-testers-discuss@perl.org
--
Dear Shlomi Fish,
This is a computer-generated report for Config-IniFiles-3.000003
on perl 5.18.0, created by CPAN-Reporter-1.2018.
Thank you for uploading your work to CPAN. Congratulations!
All tests were successful.
Sections of this report:
* Tester comments
* Program output
* Prerequisites
* Environment and other context
------------------------------
TESTER COMMENTS
------------------------------
Additional comments from tester:
none provided
------------------------------
PROGRAM OUTPUT
------------------------------
Output from './Build test':
t/01basic.t ................................... ok
t/02weird.t ................................... ok
t/00load.t .................................... ok
t/00-compile.t ................................ ok
t/03comments.t ................................ ok
t/04import.t .................................. ok
t/06oo.t ...................................... ok
t/05hash.t .................................... ok
t/07misc.t .................................... ok
t/08group.t ................................... ok
t/09case.t .................................... ok
t/10delta.t ................................... ok
t/12open-empty-file.t ......................... ok
t/11copy-ties-with-array-vals.t ............... ok
t/14brackets-within-values.t .................. ok
t/13val-in-list-context.t ..................... ok
t/16case-sensitive-default.t .................. ok
t/15store-and-retrieve-here-doc-terminator.t .. ok
t/17untainted-multiline-values.t .............. ok
t/18non-contiguous-groups.t ................... ok
t/19param-found-outside-section.t ............. ok
t/20allowedcommentchars.t ..................... ok
t/22trailing-comment-lines.t .................. ok
t/23scalar-ref.t .............................. ok
t/24case-sensitive-exists.t ................... ok
t/25line-endings.t ............................ ok
t/26scalar-filehandle.t ....................... ok
t/27empty-ini.t ............................... ok
t/28nomultiline.t ............................. ok
t/30parameters-with-empty-values.t ............ ok
t/29end-of-line-comment.t ..................... ok
t/31comments_with_spaces.t .................... ok
t/32mswin-outputs-contain-crs.t ............... skipped: Test is only relevant for Microsoft Windows
untie attempted while 1 inner references still exist at t/33update-using-tied-fh-w-shorter-names.t line 52.
t/33update-using-tied-fh-w-shorter-names.t .... ok
t/34trailing-comments-double-delimeter.t ...... ok
t/35reload-config-no-file.t ................... ok
t/35section-iterators.t ....................... ok
t/36php-compat.t .............................. ok
t/37here-doc-no-end-marker.t .................. ok
All tests successful.
Files=39, Tests=205, 4 wallclock secs ( 0.70 usr 0.19 sys + 15.37 cusr 1.12 csys = 17.38 CPU)
Result: PASS
------------------------------
PREREQUISITES
------------------------------
Prerequisite modules loaded:
requires:
Module Need Have
------------------- ----- --------
Carp 0 1.29
Fcntl 0 1.11
File::Basename 0 2.84
File::Temp 0 0.23
IO::Scalar 0 2.113
List::Util 1.33 1.41
perl 5.008 5.018000
strict 0 1.07
Symbol 0 1.07
vars 0 1.03
warnings 0 1.18
build_requires:
Module Need Have
------------------- ----- --------
base 0 2.18
English 0 1.06
Exporter 0 5.68
File::Spec 0 3.47
File::Temp 0 0.23
IO::File 0 1.16
IO::Handle 0 1.34
IPC::Open3 0 1.13
lib 0 0.63
Module::Build 0.28 0.4003
parent 0 0.225
Scalar::Util 0 1.41
Test::More 0.88 1.001014
configure_requires:
Module Need Have
------------------- ----- --------
ExtUtils::MakeMaker 0 7.30
Module::Build 0.28 0.4003
------------------------------
ENVIRONMENT AND OTHER CONTEXT
------------------------------
Environment variables:
HARNESS_OPTIONS = j4:c
LANG = en_GB.UTF-8
LD_LIBRARY_PATH = /usr/local/lib:
PATH = /home/njh/perl5/perlbrew/bin:/home/njh/perl5/perlbrew/perls/perl-5.18.0/bin:/home/njh/bin:/usr/local/sbin:/usr/local/bin:/usr/sbin:/usr/bin:/sbin:/bin:/usr/games:/usr/local/games
PERL5LIB =
PERL5OPT =
PERL5_CPANPLUS_IS_RUNNING = 10721
PERL5_CPAN_IS_RUNNING = 10721
PERLBREW_BASHRC_VERSION = 0.75
PERLBREW_HOME = /home/njh/.perlbrew
PERLBREW_MANPATH = /home/njh/perl5/perlbrew/perls/perl-5.18.0/man
PERLBREW_PATH = /home/njh/perl5/perlbrew/bin:/home/njh/perl5/perlbrew/perls/perl-5.18.0/bin
PERLBREW_PERL = perl-5.18.0
PERLBREW_ROOT = /home/njh/perl5/perlbrew
PERLBREW_VERSION = 0.75
PERL_USE_UNSAFE_INC = 1
SHELL = /bin/bash
TERM = xterm
TMPDIR = /tmp
Perl special variables (and OS-specific diagnostics, for MSWin32):
$^X = /home/njh/perl5/perlbrew/perls/perl-5.18.0/bin/perl5.18.0
$UID/$EUID = 1000 / 1000
$GID = 1000 4 1000
$EGID = 1000 4 1000
Perl module toolchain versions installed:
Module Have
------------------- --------
CPAN 2.26
CPAN::Meta 2.143240
Cwd 3.47
ExtUtils::CBuilder 0.280210
ExtUtils::Command 7.30
ExtUtils::Install 2.06
ExtUtils::MakeMaker 7.30
ExtUtils::Manifest 1.70
ExtUtils::ParseXS 3.18
File::Spec 3.47
JSON n/a
JSON::PP 2.27203
Module::Build 0.4003
Module::Signature n/a
Parse::CPAN::Meta 1.4414
Test::Harness 3.26
Test::More 1.001014
YAML 1.24
YAML::Syck 1.32
version 0.9902
--
Summary of my perl5 (revision 5 version 18 subversion 0) configuration:
Platform:
osname=linux, osvers=3.0.35-cm-fx6-6.1, archname=armv7l-linux-thread-multi
uname='linux utilite 3.0.35-cm-fx6-6.1 #140 smp tue jun 17 10:40:25 idt 2014 armv7l armv7l armv7l gnulinux '
config_args='-de -Dprefix=/home/njh/perl5/perlbrew/perls/perl-5.18.0 -Duseithreads -Dusemultiplicity -Dusedevel -Accflags=-O2 -W -Wformat=2 -Wswitch -Wshadow -Wwrite-strings -Wuninitialized -Wall -pipe -fomit-frame-pointer -pedantic -D_FORTIFY_SOURCE=2 -Wpointer-arith -Wstrict-prototypes -fstack-protector -Wstack-protector -Wextra -Wbad-function-cast -Wcast-align -Wcast-qual -Wdisabled-optimization -Wendif-labels -Wfloat-equal -Wformat-nonliteral -Winline -Wmissing-declarations -Wmissing-prototypes -Wnested-externs -Wpointer-arith -Wundef -Wformat-security -march=native -Acc=gcc-4.7 -Aeval:scriptdir=/home/njh/perl5/perlbrew/perls/perl-5.18.0/bin'
hint=recommended, useposix=true, d_sigaction=define
useithreads=define, usemultiplicity=define
useperlio=define, d_sfio=undef, uselargefiles=define, usesocks=undef
use64bitint=undef, use64bitall=undef, uselongdouble=undef
usemymalloc=n, bincompat5005=undef
Compiler:
cc=' gcc-4.7', ccflags ='-D_REENTRANT -D_GNU_SOURCE -O2 -W -Wformat=2 -Wswitch -Wshadow -Wwrite-strings -Wuninitialized -Wall -pipe -fomit-frame-pointer -pedantic -D_FORTIFY_SOURCE=2 -Wpointer-arith -Wstrict-prototypes -fstack-protector -Wstack-protector -Wextra -Wbad-function-cast -Wcast-align -Wcast-qual -Wdisabled-optimization -Wendif-labels -Wfloat-equal -Wformat-nonliteral -Winline -Wmissing-declarations -Wmissing-prototypes -Wnested-externs -Wpointer-arith -Wundef -Wformat-security -march=native -fno-strict-aliasing -I/usr/local/include -D_LARGEFILE_SOURCE -D_FILE_OFFSET_BITS=64',
optimize='-O2',
cppflags='-D_REENTRANT -D_GNU_SOURCE -O2 -W -Wformat=2 -Wswitch -Wshadow -Wwrite-strings -Wuninitialized -Wall -pipe -fomit-frame-pointer -pedantic -D_FORTIFY_SOURCE=2 -Wpointer-arith -Wstrict-prototypes -fstack-protector -Wstack-protector -Wextra -Wbad-function-cast -Wcast-align -Wcast-qual -Wdisabled-optimization -Wendif-labels -Wfloat-equal -Wformat-nonliteral -Winline -Wmissing-declarations -Wmissing-prototypes -Wnested-externs -Wpointer-arith -Wundef -Wformat-security -march=native -fno-strict-aliasing -I/usr/local/include'
ccversion='', gccversion='4.7.2', gccosandvers=''
intsize=4, longsize=4, ptrsize=4, doublesize=8, byteorder=1234
d_longlong=define, longlongsize=8, d_longdbl=define, longdblsize=8
ivtype='long', ivsize=4, nvtype='double', nvsize=8, Off_t='off_t', lseeksize=8
alignbytes=8, prototype=define
Linker and Libraries:
ld=' gcc-4.7', ldflags =' -fstack-protector -L/usr/local/lib'
libpth=/usr/local/lib /lib/arm-linux-gnueabi /lib/../lib /usr/lib/arm-linux-gnueabi /usr/lib/../lib /lib /usr/lib
libs=-lnsl -lgdbm -ldb -ldl -lm -lcrypt -lutil -lpthread -lc -lgdbm_compat
perllibs=-lnsl -ldl -lm -lcrypt -lutil -lpthread -lc
libc=libc-2.15.so, so=so, useshrplib=false, libperl=libperl.a
gnulibc_version='2.15'
Dynamic Linking:
dlsrc=dl_dlopen.xs, dlext=so, d_dlsymun=undef, ccdlflags='-Wl,-E'
cccdlflags='-fPIC', lddlflags='-shared -O2 -L/usr/local/lib -fstack-protector'
Characteristics of this binary (from libperl):
Compile-time options: HAS_TIMES MULTIPLICITY PERLIO_LAYERS
PERL_DONT_CREATE_GVSV
PERL_HASH_FUNC_ONE_AT_A_TIME_HARD
PERL_IMPLICIT_CONTEXT PERL_MALLOC_WRAP
PERL_PRESERVE_IVUV PERL_SAWAMPERSAND PERL_USE_DEVEL
USE_ITHREADS USE_LARGE_FILES USE_LOCALE
USE_LOCALE_COLLATE USE_LOCALE_CTYPE
USE_LOCALE_NUMERIC USE_PERLIO USE_PERL_ATOF
USE_REENTRANT_API
Built under linux
Compiled at Dec 29 2014 20:51:58
%ENV:
PERL5LIB=""
PERL5OPT=""
PERL5_CPANPLUS_IS_RUNNING="10721"
PERL5_CPAN_IS_RUNNING="10721"
PERLBREW_BASHRC_VERSION="0.75"
PERLBREW_HOME="/home/njh/.perlbrew"
PERLBREW_MANPATH="/home/njh/perl5/perlbrew/perls/perl-5.18.0/man"
PERLBREW_PATH="/home/njh/perl5/perlbrew/bin:/home/njh/perl5/perlbrew/perls/perl-5.18.0/bin"
PERLBREW_PERL="perl-5.18.0"
PERLBREW_ROOT="/home/njh/perl5/perlbrew"
PERLBREW_VERSION="0.75"
PERL_USE_UNSAFE_INC="1"
@INC:
/home/njh/perl5/perlbrew/perls/perl-5.18.0/lib/site_perl/5.18.0/armv7l-linux-thread-multi
/home/njh/perl5/perlbrew/perls/perl-5.18.0/lib/site_perl/5.18.0
/home/njh/perl5/perlbrew/perls/perl-5.18.0/lib/5.18.0/armv7l-linux-thread-multi
/home/njh/perl5/perlbrew/perls/perl-5.18.0/lib/5.18.0
.