Dist-Zilla-Util-Git-Wrapper v0.004002 Perl 5 v5.37.7 x86_64-linux

Status
Pass
From
Andreas J. König (ANDK)
Dist
Dist-Zilla-Util-Git-Wrapper v0.004002
Platform
Perl 5 v5.37.7 x86_64-linux
Date
2023-01-09 12:48:15
ID
e293dd2a-901b-11ed-847f-c1a298afd662
This distribution has been tested as part of the CPAN Testers
project, supporting the Perl programming language.  See
http://wiki.cpantesters.org/ for more information or email
questions to cpan-testers-discuss@perl.org


--
Dear Kent Fredric (PAUSE Custodial Account),

This is a computer-generated report for Dist-Zilla-Util-Git-Wrapper-0.004002
on perl 5.37.7, created by CPAN-Reporter-1.2018.

Thank you for uploading your work to CPAN.  Congratulations!
All tests were successful.

Sections of this report:

    * Tester comments
    * Program output
    * Prerequisites
    * Environment and other context

------------------------------
TESTER COMMENTS
------------------------------

Additional comments from tester:

this report is from an automated smoke testing program
and was not reviewed by a human for accuracy

------------------------------
PROGRAM OUTPUT
------------------------------

Output from '/usr/bin/make test':

PERL_DL_NONLAZY=1 "/tmp/basesmoker-reloperl-Ixbt/bin/perl" "-MExtUtils::Command::MM" "-MTest::Harness" "-e" "undef *Test::Harness::Switches; test_harness(0, 'blib/lib', 'blib/arch')" t/*.t t/00-compile/*.t
t/00-compile/lib_Dist_Zilla_Util_Git_Wrapper_pm.t ... ok
t/00-compile/lib_Dist_Zilla_UtilRole_MaybeGit_pm.t .. ok
# Git Version: 2.25.1
t/00-report-git-version.t ........................... ok
# 
# Versions for all modules listed in MYMETA.json (including optional ones):
# 
# === Configure Requires ===
# 
#     Module              Want Have
#     ------------------- ---- ----
#     ExtUtils::MakeMaker  any 7.66
# 
# === Configure Recommends ===
# 
#     Module              Want Have
#     ------------------- ---- ----
#     ExtUtils::MakeMaker 7.00 7.66
# 
# === Configure Suggests ===
# 
#     Module      Want Have
#     -------- ------- ----
#     JSON::PP 2.27300 4.16
# 
# === Build Requires ===
# 
#     Module              Want Have
#     ------------------- ---- ----
#     ExtUtils::MakeMaker  any 7.66
# 
# === Test Requires ===
# 
#     Module                           Want     Have
#     -------------------------------- ---- --------
#     ExtUtils::MakeMaker               any     7.66
#     File::Spec                        any     3.88
#     Log::Contextual::LogDispatchouli  any 0.001000
#     Log::Dispatchouli                 any    3.002
#     Path::Tiny                        any    0.144
#     Sort::Versions                    any     1.62
#     Test::Fatal                       any    0.017
#     Test::More                        any 1.302191
# 
# === Test Recommends ===
# 
#     Module                  Want     Have
#     ------------------- -------- --------
#     CPAN::Meta          2.120900 2.150010
#     ExtUtils::MakeMaker     7.00     7.66
#     Path::Tiny             0.058    0.144
#     Test::More              0.99 1.302191
# 
# === Runtime Requires ===
# 
#     Module                            Want     Have
#     --------------------------------- ---- --------
#     Dist::Zilla::UtilRole::MaybeZilla  any 0.002000
#     Git::Wrapper                       any    0.048
#     Moose                              any   2.2201
#     Moose::Role                        any   2.2201
#     strict                             any     1.12
#     utf8                               any     1.25
#     warnings                           any     1.61
# 
# === Runtime Recommends ===
# 
#     Module  Want   Have
#     ------ ----- ------
#     Moose  2.000 2.2201
# 
t/00-report-prereqs.t ............................... ok
t/basic.t ........................................... ok
t/utilrole.t ........................................ ok
All tests successful.
Files=6, Tests=12,  2 wallclock secs ( 0.04 usr  0.00 sys +  1.69 cusr  0.21 csys =  1.94 CPU)
Result: PASS

------------------------------
PREREQUISITES
------------------------------

Prerequisite modules loaded:

requires:

    Module                            Need  Have    
    --------------------------------- ----- --------
    Dist::Zilla::UtilRole::MaybeZilla 0     0.002000
    Git::Wrapper                      0     0.048   
    Moose                             0     2.2201  
    Moose::Role                       0     2.2201  
    perl                              5.008 5.037007
    strict                            0     1.12    
    utf8                              0     1.25    
    warnings                          0     1.61    

build_requires:

    Module                            Need  Have    
    --------------------------------- ----- --------
    ExtUtils::MakeMaker               0     7.66    
    File::Spec                        0     3.88    
    Log::Contextual::LogDispatchouli  0     0.001000
    Log::Dispatchouli                 0     3.002   
    Path::Tiny                        0     0.144   
    Sort::Versions                    0     1.62    
    Test::Fatal                       0     0.017   
    Test::More                        0     1.302191

configure_requires:

    Module                            Need  Have    
    --------------------------------- ----- --------
    ExtUtils::MakeMaker               0     7.66    
    perl                              5.008 5.037007

opt_requires:

    Module                            Need  Have    
    --------------------------------- ----- --------
    Moose                             2.000 2.2201  


------------------------------
ENVIRONMENT AND OTHER CONTEXT
------------------------------

Environment variables:

    AUTOMATED_TESTING = 1
    LANG = en_US.UTF-8
    PATH = /home/sand/bin:/usr/local/bin:/usr/local/sbin:/usr/sbin:/usr/bin:/sbin:/bin:/usr/games:/usr/local/games:/snap/bin:/usr/local/perl/bin:/usr/X11/bin
    PERL = /tmp/basesmoker-reloperl-Ixbt/bin/perl
    PERL5LIB = /tmp/loop_over_bdir-2039-LpYI7c/perl-Hardware-UPS-Perl-0.43-0/blib/arch:/tmp/loop_over_bdir-2039-LpYI7c/perl-Hardware-UPS-Perl-0.43-0/blib/lib:/tmp/loop_over_bdir-2039-LpYI7c/Linux-InitFS-0.2-0/blib/arch:/tmp/loop_over_bdir-2039-LpYI7c/Linux-InitFS-0.2-0/blib/lib:/tmp/loop_over_bdir-2039-LpYI7c/Dpkg-1.21.14-0/blib/arch:/tmp/loop_over_bdir-2039-LpYI7c/Dpkg-1.21.14-0/blib/lib:/tmp/loop_over_bdir-2039-LpYI7c/ProjectBuilder-0.14.1-0/blib/arch:/tmp/loop_over_bdir-2039-LpYI7c/ProjectBuilder-0.14.1-0/blib/lib:/tmp/loop_over_bdir-2039-LpYI7c/dta-tokwrap-0.98-0/blib/arch:/tmp/loop_over_bdir-2039-LpYI7c/dta-tokwrap-0.98-0/blib/lib:/tmp/loop_over_bdir-2039-LpYI7c/shishi-0.0.1-0/blib/arch:/tmp/loop_over_bdir-2039-LpYI7c/shishi-0.0.1-0/blib/lib
    PERL5OPT = 
    PERL5_CPANPLUS_IS_RUNNING = 2047
    PERL5_CPAN_IS_RUNNING = 2047
    PERL_CANARY_STABILITY_NOPROMPT = 1
    PERL_MM_USE_DEFAULT = 1
    PERL_USE_UNSAFE_INC = 1
    SHELL = /usr/bin/zsh
    TERM = screen

Perl special variables (and OS-specific diagnostics, for MSWin32):

    $^X = /tmp/basesmoker-reloperl-Ixbt/bin/perl
    $UID/$EUID = 1005 / 1005
    $GID = 1005 1005
    $EGID = 1005 1005

Perl module toolchain versions installed:

    Module              Have    
    ------------------- --------
    CPAN                2.34    
    CPAN::Meta          2.150010
    Cwd                 3.88    
    ExtUtils::CBuilder  0.280238
    ExtUtils::Command   7.66    
    ExtUtils::Install   2.20    
    ExtUtils::MakeMaker 7.66    
    ExtUtils::Manifest  1.73    
    ExtUtils::ParseXS   3.49    
    File::Spec          3.88    
    JSON                4.10    
    JSON::PP            4.16    
    Module::Build       0.4232  
    Module::Signature   0.88    
    Parse::CPAN::Meta   2.150010
    Test::Harness       3.44    
    Test::More          1.302191
    YAML                1.30    
    YAML::Syck          1.34    
    version             0.9929  


--

Summary of my perl5 (revision 5 version 37 subversion 7) configuration:
  Commit id: b1163c2ae562670f2bf4c7700087f0c9d0ad8fe5
  Platform:
    osname=linux
    osvers=5.4.0-135-generic
    archname=x86_64-linux
    uname='linux k93focal 5.4.0-135-generic #152-ubuntu smp wed nov 23 20:19:22 utc 2022 x86_64 x86_64 x86_64 gnulinux '
    config_args='-Dprefix=/home/sand/src/perl/repoperls/installed-perls/host/k93focal/v5.37.7/b254 -Dmyhostname=k93focal -Dinstallusrbinperl=n -Uversiononly -Dusedevel -des -Ui_db -Dlibswanted=cl pthread socket inet nsl gdbm dbm malloc dl ld sun m crypt sec util c cposix posix ucb BSD gdbm_compat -Uuseithreads -Uuselongdouble -DEBUGGING=both'
    hint=recommended
    useposix=true
    d_sigaction=define
    useithreads=undef
    usemultiplicity=undef
    use64bitint=define
    use64bitall=define
    uselongdouble=undef
    usemymalloc=n
    default_inc_excludes_dot=define
  Compiler:
    cc='cc'
    ccflags ='-fwrapv -DDEBUGGING -fno-strict-aliasing -pipe -fstack-protector-strong -I/usr/local/include -D_LARGEFILE_SOURCE -D_FILE_OFFSET_BITS=64'
    optimize='-O2 -g'
    cppflags='-fwrapv -DDEBUGGING -fno-strict-aliasing -pipe -fstack-protector-strong -I/usr/local/include'
    ccversion=''
    gccversion='9.4.0'
    gccosandvers=''
    intsize=4
    longsize=8
    ptrsize=8
    doublesize=8
    byteorder=12345678
    doublekind=3
    d_longlong=define
    longlongsize=8
    d_longdbl=define
    longdblsize=16
    longdblkind=3
    ivtype='long'
    ivsize=8
    nvtype='double'
    nvsize=8
    Off_t='off_t'
    lseeksize=8
    alignbytes=8
    prototype=define
  Linker and Libraries:
    ld='cc'
    ldflags =' -fstack-protector-strong -L/usr/local/lib'
    libpth=/usr/local/lib /usr/lib/x86_64-linux-gnu /usr/lib /usr/lib64
    libs=-lpthread -lnsl -ldl -lm -lcrypt -lutil -lc
    perllibs=-lpthread -lnsl -ldl -lm -lcrypt -lutil -lc
    libc=libc-2.31.so
    so=so
    useshrplib=false
    libperl=libperl.a
    gnulibc_version='2.31'
  Dynamic Linking:
    dlsrc=dl_dlopen.xs
    dlext=so
    d_dlsymun=undef
    ccdlflags='-Wl,-E'
    cccdlflags='-fPIC'
    lddlflags='-shared -O2 -g -L/usr/local/lib -fstack-protector-strong'


Characteristics of this binary (from libperl): 
  Compile-time options:
    DEBUGGING
    HAS_TIMES
    PERLIO_LAYERS
    PERL_COPY_ON_WRITE
    PERL_DONT_CREATE_GVSV
    PERL_HASH_FUNC_SIPHASH13
    PERL_HASH_USE_SBOX32
    PERL_MALLOC_WRAP
    PERL_OP_PARENT
    PERL_PRESERVE_IVUV
    PERL_USE_DEVEL
    PERL_USE_SAFE_PUTENV
    USE_64_BIT_ALL
    USE_64_BIT_INT
    USE_LARGE_FILES
    USE_LOCALE
    USE_LOCALE_COLLATE
    USE_LOCALE_CTYPE
    USE_LOCALE_NUMERIC
    USE_LOCALE_TIME
    USE_PERLIO
    USE_PERL_ATOF
  Built under linux
  Compiled at Jan  5 2023 05:26:31
  %ENV:
    PERL="/tmp/basesmoker-reloperl-Ixbt/bin/perl"
    PERL5LIB="/tmp/loop_over_bdir-2039-LpYI7c/perl-Hardware-UPS-Perl-0.43-0/blib/arch:/tmp/loop_over_bdir-2039-LpYI7c/perl-Hardware-UPS-Perl-0.43-0/blib/lib:/tmp/loop_over_bdir-2039-LpYI7c/Linux-InitFS-0.2-0/blib/arch:/tmp/loop_over_bdir-2039-LpYI7c/Linux-InitFS-0.2-0/blib/lib:/tmp/loop_over_bdir-2039-LpYI7c/Dpkg-1.21.14-0/blib/arch:/tmp/loop_over_bdir-2039-LpYI7c/Dpkg-1.21.14-0/blib/lib:/tmp/loop_over_bdir-2039-LpYI7c/ProjectBuilder-0.14.1-0/blib/arch:/tmp/loop_over_bdir-2039-LpYI7c/ProjectBuilder-0.14.1-0/blib/lib:/tmp/loop_over_bdir-2039-LpYI7c/dta-tokwrap-0.98-0/blib/arch:/tmp/loop_over_bdir-2039-LpYI7c/dta-tokwrap-0.98-0/blib/lib:/tmp/loop_over_bdir-2039-LpYI7c/shishi-0.0.1-0/blib/arch:/tmp/loop_over_bdir-2039-LpYI7c/shishi-0.0.1-0/blib/lib"
    PERL5OPT=""
    PERL5_CPANPLUS_IS_RUNNING="2047"
    PERL5_CPAN_IS_RUNNING="2047"
    PERL_CANARY_STABILITY_NOPROMPT="1"
    PERL_MM_USE_DEFAULT="1"
    PERL_USE_UNSAFE_INC="1"
  @INC:
    /tmp/loop_over_bdir-2039-LpYI7c/perl-Hardware-UPS-Perl-0.43-0/blib/arch
    /tmp/loop_over_bdir-2039-LpYI7c/perl-Hardware-UPS-Perl-0.43-0/blib/lib
    /tmp/loop_over_bdir-2039-LpYI7c/Linux-InitFS-0.2-0/blib/arch
    /tmp/loop_over_bdir-2039-LpYI7c/Linux-InitFS-0.2-0/blib/lib
    /tmp/loop_over_bdir-2039-LpYI7c/Dpkg-1.21.14-0/blib/arch
    /tmp/loop_over_bdir-2039-LpYI7c/Dpkg-1.21.14-0/blib/lib
    /tmp/loop_over_bdir-2039-LpYI7c/ProjectBuilder-0.14.1-0/blib/arch
    /tmp/loop_over_bdir-2039-LpYI7c/ProjectBuilder-0.14.1-0/blib/lib
    /tmp/loop_over_bdir-2039-LpYI7c/dta-tokwrap-0.98-0/blib/arch
    /tmp/loop_over_bdir-2039-LpYI7c/dta-tokwrap-0.98-0/blib/lib
    /tmp/loop_over_bdir-2039-LpYI7c/shishi-0.0.1-0/blib/arch
    /tmp/loop_over_bdir-2039-LpYI7c/shishi-0.0.1-0/blib/lib
    /home/sand/src/perl/repoperls/installed-perls/host/k93focal/v5.37.7/b254/lib/site_perl/5.37.7/x86_64-linux
    /home/sand/src/perl/repoperls/installed-perls/host/k93focal/v5.37.7/b254/lib/site_perl/5.37.7
    /home/sand/src/perl/repoperls/installed-perls/host/k93focal/v5.37.7/b254/lib/5.37.7/x86_64-linux
    /home/sand/src/perl/repoperls/installed-perls/host/k93focal/v5.37.7/b254/lib/5.37.7
    .