Exception-Backtrace v1.0.10 Perl 5 v5.30.1 x86_64-linux-thread-multi
- Status
- Pass
- From
- David Cantrell (DCANTRELL)
- Dist
-
Exception-Backtrace v1.0.10
- Platform
- Perl 5 v5.30.1 x86_64-linux-thread-multi
- Date
- 2020-11-25 12:36:48
- ID
- e2b2096c-2f1a-11eb-a39c-1a6ea1724e2f
This distribution has been tested as part of the CPAN Testers
project, supporting the Perl programming language. See
http://wiki.cpantesters.org/ for more information or email
questions to cpan-testers-discuss@perl.org
--
Dear Ivan Baidakou,
This is a computer-generated report for Exception-Backtrace-1.0.10
on perl 5.30.1, created by CPAN-Reporter-1.2018.
Thank you for uploading your work to CPAN. Congratulations!
All tests were successful.
Sections of this report:
* Tester comments
* Program output
* Prerequisites
* Environment and other context
------------------------------
TESTER COMMENTS
------------------------------
Additional comments from tester:
this report is from an automated smoke testing program
and was not reviewed by a human for accuracy
------------------------------
PROGRAM OUTPUT
------------------------------
Output from '/usr/bin/make test':
"/home/david/cpantesting/perl-5.30.1/bin/perl" -MExtUtils::Command::MM -e 'cp_nonempty' -- Backtrace.bs blib/arch/auto/Exception/Backtrace/Backtrace.bs 644
"/home/david/cpantesting/perl-5.30.1/bin/perl" -Ilib -MXS::Install::ParseXS -MXS::Framework::ParseXS "/home/david/cpantesting/perl-5.30.1/lib/5.30.1/ExtUtils/xsubpp" -hiertype -C++ -hiertype -C++ -typemap '/home/david/cpantesting/perl-5.30.1/lib/5.30.1/ExtUtils/typemap' -typemap '/home/david/cpantesting/perl-5.30.1/lib/site_perl/5.30.1/XS/Install.x/tm/typemap' -typemap '/home/david/cpantesting/perl-5.30.1/lib/site_perl/5.30.1/x86_64-linux-thread-multi/XS/Framework.x/tm/typemap' -typemap '/home/david/cpantesting/perl-5.30.1/lib/site_perl/5.30.1/x86_64-linux-thread-multi/XS/Framework.x/tm/typemap64' -typemap '/home/david/cpantesting/perl-5.30.1/lib/site_perl/5.30.1/XS/Install.x/tm/typemap' -typemap '/home/david/cpantesting/perl-5.30.1/lib/site_perl/5.30.1/x86_64-linux-thread-multi/XS/Framework.x/tm/typemap' -typemap '/home/david/cpantesting/perl-5.30.1/lib/site_perl/5.30.1/x86_64-linux-thread-multi/XS/Framework.x/tm/typemap64' -csuffix _xsgen.cc t/MyTest.xs > t/MyTest.xsc
mv t/MyTest.xsc t/MyTest_xsgen.cc
c++ -c -Isrc -I/home/david/cpantesting/perl-5.30.1/lib/site_perl/5.30.1/x86_64-linux-thread-multi/next/XS.x/i -I/home/david/cpantesting/perl-5.30.1/lib/site_perl/5.30.1/XS/Install.x/i -I/home/david/cpantesting/perl-5.30.1/lib/site_perl/5.30.1/x86_64-linux-thread-multi/XS/libpanda.x/i -I/home/david/cpantesting/perl-5.30.1/lib/site_perl/5.30.1/x86_64-linux-thread-multi/XS/libpanda/backtrace.x/i -I/home/david/cpantesting/perl-5.30.1/lib/site_perl/5.30.1/x86_64-linux-thread-multi/XS/libdwarf.x/i -I/home/david/cpantesting/perl-5.30.1/lib/site_perl/5.30.1/x86_64-linux-thread-multi/XS/Framework.x/i -D_REENTRANT -D_GNU_SOURCE -fwrapv -fno-strict-aliasing -pipe -fstack-protector-strong -I/usr/local/include -D_LARGEFILE_SOURCE -D_FILE_OFFSET_BITS=64 -D_FORTIFY_SOURCE=2 -Wall -Wextra -std=c++14 -o t/MyTest_xsgen.o -O0 -DVERSION=\"0.0.0\" -DXS_VERSION=\"0.0.0\" -fPIC "-I/home/david/cpantesting/perl-5.30.1/lib/5.30.1/x86_64-linux-thread-multi/CORE" t/MyTest_xsgen.cc
Running Mkbootstrap for MyTest ()
chmod 644 "MyTest.bs"
"/home/david/cpantesting/perl-5.30.1/bin/perl" -MExtUtils::Command::MM -e 'cp_nonempty' -- MyTest.bs blib/arch/auto/MyTest/MyTest.bs 644
rm -f blib/arch/auto/MyTest/MyTest.so
c++ -shared -O2 -L/usr/local/lib -fstack-protector-strong t/MyTest_xsgen.o blib/arch/auto/Exception/Backtrace/Backtrace.so -lz -o blib/arch/auto/MyTest/MyTest.so \
\
chmod 755 blib/arch/auto/MyTest/MyTest.so
Manifying 4 pod documents
PERL_DL_NONLAZY=1 "/home/david/cpantesting/perl-5.30.1/bin/perl" "-MExtUtils::Command::MM" "-MTest::Harness" "-e" "undef *Test::Harness::Switches; test_harness(0, 'blib/lib', 'blib/arch')" t/*.t
t/04-no-segfault-at-start.t .. ok
t/05-perl-exceptions.t ....... ok
t/06-c-exceptions.t .......... ok
t/07-api.t ................... ok
t/08-subname.t ............... skipped: Sub::Name is need for this test
t/09-global-destruction.t .... ok
All tests successful.
Files=6, Tests=23, 7 wallclock secs ( 0.07 usr 0.01 sys + 0.64 cusr 0.08 csys = 0.80 CPU)
Result: PASS
------------------------------
PREREQUISITES
------------------------------
Prerequisite modules loaded:
requires:
Module Need Have
----------------------- ---------- ----------
next::XS v1.0.7 1.0.7
perl 5.020000 5.030001
XS::Framework v1.3.3 1.3.3
XS::Install v1.3.1 1.3.1
XS::libdwarf 20201123.0 20201123.0
XS::libpanda v1.4.11 1.4.11
XS::libpanda::backtrace v1.0.0 1.0.0
build_requires:
Module Need Have
----------------------- ---------- ----------
next::XS v1.0.7 1.0.7
Test::Deep 0 1.128
Test::More 0 1.302183
Test::Simple 0.96 1.302183
Test::Warnings 0 0.027
XS::Framework v1.3.3 1.3.3
XS::libdwarf 20201123.0 20201123.0
XS::libpanda v1.4.11 1.4.11
XS::libpanda::backtrace v1.0.0 1.0.0
configure_requires:
Module Need Have
----------------------- ---------- ----------
next::XS v1.0.7 1.0.7
XS::Framework v1.3.3 1.3.3
XS::Install v1.3.1 1.3.1
XS::libdwarf 20201123.0 20201123.0
XS::libpanda v1.4.11 1.4.11
XS::libpanda::backtrace v1.0.0 1.0.0
------------------------------
ENVIRONMENT AND OTHER CONTEXT
------------------------------
Environment variables:
AUTOMATED_TESTING = 1
LANG = en_US.UTF-8
NONINTERACTIVE_TESTING = 1
PATH = /usr/local/bin:/usr/bin:/bin:/usr/local/games:/usr/games
PERL = 5.30.1
PERL5LIB =
PERL5OPT =
PERL5_CPANPLUS_IS_RUNNING = 2102
PERL5_CPAN_IS_RUNNING = 2102
PERLVER = 5.30.1
PERL_INLINE_DIRECTORY = /home/david/.Inline-5.30.1
PERL_MM_USE_DEFAULT = 1
PERL_USE_UNSAFE_INC = 0
SHELL = /bin/bash
TERM = screen
Perl special variables (and OS-specific diagnostics, for MSWin32):
$^X = /home/david/cpantesting/perl-5.30.1/bin/perl
$UID/$EUID = 1000 / 1000
$GID = 1000 27 1000
$EGID = 1000 27 1000
Perl module toolchain versions installed:
Module Have
------------------- --------
CPAN 2.22
CPAN::Meta 2.150010
Cwd 3.78
ExtUtils::CBuilder 0.280231
ExtUtils::Command 7.34
ExtUtils::Install 2.14
ExtUtils::MakeMaker 7.34
ExtUtils::Manifest 1.72
ExtUtils::ParseXS 3.40
File::Spec 3.78
JSON n/a
JSON::PP 4.02
Module::Build 0.4231
Module::Signature n/a
Parse::CPAN::Meta 2.150010
Test::Harness 3.42
Test::More 1.302183
YAML n/a
YAML::Syck n/a
version 0.9924
--
Summary of my perl5 (revision 5 version 30 subversion 1) configuration:
Platform:
osname=linux
osvers=4.9.0-8-amd64
archname=x86_64-linux-thread-multi
uname='linux pigsty.barnyard.co.uk 4.9.0-8-amd64 #1 smp debian 4.9.144-3 (2019-02-02) x86_64 gnulinux '
config_args='-de -Duse64bitall -Dusethreads -Dprefix=/home/david/cpantesting/perl-5.30.1'
hint=recommended
useposix=true
d_sigaction=define
useithreads=define
usemultiplicity=define
use64bitint=define
use64bitall=define
uselongdouble=undef
usemymalloc=n
default_inc_excludes_dot=define
bincompat5005=undef
Compiler:
cc='cc'
ccflags ='-D_REENTRANT -D_GNU_SOURCE -fwrapv -fno-strict-aliasing -pipe -fstack-protector-strong -I/usr/local/include -D_LARGEFILE_SOURCE -D_FILE_OFFSET_BITS=64 -D_FORTIFY_SOURCE=2'
optimize='-O2'
cppflags='-D_REENTRANT -D_GNU_SOURCE -fwrapv -fno-strict-aliasing -pipe -fstack-protector-strong -I/usr/local/include'
ccversion=''
gccversion='6.3.0 20170516'
gccosandvers=''
intsize=4
longsize=8
ptrsize=8
doublesize=8
byteorder=12345678
doublekind=3
d_longlong=define
longlongsize=8
d_longdbl=define
longdblsize=16
longdblkind=3
ivtype='long'
ivsize=8
nvtype='double'
nvsize=8
Off_t='off_t'
lseeksize=8
alignbytes=8
prototype=define
Linker and Libraries:
ld='cc'
ldflags =' -fstack-protector-strong -L/usr/local/lib'
libpth=/usr/local/lib /usr/lib/gcc/x86_64-linux-gnu/6/include-fixed /usr/include/x86_64-linux-gnu /usr/lib /lib/x86_64-linux-gnu /lib/../lib /usr/lib/x86_64-linux-gnu /usr/lib/../lib /lib
libs=-lpthread -lnsl -ldb -ldl -lm -lcrypt -lutil -lc
perllibs=-lpthread -lnsl -ldl -lm -lcrypt -lutil -lc
libc=libc-2.24.so
so=so
useshrplib=false
libperl=libperl.a
gnulibc_version='2.24'
Dynamic Linking:
dlsrc=dl_dlopen.xs
dlext=so
d_dlsymun=undef
ccdlflags='-Wl,-E'
cccdlflags='-fPIC'
lddlflags='-shared -O2 -L/usr/local/lib -fstack-protector-strong'
Characteristics of this binary (from libperl):
Compile-time options:
HAS_TIMES
MULTIPLICITY
PERLIO_LAYERS
PERL_COPY_ON_WRITE
PERL_DONT_CREATE_GVSV
PERL_IMPLICIT_CONTEXT
PERL_MALLOC_WRAP
PERL_OP_PARENT
PERL_PRESERVE_IVUV
USE_64_BIT_ALL
USE_64_BIT_INT
USE_ITHREADS
USE_LARGE_FILES
USE_LOCALE
USE_LOCALE_COLLATE
USE_LOCALE_CTYPE
USE_LOCALE_NUMERIC
USE_LOCALE_TIME
USE_PERLIO
USE_PERL_ATOF
USE_REENTRANT_API
USE_THREAD_SAFE_LOCALE
Built under linux
Compiled at Nov 11 2019 21:36:26
%ENV:
PERL="5.30.1"
PERL5LIB=""
PERL5OPT=""
PERL5_CPANPLUS_IS_RUNNING="2102"
PERL5_CPAN_IS_RUNNING="2102"
PERLVER="5.30.1"
PERL_INLINE_DIRECTORY="/home/david/.Inline-5.30.1"
PERL_MM_USE_DEFAULT="1"
PERL_USE_UNSAFE_INC="0"
@INC:
/home/david/cpantesting/perl-5.30.1/lib/site_perl/5.30.1/x86_64-linux-thread-multi
/home/david/cpantesting/perl-5.30.1/lib/site_perl/5.30.1
/home/david/cpantesting/perl-5.30.1/lib/5.30.1/x86_64-linux-thread-multi
/home/david/cpantesting/perl-5.30.1/lib/5.30.1