Test-WWW-Mechanize v1.52 Perl 5 v5.32.0 x86_64-linux

Status
Pass
From
Michele Beltrame
Dist
Test-WWW-Mechanize v1.52
Platform
Perl 5 v5.32.0 x86_64-linux
Date
2020-08-07 16:41:47
ID
e2b2c25c-d8cc-11ea-bf6c-c4e357dfdded
This distribution has been tested as part of the CPAN Testers
project, supporting the Perl programming language.  See
http://wiki.cpantesters.org/ for more information or email
questions to cpan-testers-discuss@perl.org


--
Dear Andy Lester,

This is a computer-generated report for Test-WWW-Mechanize-1.52
on perl 5.32.0, created by CPAN-Reporter-1.2018.

Thank you for uploading your work to CPAN.  Congratulations!
All tests were successful.

Sections of this report:

    * Tester comments
    * Program output
    * Prerequisites
    * Environment and other context

------------------------------
TESTER COMMENTS
------------------------------

Additional comments from tester:

none provided

------------------------------
PROGRAM OUTPUT
------------------------------

Output from '/usr/bin/make test':

PERL_DL_NONLAZY=1 "/usr/local/perlbrew/perl5/perls/perl-5.32.0/bin/perl" "-MExtUtils::Command::MM" "-MTest::Harness" "-e" "undef *Test::Harness::Switches; test_harness(0, 'blib/lib', 'blib/arch')" t/*.t
# Testing Test::WWW::Mechanize 1.52, with WWW::Mechanize 2.00, LWP 6.46, Test::More 1.302177, Perl 5.032000, /usr/local/perlbrew/perl5/perls/perl-5.32.0/bin/perl
# Optional HTML::Lint not found. Install it to use additional features.
# Optional HTML::Tidy5 not found. Install it to use additional features.
t/00-load.t ................ ok
t/autolint.t ............... skipped: HTML::Lint 2.20 is not installed, cannot test autolint
t/autotidy.t ............... skipped: Optional HTML::Tidy5 1.00 is not installed, cannot test autotidy.
t/button_exists.t .......... ok
# Test server http://127.0.0.1:37890 as PID 25321
t/click_ok.t ............... ok
t/content_contains.t ....... ok
t/content_lacks.t .......... ok
# Test server http://127.0.0.1:21799 as PID 25329
t/delete_ok.t .............. ok
t/follow_link_ok.t ......... ok
t/followable_links.t ....... ok
t/get_ok-parms.t ........... ok
t/get_ok.t ................. ok
t/has_tag.t ................ ok
t/head_ok-parms.t .......... ok
t/head_ok.t ................ ok
# Test server http://127.0.0.1:24920 as PID 25350
t/headers.t ................ ok
t/html_lint_ok.t ........... skipped: HTML::Lint 2.20 is not installed, cannot test html_lint_ok
t/html_tidy_ok.t ........... skipped: Optional HTML::Tidy5 1.00 is not installed, cannot test html_tidy_ok
t/id_exists.t .............. ok
t/lacks_uncapped_inputs.t .. ok
t/link_content.t ........... ok
t/link_status.t ............ ok
t/links_ok.t ............... ok
t/new.t .................... ok
t/page_links_content.t ..... ok
t/page_links_ok.t .......... ok
t/pod-coverage.t ........... skipped: Test::Pod::Coverage 0.08 required for testing POD coverage
t/pod.t .................... ok
# Test server http://127.0.0.1:38576 as PID 25375
t/put_ok.t ................. ok
t/scrape_text_by_id.t ...... ok
t/stuff_inputs.t ........... ok
# Test server http://127.0.0.1:23141 as PID 25382
t/submit_form_ok.t ......... ok
t/text_contains.t .......... ok
t/title_is.t ............... ok
All tests successful.
Files=34, Tests=288, 12 wallclock secs ( 0.15 usr  0.03 sys +  5.90 cusr  0.76 csys =  6.84 CPU)
Result: PASS

------------------------------
PREREQUISITES
------------------------------

Prerequisite modules loaded:

requires:

    Module                    Need  Have    
    ------------------------- ----- --------
    Carp                      0     1.50    
    Carp::Assert::More        0     1.20    
    HTML::Form                0     6.07    
    HTML::TokeParser          0     3.69    
    HTTP::Server::Simple      0.42  0.52    
    HTTP::Server::Simple::CGI 0     0       
    LWP                       6.02  6.46    
    parent                    0     0.238   
    perl                      5.008 5.032000
    Test::Builder::Tester     1.09  1.302177
    Test::LongString          0.15  0.17    
    Test::More                0.96  1.302177
    URI::file                 0     4.21    
    WWW::Mechanize            1.68  2.00    

build_requires:

    Module                    Need  Have    
    ------------------------- ----- --------
    ExtUtils::MakeMaker       0     7.44    

configure_requires:

    Module                    Need  Have    
    ------------------------- ----- --------
    ExtUtils::MakeMaker       0     7.44    


------------------------------
ENVIRONMENT AND OTHER CONTEXT
------------------------------

Environment variables:

    LANG = it_IT.UTF-8
    NONINTERACTIVE_TESTING = 1
    PATH = /usr/local/perlbrew/perl5/bin:/usr/local/perlbrew/perl5/perls/perl-5.32.0/bin:/usr/local/sbin:/usr/local/bin:/usr/sbin:/usr/bin:/sbin:/bin:/opt/bin
    PERL5LIB = 
    PERL5OPT = 
    PERL5_CPANPLUS_IS_RUNNING = 23786
    PERL5_CPAN_IS_RUNNING = 23786
    PERLBREW_BASHRC_VERSION = 0.67
    PERLBREW_HOME = /root/.perlbrew
    PERLBREW_MANPATH = /usr/local/perlbrew/perl5/perls/perl-5.32.0/man
    PERLBREW_PATH = /usr/local/perlbrew/perl5/bin:/usr/local/perlbrew/perl5/perls/perl-5.32.0/bin
    PERLBREW_PERL = perl-5.32.0
    PERLBREW_ROOT = /usr/local/perlbrew/perl5
    PERLBREW_VERSION = 0.88
    PERL_MM_USE_DEFAULT = 1
    PERL_USE_UNSAFE_INC = 1
    SHELL = /bin/bash
    TERM = xterm-256color

Perl special variables (and OS-specific diagnostics, for MSWin32):

    $^X = /usr/local/perlbrew/perl5/perls/perl-5.32.0/bin/perl
    $UID/$EUID = 0 / 0
    $GID = 0 0 1 2 3 4 6 10 11 26 27
    $EGID = 0 0 1 2 3 4 6 10 11 26 27

Perl module toolchain versions installed:

    Module              Have    
    ------------------- --------
    CPAN                2.27    
    CPAN::Meta          2.150010
    Cwd                 3.78    
    ExtUtils::CBuilder  0.280234
    ExtUtils::Command   7.44    
    ExtUtils::Install   2.14    
    ExtUtils::MakeMaker 7.44    
    ExtUtils::Manifest  1.72    
    ExtUtils::ParseXS   3.40    
    File::Spec          3.78    
    JSON                4.02    
    JSON::PP            4.04    
    Module::Build       0.4231  
    Module::Signature   n/a     
    Parse::CPAN::Meta   2.150010
    Test::Harness       3.42    
    Test::More          1.302177
    YAML                n/a     
    YAML::Syck          n/a     
    version             0.9924  


--

Summary of my perl5 (revision 5 version 32 subversion 0) configuration:
   
  Platform:
    osname=linux
    osvers=5.4.10-x86_64-linode132
    archname=x86_64-linux
    uname='linux pallino 5.4.10-x86_64-linode132 #1 smp preempt thu jan 9 21:17:12 utc 2020 x86_64 intel(r) xeon(r) cpu e5-2680 v3 @ 2.50ghz genuineintel gnulinux '
    config_args='-de -Dprefix=/usr/local/perlbrew/perl5/perls/perl-5.32.0 -Aeval:scriptdir=/usr/local/perlbrew/perl5/perls/perl-5.32.0/bin'
    hint=recommended
    useposix=true
    d_sigaction=define
    useithreads=undef
    usemultiplicity=undef
    use64bitint=define
    use64bitall=define
    uselongdouble=undef
    usemymalloc=n
    default_inc_excludes_dot=define
    bincompat5005=undef
  Compiler:
    cc='cc'
    ccflags ='-fwrapv -fno-strict-aliasing -pipe -fstack-protector-strong -I/usr/local/include -D_LARGEFILE_SOURCE -D_FILE_OFFSET_BITS=64'
    optimize='-O2'
    cppflags='-fwrapv -fno-strict-aliasing -pipe -fstack-protector-strong -I/usr/local/include'
    ccversion=''
    gccversion='9.3.0'
    gccosandvers=''
    intsize=4
    longsize=8
    ptrsize=8
    doublesize=8
    byteorder=12345678
    doublekind=3
    d_longlong=define
    longlongsize=8
    d_longdbl=define
    longdblsize=16
    longdblkind=3
    ivtype='long'
    ivsize=8
    nvtype='double'
    nvsize=8
    Off_t='off_t'
    lseeksize=8
    alignbytes=8
    prototype=define
  Linker and Libraries:
    ld='cc'
    ldflags =' -fstack-protector-strong -L/usr/local/lib'
    libpth=/usr/local/lib /usr/lib/gcc/x86_64-pc-linux-gnu/9.3.0/include-fixed /usr/lib /lib/../lib64 /usr/lib/../lib64 /lib /lib64 /usr/lib64 /usr/local/lib64
    libs=-lpthread -lnsl -lgdbm -ldb -ldl -lm -lcrypt -lutil -lc -lgdbm_compat
    perllibs=-lpthread -lnsl -ldl -lm -lcrypt -lutil -lc
    libc=libc-2.30.so
    so=so
    useshrplib=false
    libperl=libperl.a
    gnulibc_version='2.30'
  Dynamic Linking:
    dlsrc=dl_dlopen.xs
    dlext=so
    d_dlsymun=undef
    ccdlflags='-Wl,-E'
    cccdlflags='-fPIC'
    lddlflags='-shared -O2 -L/usr/local/lib -fstack-protector-strong'


Characteristics of this binary (from libperl): 
  Compile-time options:
    HAS_TIMES
    PERLIO_LAYERS
    PERL_COPY_ON_WRITE
    PERL_DONT_CREATE_GVSV
    PERL_MALLOC_WRAP
    PERL_OP_PARENT
    PERL_PRESERVE_IVUV
    USE_64_BIT_ALL
    USE_64_BIT_INT
    USE_LARGE_FILES
    USE_LOCALE
    USE_LOCALE_COLLATE
    USE_LOCALE_CTYPE
    USE_LOCALE_NUMERIC
    USE_LOCALE_TIME
    USE_PERLIO
    USE_PERL_ATOF
  Built under linux
  Compiled at Aug  7 2020 13:13:42
  %ENV:
    PERL5LIB=""
    PERL5OPT=""
    PERL5_CPANPLUS_IS_RUNNING="23786"
    PERL5_CPAN_IS_RUNNING="23786"
    PERLBREW_BASHRC_VERSION="0.67"
    PERLBREW_HOME="/root/.perlbrew"
    PERLBREW_MANPATH="/usr/local/perlbrew/perl5/perls/perl-5.32.0/man"
    PERLBREW_PATH="/usr/local/perlbrew/perl5/bin:/usr/local/perlbrew/perl5/perls/perl-5.32.0/bin"
    PERLBREW_PERL="perl-5.32.0"
    PERLBREW_ROOT="/usr/local/perlbrew/perl5"
    PERLBREW_VERSION="0.88"
    PERL_MM_USE_DEFAULT="1"
    PERL_USE_UNSAFE_INC="1"
  @INC:
    /usr/local/perlbrew/perl5/perls/perl-5.32.0/lib/site_perl/5.32.0/x86_64-linux
    /usr/local/perlbrew/perl5/perls/perl-5.32.0/lib/site_perl/5.32.0
    /usr/local/perlbrew/perl5/perls/perl-5.32.0/lib/5.32.0/x86_64-linux
    /usr/local/perlbrew/perl5/perls/perl-5.32.0/lib/5.32.0
    .