HTTP-Message v6.43 Perl 5 v5.16.3 x86_64-linux

Status
Pass
From
Slaven Rezić
Dist
HTTP-Message v6.43
Platform
Perl 5 v5.16.3 x86_64-linux
Date
2022-10-25 06:47:25
ID
e2be2584-5430-11ed-99ea-4f4c6e8775ea
This distribution has been tested as part of the CPAN Testers
project, supporting the Perl programming language.  See
http://wiki.cpantesters.org/ for more information or email
questions to cpan-testers-discuss@perl.org


--
Dear Julien Fiegehenn,

This is a computer-generated report for HTTP-Message-6.43
on perl 5.16.3, created by CPAN-Reporter-1.2018.

Thank you for uploading your work to CPAN.  Congratulations!
All tests were successful.

Sections of this report:

    * Tester comments
    * Program output
    * Prerequisites
    * Environment and other context

------------------------------
TESTER COMMENTS
------------------------------

Additional comments from tester:

none provided

------------------------------
PROGRAM OUTPUT
------------------------------

Output from 'make test':

PERL_DL_NONLAZY=1 "/opt/perl-5.16.3/bin/perl" "-MExtUtils::Command::MM" "-MTest::Harness" "-e" "undef *Test::Harness::Switches; test_harness(0, 'blib/lib', 'blib/arch')" t/*.t
# 
# Versions for all modules listed in MYMETA.json (including optional ones):
# 
# === Configure Requires ===
# 
#     Module              Want Have
#     ------------------- ---- ----
#     ExtUtils::MakeMaker  any 7.64
# 
# === Configure Suggests ===
# 
#     Module      Want    Have
#     -------- ------- -------
#     JSON::PP 2.27300 2.27203
# 
# === Build Requires ===
# 
#     Module              Want Have
#     ------------------- ---- ----
#     ExtUtils::MakeMaker  any 7.64
# 
# === Test Requires ===
# 
#     Module              Want     Have
#     ------------------- ---- --------
#     ExtUtils::MakeMaker  any     7.64
#     File::Spec           any  3.39_02
#     File::Temp           any     0.22
#     PerlIO::encoding     any     0.15
#     Test::More          0.88 1.302190
#     Test::Needs          any 0.002009
#     Time::Local          any     1.30
#     Try::Tiny            any     0.31
#     URI::URL             any     5.16
#     lib                  any     0.63
#     overload             any     1.18
# 
# === Test Recommends ===
# 
#     Module                     Want     Have
#     ---------------------- -------- --------
#     CPAN::Meta             2.120900 2.143240
#     IO::Compress::Brotli   0.004001  missing
#     IO::Uncompress::Brotli 0.004001  missing
# 
# === Runtime Requires ===
# 
#     Module                      Want    Have
#     -------------------------- ----- -------
#     Carp                         any    1.26
#     Compress::Raw::Bzip2         any   2.048
#     Compress::Raw::Zlib          any   2.048
#     Encode                      3.01    3.19
#     Encode::Locale                 1    1.05
#     Exporter                    5.57    5.66
#     File::Spec                   any 3.39_02
#     HTTP::Date                     6    6.05
#     IO::Compress::Bzip2        2.021   2.048
#     IO::Compress::Deflate        any   2.048
#     IO::Compress::Gzip           any   2.048
#     IO::HTML                     any   1.004
#     IO::Uncompress::Inflate      any   2.048
#     IO::Uncompress::RawInflate   any   2.048
#     LWP::MediaTypes                6    6.04
#     MIME::Base64                 2.1    3.13
#     MIME::QuotedPrint            any    3.13
#     URI                         1.10    5.16
#     parent                       any   0.225
#     strict                       any    1.07
#     warnings                     any    1.13
# 
# === Runtime Recommends ===
# 
#     Module                     Want    Have
#     ---------------------- -------- -------
#     IO::Compress::Brotli   0.004001 missing
#     IO::Uncompress::Brotli 0.004001 missing
# 
# === Runtime Suggests ===
# 
#     Module Want    Have
#     ------ ---- -------
#     Clone   any missing
# 
t/00-report-prereqs.t .......... ok
t/common-req.t ................. ok
t/headers-auth.t ............... ok
t/headers-etag.t ............... ok
t/headers-util.t ............... ok
t/headers.t .................... ok
t/http-config.t ................ ok
t/message-brotli.t ............. skipped: Need IO::Compress::Brotli, IO::Uncompress::Brotli
t/message-charset.t ............ ok
t/message-decode-brotlibomb.t .. skipped: Need IO::Compress::Brotli, IO::Uncompress::Brotli
t/message-decode-bzipbomb.t .... ok
t/message-decode-xml.t ......... ok
t/message-decode-zipbomb.t ..... skipped: Need Compress::Raw::Zlib 2.061 (have 2.048)
t/message-old.t ................ ok
t/message-parts.t .............. ok
t/message.t .................... ok
t/request.t .................... ok
t/request_type_with_data.t ..... ok
t/response.t ................... ok
t/status-old.t ................. ok
t/status.t ..................... ok
All tests successful.
Files=21, Tests=827,  2 wallclock secs ( 0.10 usr  0.02 sys +  1.72 cusr  0.28 csys =  2.12 CPU)
Result: PASS

------------------------------
PREREQUISITES
------------------------------

Prerequisite modules loaded:

requires:

    Module                     Need     Have    
    -------------------------- -------- --------
    Carp                       0        1.26    
    Compress::Raw::Bzip2       0        2.048   
    Compress::Raw::Zlib        0        2.048   
    Encode                     3.01     3.19    
    Encode::Locale             1        1.05    
    Exporter                   5.57     5.66    
    File::Spec                 0        3.39_02 
    HTTP::Date                 6        6.05    
    IO::Compress::Bzip2        2.021    2.048   
    IO::Compress::Deflate      0        2.048   
    IO::Compress::Gzip         0        2.048   
    IO::HTML                   0        1.004   
    IO::Uncompress::Inflate    0        2.048   
    IO::Uncompress::RawInflate 0        2.048   
    LWP::MediaTypes            6        6.04    
    MIME::Base64               2.1      3.13    
    MIME::QuotedPrint          0        3.13    
    parent                     0        0.225   
    perl                       5.008001 5.016003
    strict                     0        1.07    
    URI                        1.10     5.16    
    warnings                   0        1.13    

build_requires:

    Module                     Need     Have    
    -------------------------- -------- --------
    ExtUtils::MakeMaker        0        7.64    
    File::Spec                 0        3.39_02 
    File::Temp                 0        0.22    
    lib                        0        0.63    
    overload                   0        1.18    
    PerlIO::encoding           0        0.15    
    Test::More                 0.88     1.302190
    Test::Needs                0        0.002009
    Time::Local                0        1.30    
    Try::Tiny                  0        0.31    
    URI::URL                   0        5.16    

configure_requires:

    Module                     Need     Have    
    -------------------------- -------- --------
    ExtUtils::MakeMaker        0        7.64    
    perl                       5.006    5.016003


------------------------------
ENVIRONMENT AND OTHER CONTEXT
------------------------------

Environment variables:

    LANG = en_US.UTF-8
    PATH = /usr/local/bin:/usr/bin:/bin:/usr/local/sbin:/usr/sbin:/sbin:/home/e/eserte/bin/linux-gnu:/home/e/eserte/bin/sh:/home/e/eserte/bin:/home/e/eserte/bin/pistachio-perl/bin:/usr/games:/home/e/eserte/devel:/home/e/eserte/work2/fzf/bin:/home/e/eserte/src/srezic-misc/scripts
    PERL5LIB = /home/e/eserte/.cpan/build/2022102508/URI-5.16-0/blib/arch:/home/e/eserte/.cpan/build/2022102508/URI-5.16-0/blib/lib:/home/e/eserte/.cpan/build/2022102508/Test-Needs-0.002009-0/blib/arch:/home/e/eserte/.cpan/build/2022102508/Test-Needs-0.002009-0/blib/lib:/home/e/eserte/.cpan/build/2022102508/LWP-MediaTypes-6.04-0/blib/arch:/home/e/eserte/.cpan/build/2022102508/LWP-MediaTypes-6.04-0/blib/lib:/home/e/eserte/.cpan/build/2022102508/IO-HTML-1.004-0/blib/arch:/home/e/eserte/.cpan/build/2022102508/IO-HTML-1.004-0/blib/lib:/home/e/eserte/.cpan/build/2022102508/Encode-3.19-0/blib/arch:/home/e/eserte/.cpan/build/2022102508/Encode-3.19-0/blib/lib:/home/e/eserte/.cpan/build/2022102508/HTML-Tagset-3.20-0/blib/arch:/home/e/eserte/.cpan/build/2022102508/HTML-Tagset-3.20-0/blib/lib:/home/e/eserte/.cpan/build/2022102508/File-Listing-6.15-0/blib/arch:/home/e/eserte/.cpan/build/2022102508/File-Listing-6.15-0/blib/lib:/home/e/eserte/.cpan/build/2022102508/HTTP-Date-6.05-0/blib/arch:/home/e/eserte/.cpan/build/2022102508/HTTP-Date-6.05-0/blib/lib:/home/e/eserte/.cpan/build/2022102508/TimeDate-2.33-1/blib/arch:/home/e/eserte/.cpan/build/2022102508/TimeDate-2.33-1/blib/lib:/home/e/eserte/.cpan/build/2022102508/Time-Local-1.30-0/blib/arch:/home/e/eserte/.cpan/build/2022102508/Time-Local-1.30-0/blib/lib:/home/e/eserte/.cpan/build/2022102508/Encode-Locale-1.05-0/blib/arch:/home/e/eserte/.cpan/build/2022102508/Encode-Locale-1.05-0/blib/lib
    PERL5OPT = 
    PERL5_CPANPLUS_IS_RUNNING = 11445
    PERL5_CPAN_IS_RUNNING = 11445
    PERL5_CPAN_IS_RUNNING_IN_RECURSION = 11414,11445
    PERLDOC = -MPod::Perldoc::ToTextOverstrike
    PERL_BATCH = yes
    PERL_CANARY_STABILITY_NOPROMPT = 1
    PERL_CPAN_REPORTER_CONFIG = /var/tmp/cpansmoker-1000/2022102508/cpanreporter_000_config.ini
    PERL_EXTUTILS_AUTOINSTALL = --defaultdeps
    PERL_USE_UNSAFE_INC = 1
    SHELL = /bin/zsh
    STDPERL = perl
    TERM = xterm
    TMPDIR = /var/tmp/cpansmoker-1000/2022102508

Perl special variables (and OS-specific diagnostics, for MSWin32):

    $^X = /opt/perl-5.16.3/bin/perl
    $UID/$EUID = 1000 / 1000
    $GID = 1000 4 24 25 27 29 30 33 44 46 108 111 115 128 134 1000 1024
    $EGID = 1000 4 24 25 27 29 30 33 44 46 108 111 115 128 134 1000 1024

Perl module toolchain versions installed:

    Module              Have    
    ------------------- --------
    CPAN                2.34    
    CPAN::Meta          2.143240
    Cwd                 3.39_02 
    ExtUtils::CBuilder  0.280206
    ExtUtils::Command   7.64    
    ExtUtils::Install   2.06    
    ExtUtils::MakeMaker 7.64    
    ExtUtils::Manifest  1.70    
    ExtUtils::ParseXS   3.16    
    File::Spec          3.39_02 
    JSON                n/a     
    JSON::PP            2.27203 
    Module::Build       0.39_01 
    Module::Signature   n/a     
    Parse::CPAN::Meta   1.4414  
    Test::Harness       3.23    
    Test::More          1.302190
    YAML                1.30    
    YAML::Syck          1.34    
    version             0.99    


--

Summary of my perl5 (revision 5 version 16 subversion 3) configuration:
   
  Platform:
    osname=linux, osvers=4.9.0-18-amd64, archname=x86_64-linux
    uname='linux cabulja 4.9.0-18-amd64 #1 smp debian 4.9.303-1 (2022-03-07) x86_64 gnulinux '
    config_args='-ds -e -Dprefix=/opt/perl-5.16.3 -Dcf_email=srezic@cpan.org'
    hint=recommended, useposix=true, d_sigaction=define
    useithreads=undef, usemultiplicity=undef
    useperlio=define, d_sfio=undef, uselargefiles=define, usesocks=undef
    use64bitint=define, use64bitall=define, uselongdouble=undef
    usemymalloc=n, bincompat5005=undef
  Compiler:
    cc='cc', ccflags ='-fwrapv -fno-strict-aliasing -pipe -fstack-protector -I/usr/local/include -D_LARGEFILE_SOURCE -D_FILE_OFFSET_BITS=64',
    optimize='-O2',
    cppflags='-fwrapv -fno-strict-aliasing -pipe -fstack-protector -I/usr/local/include'
    ccversion='', gccversion='6.3.0 20170516', gccosandvers=''
    intsize=4, longsize=8, ptrsize=8, doublesize=8, byteorder=12345678
    d_longlong=define, longlongsize=8, d_longdbl=define, longdblsize=16
    ivtype='long', ivsize=8, nvtype='double', nvsize=8, Off_t='off_t', lseeksize=8
    alignbytes=8, prototype=define
  Linker and Libraries:
    ld='cc', ldflags =' -fstack-protector -L/usr/local/lib'
    libpth=/usr/local/lib /lib/x86_64-linux-gnu /lib/../lib /usr/lib/x86_64-linux-gnu /usr/lib/../lib /lib /usr/lib
    libs=-lnsl -lgdbm -ldb -ldl -lm -lcrypt -lutil -lc -lgdbm_compat
    perllibs=-lnsl -ldl -lm -lcrypt -lutil -lc
    libc=libc-2.24.so, so=so, useshrplib=false, libperl=libperl.a
    gnulibc_version='2.24'
  Dynamic Linking:
    dlsrc=dl_dlopen.xs, dlext=so, d_dlsymun=undef, ccdlflags='-Wl,-E'
    cccdlflags='-fPIC', lddlflags='-shared -O2 -L/usr/local/lib -fstack-protector'


Characteristics of this binary (from libperl): 
  Compile-time options: HAS_TIMES PERLIO_LAYERS PERL_DONT_CREATE_GVSV
                        PERL_MALLOC_WRAP PERL_PRESERVE_IVUV USE_64_BIT_ALL
                        USE_64_BIT_INT USE_LARGE_FILES USE_LOCALE
                        USE_LOCALE_COLLATE USE_LOCALE_CTYPE
                        USE_LOCALE_NUMERIC USE_PERLIO USE_PERL_ATOF
  Locally applied patches:
	Devel::PatchPerl 2.08
  Built under linux
  Compiled at May 29 2022 23:16:13
  %ENV:
    PERL5LIB="/home/e/eserte/.cpan/build/2022102508/URI-5.16-0/blib/arch:/home/e/eserte/.cpan/build/2022102508/URI-5.16-0/blib/lib:/home/e/eserte/.cpan/build/2022102508/Test-Needs-0.002009-0/blib/arch:/home/e/eserte/.cpan/build/2022102508/Test-Needs-0.002009-0/blib/lib:/home/e/eserte/.cpan/build/2022102508/LWP-MediaTypes-6.04-0/blib/arch:/home/e/eserte/.cpan/build/2022102508/LWP-MediaTypes-6.04-0/blib/lib:/home/e/eserte/.cpan/build/2022102508/IO-HTML-1.004-0/blib/arch:/home/e/eserte/.cpan/build/2022102508/IO-HTML-1.004-0/blib/lib:/home/e/eserte/.cpan/build/2022102508/Encode-3.19-0/blib/arch:/home/e/eserte/.cpan/build/2022102508/Encode-3.19-0/blib/lib:/home/e/eserte/.cpan/build/2022102508/HTML-Tagset-3.20-0/blib/arch:/home/e/eserte/.cpan/build/2022102508/HTML-Tagset-3.20-0/blib/lib:/home/e/eserte/.cpan/build/2022102508/File-Listing-6.15-0/blib/arch:/home/e/eserte/.cpan/build/2022102508/File-Listing-6.15-0/blib/lib:/home/e/eserte/.cpan/build/2022102508/HTTP-Date-6.05-0/blib/arch:/home/e/eserte/.cpan/build/2022102508/HTTP-Date-6.05-0/blib/lib:/home/e/eserte/.cpan/build/2022102508/TimeDate-2.33-1/blib/arch:/home/e/eserte/.cpan/build/2022102508/TimeDate-2.33-1/blib/lib:/home/e/eserte/.cpan/build/2022102508/Time-Local-1.30-0/blib/arch:/home/e/eserte/.cpan/build/2022102508/Time-Local-1.30-0/blib/lib:/home/e/eserte/.cpan/build/2022102508/Encode-Locale-1.05-0/blib/arch:/home/e/eserte/.cpan/build/2022102508/Encode-Locale-1.05-0/blib/lib"
    PERL5OPT=""
    PERL5_CPANPLUS_IS_RUNNING="11445"
    PERL5_CPAN_IS_RUNNING="11445"
    PERL5_CPAN_IS_RUNNING_IN_RECURSION="11414,11445"
    PERLDOC="-MPod::Perldoc::ToTextOverstrike"
    PERL_BATCH="yes"
    PERL_CANARY_STABILITY_NOPROMPT="1"
    PERL_CPAN_REPORTER_CONFIG="/var/tmp/cpansmoker-1000/2022102508/cpanreporter_000_config.ini"
    PERL_EXTUTILS_AUTOINSTALL="--defaultdeps"
    PERL_USE_UNSAFE_INC="1"
  @INC:
    /home/e/eserte/.cpan/build/2022102508/URI-5.16-0/blib/arch
    /home/e/eserte/.cpan/build/2022102508/URI-5.16-0/blib/lib
    /home/e/eserte/.cpan/build/2022102508/Test-Needs-0.002009-0/blib/arch
    /home/e/eserte/.cpan/build/2022102508/Test-Needs-0.002009-0/blib/lib
    /home/e/eserte/.cpan/build/2022102508/LWP-MediaTypes-6.04-0/blib/arch
    /home/e/eserte/.cpan/build/2022102508/LWP-MediaTypes-6.04-0/blib/lib
    /home/e/eserte/.cpan/build/2022102508/IO-HTML-1.004-0/blib/arch
    /home/e/eserte/.cpan/build/2022102508/IO-HTML-1.004-0/blib/lib
    /home/e/eserte/.cpan/build/2022102508/Encode-3.19-0/blib/arch
    /home/e/eserte/.cpan/build/2022102508/Encode-3.19-0/blib/lib
    /home/e/eserte/.cpan/build/2022102508/HTML-Tagset-3.20-0/blib/arch
    /home/e/eserte/.cpan/build/2022102508/HTML-Tagset-3.20-0/blib/lib
    /home/e/eserte/.cpan/build/2022102508/File-Listing-6.15-0/blib/arch
    /home/e/eserte/.cpan/build/2022102508/File-Listing-6.15-0/blib/lib
    /home/e/eserte/.cpan/build/2022102508/HTTP-Date-6.05-0/blib/arch
    /home/e/eserte/.cpan/build/2022102508/HTTP-Date-6.05-0/blib/lib
    /home/e/eserte/.cpan/build/2022102508/TimeDate-2.33-1/blib/arch
    /home/e/eserte/.cpan/build/2022102508/TimeDate-2.33-1/blib/lib
    /home/e/eserte/.cpan/build/2022102508/Time-Local-1.30-0/blib/arch
    /home/e/eserte/.cpan/build/2022102508/Time-Local-1.30-0/blib/lib
    /home/e/eserte/.cpan/build/2022102508/Encode-Locale-1.05-0/blib/arch
    /home/e/eserte/.cpan/build/2022102508/Encode-Locale-1.05-0/blib/lib
    /opt/perl-5.16.3/lib/site_perl/5.16.3/x86_64-linux
    /opt/perl-5.16.3/lib/site_perl/5.16.3
    /opt/perl-5.16.3/lib/5.16.3/x86_64-linux
    /opt/perl-5.16.3/lib/5.16.3
    .