XSLoader v0.24 Perl 5 v5.14.4 x86_64-linux

Status
Pass
From
Dagfinn Ilmari Mannsåker
Dist
XSLoader v0.24
Platform
Perl 5 v5.14.4 x86_64-linux
Date
2024-08-20 16:18:50
ID
e2c63a62-5f0f-11ef-bd04-e87e5efda47f
This distribution has been tested as part of the CPAN Testers
project, supporting the Perl programming language.  See
http://wiki.cpantesters.org/ for more information or email
questions to cpan-testers-discuss@perl.org


--
Dear SAPER,

This is a computer-generated report for XSLoader-0.24
on perl 5.14.4, created by App::cpanminus::reporter 0.21 (1.7047).

Thank you for uploading your work to CPAN.  Congratulations!
All tests were successful.

Sections of this report:

    * Tester comments
    * Program output
    * Prerequisites
    * Environment and other context

------------------------------
TESTER COMMENTS
------------------------------

Additional comments from tester:

none provided

------------------------------
PROGRAM OUTPUT
------------------------------

Output from '':

Building and testing XSLoader-0.24
"/home/ilmari/perl5/perlbrew/perls/14.4/bin/perl" XSLoader_pm.PL XSLoader.pm 
cp XSLoader.pm blib/arch/XSLoader.pm
PERL_DL_NONLAZY=1 "/home/ilmari/perl5/perlbrew/perls/14.4/bin/perl" "-MExtUtils::Command::MM" "-MTest::Harness" "-e" "undef *Test::Harness::Switches; test_harness(0, 'blib/lib', 'blib/arch')" t/*.t
# testing XSLoader v0.24 under Perl 5.014004
t/00-load.t ... ok
t/01-api.t .... ok
t/distchk.t ... skipped: Test::Distribution required for checking distribution
t/pod.t ....... skipped: Test::Pod 1.14 required for testing POD
t/podcover.t .. skipped: Test::Pod::Coverage 1.04 required for testing POD coverage
t/portfs.t .... skipped: Test::Portability::Files required for testing filenames portability
t/XSLoader.t .. ok
All tests successful.
Files=7, Tests=28,  0 wallclock secs ( 0.01 usr  0.01 sys +  0.05 cusr  0.00 csys =  0.07 CPU)
Result: PASS

------------------------------
PREREQUISITES
------------------------------

Prerequisite modules loaded:

runtime:

    Module              Need Have    
    ------------------- ---- --------
    Test::More          0.47 1.302201

build:

    Module              Need Have    
    ------------------- ---- --------
    ExtUtils::MakeMaker 0    7.64    

configure:

    Module              Need Have    
    ------------------- ---- --------
    ExtUtils::MakeMaker 0    7.64    


------------------------------
ENVIRONMENT AND OTHER CONTEXT
------------------------------

Environment variables:

    LANG = en_GB.UTF-8
    LANGUAGE = en_GB:en
    PATH = /home/ilmari/.perlbrew/libs/14.4@std/bin:/home/ilmari/perl5/perlbrew/bin:/home/ilmari/perl5/perlbrew/perls/14.4/bin:/home/ilmari/.pyenv/shims:/home/ilmari/.pyenv/bin:/home/ilmari/.local/bin:/home/ilmari/go/bin:/home/ilmari/.cargo/bin:/usr/lib/ccache:/home/ilmari/bin:/usr/local/bin:/usr/bin:/bin:/usr/local/games:/usr/games
    PERL5LIB = /home/ilmari/.perlbrew/libs/14.4@std/lib/perl5
    PERLBREW_HOME = /home/ilmari/.perlbrew
    PERLBREW_LIB = std
    PERLBREW_MANPATH = /home/ilmari/.perlbrew/libs/14.4@std/man:/home/ilmari/perl5/perlbrew/perls/14.4/man
    PERLBREW_PATH = /home/ilmari/.perlbrew/libs/14.4@std/bin:/home/ilmari/perl5/perlbrew/bin:/home/ilmari/perl5/perlbrew/perls/14.4/bin
    PERLBREW_PERL = 14.4
    PERLBREW_ROOT = /home/ilmari/perl5/perlbrew
    PERLBREW_SHELLRC_VERSION = 0.82
    PERLBREW_VERSION = 0.96
    PERL_LOCAL_LIB_ROOT = /home/ilmari/.perlbrew/libs/14.4@std
    PERL_MB_OPT = --install_base /home/ilmari/.perlbrew/libs/14.4@std
    PERL_MM_OPT = INSTALL_BASE=/home/ilmari/.perlbrew/libs/14.4@std
    SHELL = /bin/bash
    TERM = xterm-256color

Perl special variables (and OS-specific diagnostics, for MSWin32):

    EGID = 1000 4 24 25 27 29 30 44 46 50 108 114 128 129 999 1000
    EUID = 1000
    EXECUTABLE_NAME = /home/ilmari/perl5/perlbrew/perls/14.4/bin/perl
    GID = 1000 4 24 25 27 29 30 44 46 50 108 114 128 129 999 1000
    UID = 1000

Perl module toolchain versions installed:

    Module              Have     
    ------------------- ---------
    CPAN                1.9600_01
    CPAN::Meta          2.150010 
    Cwd                 3.36     
    ExtUtils::CBuilder  0.280203 
    ExtUtils::Command   7.64     
    ExtUtils::Install   2.06     
    ExtUtils::MakeMaker 7.64     
    ExtUtils::Manifest  1.70     
    ExtUtils::ParseXS   3.01     
    File::Spec          3.33     
    JSON                n/a      
    JSON::PP            4.07     
    Module::Build       0.4231   
    Module::Signature   n/a      
    Parse::CPAN::Meta   2.150010 
    Test::Harness       3.42     
    Test::More          1.302201 
    YAML                n/a      
    YAML::Syck          n/a      
    version             0.88     


--

Summary of my perl5 (revision 5 version 14 subversion 4) configuration:
   
  Platform:
    osname=linux, osvers=5.10.0-10-amd64, archname=x86_64-linux
    uname='linux ilmari-thinkpad 5.10.0-10-amd64 #1 smp debian 5.10.84-1 (2021-12-08) x86_64 gnulinux '
    config_args='-de -Dprefix=/home/ilmari/perl5/perlbrew/perls/14.4 -Duseshrplib -Dman1dir=none -Dman3dir=none -Aeval:scriptdir=/home/ilmari/perl5/perlbrew/perls/14.4/bin'
    hint=recommended, useposix=true, d_sigaction=define
    useithreads=undef, usemultiplicity=undef
    useperlio=define, d_sfio=undef, uselargefiles=define, usesocks=undef
    use64bitint=define, use64bitall=define, uselongdouble=undef
    usemymalloc=n, bincompat5005=undef
  Compiler:
    cc='cc', ccflags ='-fwrapv -fno-strict-aliasing -pipe -fstack-protector -I/usr/local/include -D_LARGEFILE_SOURCE -D_FILE_OFFSET_BITS=64',
    optimize='-O2',
    cppflags='-fwrapv -fno-strict-aliasing -pipe -fstack-protector -I/usr/local/include'
    ccversion='', gccversion='10.2.1 20210110', gccosandvers=''
    intsize=4, longsize=8, ptrsize=8, doublesize=8, byteorder=12345678
    d_longlong=define, longlongsize=8, d_longdbl=define, longdblsize=16
    ivtype='long', ivsize=8, nvtype='double', nvsize=8, Off_t='off_t', lseeksize=8
    alignbytes=8, prototype=define
  Linker and Libraries:
    ld='cc', ldflags =' -fstack-protector -L/usr/local/lib'
    libpth=/usr/local/lib /lib/x86_64-linux-gnu /lib/../lib /usr/lib/x86_64-linux-gnu /usr/lib/../lib /lib /usr/lib
    libs=-lnsl -lgdbm -ldl -lm -lcrypt -lutil -lc
    perllibs=-lnsl -ldl -lm -lcrypt -lutil -lc
    libc=libc-2.31.so, so=so, useshrplib=true, libperl=libperl.so
    gnulibc_version='2.31'
  Dynamic Linking:
    dlsrc=dl_dlopen.xs, dlext=so, d_dlsymun=undef, ccdlflags='-Wl,-E -Wl,-rpath,/home/ilmari/perl5/perlbrew/perls/14.4/lib/5.14.4/x86_64-linux/CORE'
    cccdlflags='-fPIC', lddlflags='-shared -O2 -L/usr/local/lib -fstack-protector'


Characteristics of this binary (from libperl): 
  Compile-time options: PERL_DONT_CREATE_GVSV PERL_MALLOC_WRAP
                        PERL_PRESERVE_IVUV USE_64_BIT_ALL USE_64_BIT_INT
                        USE_LARGE_FILES USE_PERLIO USE_PERL_ATOF
  Locally applied patches:
	Devel::PatchPerl 2.08
  Built under linux
  Compiled at Jan 27 2022 18:02:57
  %ENV:
    PERL5LIB="/home/ilmari/.perlbrew/libs/14.4@std/lib/perl5"
    PERLBREW_HOME="/home/ilmari/.perlbrew"
    PERLBREW_LIB="std"
    PERLBREW_MANPATH="/home/ilmari/.perlbrew/libs/14.4@std/man:/home/ilmari/perl5/perlbrew/perls/14.4/man"
    PERLBREW_PATH="/home/ilmari/.perlbrew/libs/14.4@std/bin:/home/ilmari/perl5/perlbrew/bin:/home/ilmari/perl5/perlbrew/perls/14.4/bin"
    PERLBREW_PERL="14.4"
    PERLBREW_ROOT="/home/ilmari/perl5/perlbrew"
    PERLBREW_SHELLRC_VERSION="0.82"
    PERLBREW_VERSION="0.96"
    PERL_LOCAL_LIB_ROOT="/home/ilmari/.perlbrew/libs/14.4@std"
    PERL_MB_OPT="--install_base /home/ilmari/.perlbrew/libs/14.4@std"
    PERL_MM_OPT="INSTALL_BASE=/home/ilmari/.perlbrew/libs/14.4@std"
  @INC:
    /home/ilmari/.perlbrew/libs/14.4@std/lib/perl5/x86_64-linux
    /home/ilmari/.perlbrew/libs/14.4@std/lib/perl5
    /home/ilmari/perl5/perlbrew/perls/14.4/lib/site_perl/5.14.4/x86_64-linux
    /home/ilmari/perl5/perlbrew/perls/14.4/lib/site_perl/5.14.4
    /home/ilmari/perl5/perlbrew/perls/14.4/lib/5.14.4/x86_64-linux
    /home/ilmari/perl5/perlbrew/perls/14.4/lib/5.14.4
    .