Back
From: metabase:user:320bfe00-2aae-11df-837a-5e0a49663a4f
Subject: PASS Class-MakeMethods-1.01 v5.8.8 GNU/Linux
Date: 2016-08-26T17:02:35Z
This distribution has been tested as part of the CPAN Testers
project, supporting the Perl programming language. See
http://wiki.cpantesters.org/ for more information or email
questions to cpan-testers-discuss@perl.org
--
Dear Matthew Simon Cavalletto,
This is a computer-generated report for Class-MakeMethods-1.01
on perl 5.8.8, created by CPAN-Reporter-1.2017.
Thank you for uploading your work to CPAN. Congratulations!
All tests were successful.
Sections of this report:
* Tester comments
* Program output
* Prerequisites
* Environment and other context
------------------------------
TESTER COMMENTS
------------------------------
Additional comments from tester:
this report is from an automated smoke testing program
and was not reviewed by a human for accuracy
------------------------------
PROGRAM OUTPUT
------------------------------
Output from '/usr/bin/make test':
PERL_DL_NONLAZY=1 "/home/sand/src/perl/repoperls/installed-perls/perl/perl-5.8.8/79cc/bin/perl" "-Iblib/lib" "-Iblib/arch" test.pl
test.pl: Searching for test scripts in .
test.pl: Found 121 .t files for test harness.
./tests/access/attribute_stnd_hash.t .................... ok
./tests/access/autoload_stnd_hash.t ..................... ok
./tests/access/autoload_typemap.t ....................... ok
./tests/access/import_version.t ......................... ok
./tests/basic/array_scalar.t ............................ ok
./tests/basic/declarations.t ............................ ok
./tests/basic/global_hash.t ............................. ok
./tests/basic/global_scalar.t ........................... ok
./tests/basic/hash_scalar.t ............................. ok
./tests/composite/declarations.t ........................ ok
./tests/composite/hash.t ................................ ok
./tests/composite/inheritable.t ......................... ok
./tests/composite/inheritable_hash.t .................... ok
./tests/composite/inheritable_hook.t .................... ok
./tests/composite/patch.t ............................... ok
./tests/evaled/hash_scalar.t ............................ ok
./tests/standard/standard_declarations.t ................ ok
./tests/standard/standard_hash.t ........................ ok
./tests/standard/standard_inheritable.t ................. ok
./tests/standard/standard_inheritable_hash.t ............ ok
./tests/template/abstract.t ............................. ok
./tests/template/array_number.t ......................... ok
./tests/template/array_object.t ......................... ok
./tests/template/array_scalar.t ......................... ok
./tests/template/class_array.t .......................... ok
./tests/template/class_scalar.t ......................... ok
./tests/template/classvar_array.t ....................... ok
./tests/template/classvar_scalar.t ...................... ok
./tests/template/clone.t ................................ ok
./tests/template/declaration.t .......................... ok
./tests/template/doc_examples.t ......................... ok
./tests/template/doc_extending.t ........................ ok
./tests/template/global_array.t ......................... ok
./tests/template/global_code.t .......................... ok
./tests/template/global_hash.t .......................... ok
./tests/template/global_scalar.t ........................ ok
./tests/template/global_scalar_lvalue.t ................. ok
./tests/template/hash_array.t ........................... ok
./tests/template/hash_array_getset.t .................... ok
./tests/template/hash_array_lvalue.t .................... ok
./tests/template/hash_array_object.t .................... ok
./tests/template/hash_boolean.t ......................... ok
./tests/template/hash_code.t ............................ ok
./tests/template/hash_copy.t ............................ ok
./tests/template/hash_counter.t ......................... ok
./tests/template/hash_counter_closure.t ................. ok
./tests/template/hash_hash.t ............................ ok
./tests/template/hash_hash_array.t ...................... ok
./tests/template/hash_method.t .......................... ok
./tests/template/hash_new.t ............................. ok
./tests/template/hash_number.t .......................... ok
./tests/template/hash_number_interfaces.t ............... ok
./tests/template/hash_object.t .......................... ok
./tests/template/hash_scalar.t .......................... ok
./tests/template/hash_scalar_closure.t .................. ok
./tests/template/hash_scalar_interfaces.t ............... ok
./tests/template/hash_scalar_lvalue.t ................... ok
./tests/template/hash_string_concat.t ................... ok
./tests/template/hash_string_index.t .................... ok
./tests/template/hash_string_index_create.t ............. ok
./tests/template/hash_struct.t .......................... ok
./tests/template/hash_tiedhash.t ........................ ok
./tests/template/inherit_scalar.t ....................... ok
./tests/template/insideout_array.t ...................... ok
./tests/template/insideout_bool_i.t ..................... ok
./tests/template/insideout_scalar.t ..................... ok
./tests/template/modifier_private.t ..................... ok
./tests/template/package_scalar.t ....................... ok
./tests/template/scalar_bits.t .......................... ok
./tests/template/scalar_counter.t ....................... ok
./tests/utility/inheritable.t ........................... ok
./tests/utility/text_builder.t .......................... ok
./tests/xemulator/accessors/chained.t ................... ok
./tests/xemulator/accessors/classic.t ................... ok
./tests/xemulator/accessors/default.t ................... ok
./tests/xemulator/accessors/invalid.t ................... ok
./tests/xemulator/class_accessor/class_accessor_fast.t .. ok
./tests/xemulator/class_inheritable/emulate.t ........... ok
./tests/xemulator/class_inheritable/transparent.t ....... ok
./tests/xemulator/class_methodmaker/abstract.t .......... ok
./tests/xemulator/class_methodmaker/boolean.092.t ....... ok
./tests/xemulator/class_methodmaker/boolean.t ........... ok
./tests/xemulator/class_methodmaker/code.t .............. ok
./tests/xemulator/class_methodmaker/copy.t .............. ok
./tests/xemulator/class_methodmaker/counter.t ........... ok
./tests/xemulator/class_methodmaker/get_concat.092.t .... ok
./tests/xemulator/class_methodmaker/get_concat.t ........ ok
./tests/xemulator/class_methodmaker/get_set.092.t ....... ok
./tests/xemulator/class_methodmaker/get_set.t ........... ok
./tests/xemulator/class_methodmaker/grouped_fields.t .... ok
./tests/xemulator/class_methodmaker/hash.092.t .......... ok
./tests/xemulator/class_methodmaker/hash.t .............. ok
./tests/xemulator/class_methodmaker/hash_of_lists.t ..... ok
./tests/xemulator/class_methodmaker/key_attrib.t ........ ok
./tests/xemulator/class_methodmaker/key_with_create.t ... ok
./tests/xemulator/class_methodmaker/list.092.t .......... ok
./tests/xemulator/class_methodmaker/list.104.t .......... ok
./tests/xemulator/class_methodmaker/list.t .............. ok
./tests/xemulator/class_methodmaker/listed_attrib.t ..... ok
./tests/xemulator/class_methodmaker/method.t ............ ok
./tests/xemulator/class_methodmaker/new.092.t ........... ok
./tests/xemulator/class_methodmaker/new.102.t ........... ok
./tests/xemulator/class_methodmaker/new.t ............... ok
./tests/xemulator/class_methodmaker/object.092.t ........ ok
./tests/xemulator/class_methodmaker/object.t ............ ok
./tests/xemulator/class_methodmaker/object_list.102.t ... ok
./tests/xemulator/class_methodmaker/object_list.t ....... ok
./tests/xemulator/class_methodmaker/static_get_set.t .... ok
./tests/xemulator/class_methodmaker/static_hash.092.t ... ok
./tests/xemulator/class_methodmaker/static_hash.t ....... ok
./tests/xemulator/class_methodmaker/static_list.t ....... ok
./tests/xemulator/class_methodmaker/struct.t ............ ok
./tests/xemulator/class_methodmaker/sugar.092.t ......... ok
./tests/xemulator/class_methodmaker/tie_hash.t .......... ok
./tests/xemulator/class_singleton/emulate.t ............. ok
./tests/xemulator/class_singleton/transparent.t ......... ok
./tests/xemulator/class_struct/emulate.t ................ ok
./tests/xemulator/class_struct/equivalent.t ............. ok
./tests/xemulator/mcoder/getset.t ....................... ok
./tests/xemulator/mcoder/proxies.t ...................... ok
./tests/xemulator/mcoder/sugar.t ........................ ok
All tests successful.
Files=121, Tests=1760, 7 wallclock secs ( 0.44 usr 0.67 sys + 2.21 cusr 0.77 csys = 4.09 CPU)
Result: PASS
------------------------------
PREREQUISITES
------------------------------
Prerequisite modules loaded:
build_requires:
Module Need Have
------------------- ---- ----
ExtUtils::MakeMaker 0 7.24
------------------------------
ENVIRONMENT AND OTHER CONTEXT
------------------------------
Environment variables:
AUTOMATED_TESTING = 1
LANG = en_US.UTF-8
LANGUAGE = en_US:en
PATH = /usr/lib/ccache:/home/sand/bin:/usr/local/bin:/usr/bin:/bin:/usr/games:/usr/local/perl/bin:/usr/X11/bin:/sbin:/usr/sbin
PERL5LIB =
PERL5OPT =
PERL5_CPANPLUS_IS_RUNNING = 30548
PERL5_CPAN_IS_RUNNING = 30548
PERL_CANARY_STABILITY_NOPROMPT = 1
PERL_MM_USE_DEFAULT = 1
SHELL = /usr/bin/zsh
TERM = screen
Perl special variables (and OS-specific diagnostics, for MSWin32):
$^X = /home/sand/src/perl/repoperls/installed-perls/perl/perl-5.8.8/79cc/bin/perl
$UID/$EUID = 1005 / 1005
$GID = 1005 1005
$EGID = 1005 1005
Perl module toolchain versions installed:
Module Have
------------------- --------
CPAN 2.15
CPAN::Meta 2.150010
Cwd 3.62
ExtUtils::CBuilder 0.280224
ExtUtils::Command 7.24
ExtUtils::Install 1.54
ExtUtils::MakeMaker 7.24
ExtUtils::Manifest 1.70
ExtUtils::ParseXS 3.30
File::Spec 3.62
JSON 2.90
JSON::PP 2.27400
Module::Build 0.4220
Module::Signature 0.80
Parse::CPAN::Meta 2.150010
Test::Harness 3.36
Test::More 1.302054
YAML 1.15
YAML::Syck 1.29
version 0.9917
--
Summary of my perl5 (revision 5 version 8 subversion 8) configuration:
Platform:
osname=linux, osvers=4.3.0-1-amd64, archname=x86_64-linux
uname='linux k83 4.3.0-1-amd64 #1 smp debian 4.3.3-7 (2016-01-19) x86_64 gnulinux '
config_args='-Dprefix=/home/sand/src/perl/repoperls/installed-perls/perl/perl-5.8.8/79cc -Dmyhostname=k83 -Dinstallusrbinperl=n -Uversiononly -Dusedevel -des -Ui_db -Dlibswanted=cl pthread socket inet nsl gdbm dbm malloc dl ld sun m crypt sec util c cposix posix ucb BSD gdbm_compat -Uuseithreads -Uuselongdouble -DDEBUGGING=-g'
hint=recommended, useposix=true, d_sigaction=define
usethreads=undef use5005threads=undef useithreads=undef usemultiplicity=undef
useperlio=define d_sfio=undef uselargefiles=define usesocks=undef
use64bitint=define use64bitall=define uselongdouble=undef
usemymalloc=n, bincompat5005=undef
Compiler:
cc='cc', ccflags ='-fno-strict-aliasing -pipe -Wdeclaration-after-statement -I/usr/local/include -D_LARGEFILE_SOURCE -D_FILE_OFFSET_BITS=64',
optimize='-O2',
cppflags='-fno-strict-aliasing -pipe -Wdeclaration-after-statement -I/usr/local/include'
ccversion='', gccversion='5.3.1 20160121', gccosandvers=''
intsize=4, longsize=8, ptrsize=8, doublesize=8, byteorder=12345678
d_longlong=define, longlongsize=8, d_longdbl=define, longdblsize=16
ivtype='long', ivsize=8, nvtype='double', nvsize=8, Off_t='off_t', lseeksize=8
alignbytes=8, prototype=define
Linker and Libraries:
ld='cc', ldflags =' -L/usr/local/lib'
libpth=/usr/local/lib /lib/x86_64-linux-gnu /lib/../lib /usr/lib/x86_64-linux-gnu /usr/lib/../lib /lib /usr/lib
libs=-lpthread -lnsl -lgdbm -ldl -lm -lcrypt -lutil -lc -lgdbm_compat
perllibs=-lpthread -lnsl -ldl -lm -lcrypt -lutil -lc -lgdbm_compat
libc=libc-2.21.so, so=so, useshrplib=false, libperl=libperl.a
gnulibc_version='2.21'
Dynamic Linking:
dlsrc=dl_dlopen.xs, dlext=so, d_dlsymun=undef, ccdlflags='-Wl,-E'
cccdlflags='-fpic', lddlflags='-shared -L/usr/local/lib'
Characteristics of this binary (from libperl):
Compile-time options: PERL_MALLOC_WRAP USE_64_BIT_ALL USE_64_BIT_INT
USE_LARGE_FILES USE_PERLIO
Built under linux
Compiled at May 2 2016 07:31:30
%ENV:
PERL5LIB=""
PERL5OPT=""
PERL5_CPANPLUS_IS_RUNNING="30548"
PERL5_CPAN_IS_RUNNING="30548"
PERL_CANARY_STABILITY_NOPROMPT="1"
PERL_MM_USE_DEFAULT="1"
@INC:
/home/sand/src/perl/repoperls/installed-perls/perl/perl-5.8.8/79cc/lib/5.8.8/x86_64-linux
/home/sand/src/perl/repoperls/installed-perls/perl/perl-5.8.8/79cc/lib/5.8.8
/home/sand/src/perl/repoperls/installed-perls/perl/perl-5.8.8/79cc/lib/site_perl/5.8.8/x86_64-linux
/home/sand/src/perl/repoperls/installed-perls/perl/perl-5.8.8/79cc/lib/site_perl/5.8.8
/home/sand/src/perl/repoperls/installed-perls/perl/perl-5.8.8/79cc/lib/site_perl
.