Back
From: metabase:user:320bfe00-2aae-11df-837a-5e0a49663a4f
Subject: PASS Acme-MathProfessor-RandomPrime-2009121001 v5.13.7 GNU/Linux
Date: 2010-12-08T21:26:57Z
This distribution has been tested as part of the CPAN Testers
project, supporting the Perl programming language. See
http://wiki.cpantesters.org/ for more information or email
questions to cpan-testers-discuss@perl.org
--
Dear Abigail,
This is a computer-generated report for Acme-MathProfessor-RandomPrime-2009121001
on perl 5.13.7, created by CPAN-Reporter-1.1803.
Thank you for uploading your work to CPAN. Congratulations!
All tests were successful.
Sections of this report:
* Tester comments
* Program output
* Prerequisites
* Environment and other context
------------------------------
TESTER COMMENTS
------------------------------
Additional comments from tester:
none provided
------------------------------
PROGRAM OUTPUT
------------------------------
Output from '/usr/bin/make test':
make[1]: Entering directory `/home/sand/.cpan/build/Acme-MathProfessor-RandomPrime-2009121001-EX5fH_'
PERL_DL_NONLAZY=1 /home/src/perl/repoperls/installed-perls/perl/v5.13.7-325-g55b0687/bin/perl "-MExtUtils::Command::MM" "-e" "test_harness(0, 'blib/lib', 'blib/arch')" t/*.t
t/000_basic.t ......... ok
t/950_pod.t ........... skipped: Test::Pod required for testing POD
t/960_pod_coverage.t .. skipped: Test::Pod::Coverage required for testing POD
All tests successful.
Files=3, Tests=1003, 0 wallclock secs ( 0.10 usr 0.01 sys + 0.15 cusr 0.03 csys = 0.29 CPU)
Result: PASS
make[1]: Leaving directory `/home/sand/.cpan/build/Acme-MathProfessor-RandomPrime-2009121001-EX5fH_'
------------------------------
PREREQUISITES
------------------------------
Prerequisite modules loaded:
requires:
Module Need Have
------------------- ----- --------
Exporter 0 5.64_03
perl 5.006 5.013007
strict 0 1.04
warnings 0 1.11
build_requires:
Module Need Have
------------------- ----- --------
ExtUtils::MakeMaker 0 6.57_05
strict 0 1.04
Test::More 0 0.97_01
Test::NoWarnings 0 1.02
warnings 0 1.11
configure_requires:
Module Need Have
------------------- ----- --------
ExtUtils::MakeMaker 0 6.57_05
strict 0 1.04
Test::More 0 0.97_01
Test::NoWarnings 0 1.02
warnings 0 1.11
------------------------------
ENVIRONMENT AND OTHER CONTEXT
------------------------------
Environment variables:
LANG = en_US.UTF-8
PATH = /home/sand/bin:/usr/local/bin:/usr/bin:/bin:/usr/bin/X11:/usr/games:/usr/local/perl/bin:/usr/X11/bin:/sbin:/usr/sbin
PERL5LIB =
PERL5OPT =
PERL5_CPANPLUS_IS_RUNNING = 7885
PERL5_CPAN_IS_RUNNING = 7885
SHELL = /usr/bin/zsh
TERM = screen
Perl special variables (and OS-specific diagnostics, for MSWin32):
$^X = /home/src/perl/repoperls/installed-perls/perl/v5.13.7-325-g55b0687/bin/perl
$UID/$EUID = 1001 / 1001
$GID = 1001 1001
$EGID = 1001 1001
Perl module toolchain versions installed:
Module Have
------------------- -------
CPAN 1.94_62
Cwd 3.34
ExtUtils::CBuilder 0.2800
ExtUtils::Command 1.16
ExtUtils::Install 1.55
ExtUtils::MakeMaker 6.57_05
ExtUtils::Manifest 1.58
ExtUtils::ParseXS 2.2207
File::Spec 3.33
Module::Build 0.3607
Module::Signature 0.66
Test::Harness 3.22
Test::More 0.97_01
YAML 0.72
YAML::Syck 1.17
version 0.86
--
Summary of my perl5 (revision 5 version 13 subversion 7) configuration:
Commit id: 55b0687d8bc1aa7e911b5fd2678ea7e8dbe6f059
Platform:
osname=linux, osvers=2.6.32-5-xen-amd64, archname=x86_64-linux-thread-multi
uname='linux k81 2.6.32-5-xen-amd64 #1 smp thu nov 25 20:08:32 utc 2010 x86_64 gnulinux '
config_args='-Dprefix=/home/src/perl/repoperls/installed-perls/perl/v5.13.7-325-g55b0687 -Dinstallusrbinperl=n -Uversiononly -Dusedevel -des -Ui_db -Duseithreads -Duse64bitint'
hint=recommended, useposix=true, d_sigaction=define
useithreads=define, usemultiplicity=define
useperlio=define, d_sfio=undef, uselargefiles=define, usesocks=undef
use64bitint=define, use64bitall=define, uselongdouble=undef
usemymalloc=n, bincompat5005=undef
Compiler:
cc='cc', ccflags ='-D_REENTRANT -D_GNU_SOURCE -fno-strict-aliasing -pipe -fstack-protector -I/usr/local/include -D_LARGEFILE_SOURCE -D_FILE_OFFSET_BITS=64',
optimize='-O2',
cppflags='-D_REENTRANT -D_GNU_SOURCE -fno-strict-aliasing -pipe -fstack-protector -I/usr/local/include'
ccversion='', gccversion='4.4.5', gccosandvers=''
intsize=4, longsize=8, ptrsize=8, doublesize=8, byteorder=12345678
d_longlong=define, longlongsize=8, d_longdbl=define, longdblsize=16
ivtype='long', ivsize=8, nvtype='double', nvsize=8, Off_t='off_t', lseeksize=8
alignbytes=8, prototype=define
Linker and Libraries:
ld='cc', ldflags =' -fstack-protector -L/usr/local/lib'
libpth=/usr/local/lib /lib /usr/lib /lib64 /usr/lib64
libs=-lnsl -lgdbm -ldb -ldl -lm -lcrypt -lutil -lpthread -lc -lgdbm_compat
perllibs=-lnsl -ldl -lm -lcrypt -lutil -lpthread -lc
libc=/lib/libc-2.11.2.so, so=so, useshrplib=false, libperl=libperl.a
gnulibc_version='2.11.2'
Dynamic Linking:
dlsrc=dl_dlopen.xs, dlext=so, d_dlsymun=undef, ccdlflags='-Wl,-E'
cccdlflags='-fPIC', lddlflags='-shared -O2 -L/usr/local/lib -fstack-protector'
Characteristics of this binary (from libperl):
Compile-time options: MULTIPLICITY PERL_DONT_CREATE_GVSV
PERL_IMPLICIT_CONTEXT PERL_MALLOC_WRAP PERL_USE_DEVEL
USE_64_BIT_ALL USE_64_BIT_INT USE_ITHREADS
USE_LARGE_FILES USE_PERLIO USE_PERL_ATOF
USE_REENTRANT_API
Built under linux
Compiled at Dec 8 2010 21:49:40
%ENV:
PERL5LIB=""
PERL5OPT=""
PERL5_CPANPLUS_IS_RUNNING="7885"
PERL5_CPAN_IS_RUNNING="7885"
@INC:
/home/src/perl/repoperls/installed-perls/perl/v5.13.7-325-g55b0687/lib/site_perl/5.13.7/x86_64-linux-thread-multi
/home/src/perl/repoperls/installed-perls/perl/v5.13.7-325-g55b0687/lib/site_perl/5.13.7
/home/src/perl/repoperls/installed-perls/perl/v5.13.7-325-g55b0687/lib/5.13.7/x86_64-linux-thread-multi
/home/src/perl/repoperls/installed-perls/perl/v5.13.7-325-g55b0687/lib/5.13.7
.