Software-License v0.104007 Perl 5 v5.24.4 darwin-2level
- Status
- Pass
- From
- Dist
-
Software-License v0.104007
- Platform
- Perl 5 v5.24.4 darwin-2level
- Date
- 2025-05-04 14:20:10
- ID
- e335438c-28f2-11f0-aadb-c014727fb76e
This distribution has been tested as part of the CPAN Testers
project, supporting the Perl programming language. See
http://wiki.cpantesters.org/ for more information or email
questions to cpan-testers-discuss@perl.org
--
Dear LEONT,
This is a computer-generated report for Software-License-0.104007
on perl 5.24.4, created by App::cpanminus::reporter 0.17 (1.7047).
Thank you for uploading your work to CPAN. Congratulations!
All tests were successful.
Sections of this report:
* Tester comments
* Program output
* Prerequisites
* Environment and other context
------------------------------
TESTER COMMENTS
------------------------------
Additional comments from tester:
none provided
------------------------------
PROGRAM OUTPUT
------------------------------
Output from '':
Building and testing Software-License-0.104007
PERL_DL_NONLAZY=1 "/Volumes/chambord/Users/ether/perl5/perlbrew/perls/24.4/bin/perl" "-MExtUtils::Command::MM" "-MTest::Harness" "-e" "undef *Test::Harness::Switches; test_harness(0, 'blib/lib', 'blib/arch')" t/*.t
t/bsd-url.t ................. ok
t/custom.t .................. ok
t/basic.t ................... ok
t/apache_2_0.t .............. ok
t/creative_commons.t ........ skipped: requires Software::License::CCpack to test this
t/program.t ................. ok
t/meta-names.t .............. ok
t/from-spdx-expression.t .... ok
#
# Versions for all modules listed in MYMETA.json (including optional ones):
#
# === Configure Requires ===
#
# Module Want Have
# ------------------- ---- ----
# ExtUtils::MakeMaker 6.78 7.70
#
# === Build Requires ===
#
# Module Want Have
# ------------------- ---- ----
# ExtUtils::MakeMaker any 7.70
#
# === Test Requires ===
#
# Module Want Have
# ------------------- ---- --------
# ExtUtils::MakeMaker any 7.70
# File::Spec any 3.75
# Test::More 0.96 1.302210
# Try::Tiny any 0.32
#
# === Test Recommends ===
#
# Module Want Have
# ---------- -------- --------
# CPAN::Meta 2.120900 2.150010
#
# === Runtime Requires ===
#
# Module Want Have
# -------------- ----- --------
# Carp any 1.40
# Data::Section any 0.200008
# File::Spec any 3.75
# IO::Dir any 1.51
# Module::Load any 0.32
# Text::Template any 1.61
# parent any 0.244
# perl 5.012 5.024004
# strict any 1.11
# utf8 any 1.19
# warnings any 1.36
#
t/00-report-prereqs.t ....... ok
t/guess_meta_license.t ...... ok
t/guess_license_from_pod.t .. ok
t/spdx-expression.t ......... ok
t/short_name.t .............. ok
t/utils.t ................... ok
t/round-trip.t .............. ok
t/two-dots.t ................ ok
All tests successful.
Files=16, Tests=232, 0 wallclock secs ( 0.04 usr 0.02 sys + 0.68 cusr 0.18 csys = 0.92 CPU)
Result: PASS
------------------------------
PREREQUISITES
------------------------------
Prerequisite modules loaded:
No requirements found
------------------------------
ENVIRONMENT AND OTHER CONTEXT
------------------------------
Environment variables:
HARNESS_OPTIONS = j6:c
LANG = en_CA.UTF-8
LC_ALL = en_CA.UTF-8
LC_CTYPE = en_CA.UTF-8
NO_NETWORK_TESTING = 1
PATH = /Volumes/chambord/Users/ether/.perlbrew/libs/24.4@std/bin:/Volumes/chambord/Users/ether/perl5/perlbrew/bin:/Volumes/chambord/Users/ether/perl5/perlbrew/perls/24.4/bin:/Volumes/chambord/Users/ether/bin:/Volumes/chambord/Users/ether/git/misc/install/advocaat/bin:/Volumes/chambord/Users/ether/git/misc/install/generic/bin:/opt/local/bin:/opt/local/sbin:/Volumes/chambord/Users/ether/git/git-hub/lib:/usr/local/bin:/System/Cryptexes/App/usr/bin:/usr/bin:/bin:/usr/sbin:/sbin:/var/run/com.apple.security.cryptexd/codex.system/bootstrap/usr/local/bin:/var/run/com.apple.security.cryptexd/codex.system/bootstrap/usr/bin:/var/run/com.apple.security.cryptexd/codex.system/bootstrap/usr/appleinternal/bin:/Library/Apple/usr/bin:/opt/local/share/git-core/contrib/workdir
PERL5LIB = /Volumes/chambord/Users/ether/.perlbrew/libs/24.4@std/lib/perl5
PERLBREW_HOME = /Volumes/chambord/Users/ether/.perlbrew
PERLBREW_LIB = std
PERLBREW_MANPATH = /Volumes/chambord/Users/ether/.perlbrew/libs/24.4@std/man:/Volumes/chambord/Users/ether/perl5/perlbrew/perls/24.4/man
PERLBREW_PATH = /Volumes/chambord/Users/ether/.perlbrew/libs/24.4@std/bin:/Volumes/chambord/Users/ether/perl5/perlbrew/bin:/Volumes/chambord/Users/ether/perl5/perlbrew/perls/24.4/bin
PERLBREW_PERL = 24.4
PERLBREW_ROOT = /Volumes/chambord/Users/ether/perl5/perlbrew
PERLBREW_SHELLRC_VERSION = 1.01
PERLBREW_VERSION = 1.01
PERLDOC = -oansi
PERLDOC_PAGER = less -sicMr
PERL_AUTOINSTALL_PREFER_CPAN = 1
PERL_INSTALL_QUIET = 1
PERL_LOCAL_LIB_ROOT = /Volumes/chambord/Users/ether/.perlbrew/libs/24.4@std
PERL_MB_OPT = --install_base /Volumes/chambord/Users/ether/.perlbrew/libs/24.4@std
PERL_MM_OPT = INSTALL_BASE=/Volumes/chambord/Users/ether/.perlbrew/libs/24.4@std
PERL_TEST_HARNESS_ASAP = 1
PERL_USE_UNSAFE_INC = 0
SHELL = /bin/bash
TERM = xterm-color
Perl special variables (and OS-specific diagnostics, for MSWin32):
EGID = 20 20 12 61 79 80 81 98 701 704 703 702 705 33 100 204 250
EUID = 502
EXECUTABLE_NAME = /Volumes/chambord/Users/ether/perl5/perlbrew/perls/24.4/bin/perl
GID = 20 20 12 61 79 80 81 98 701 704 703 702 705 33 100 204 250
UID = 502
Perl module toolchain versions installed:
Module Have
------------------- --------
CPAN 2.11_01
CPAN::Meta 2.150010
Cwd 3.75
ExtUtils::CBuilder 0.280225
ExtUtils::Command 7.70
ExtUtils::Install 2.06
ExtUtils::MakeMaker 7.70
ExtUtils::Manifest 1.75
ExtUtils::ParseXS 3.31
File::Spec 3.75
JSON n/a
JSON::PP 4.16
Module::Build 0.4232
Module::Signature n/a
Parse::CPAN::Meta 2.150010
Test::Harness 3.45_01
Test::More 1.302210
YAML n/a
YAML::Syck n/a
version 0.9916
--
Summary of my perl5 (revision 5 version 24 subversion 4) configuration:
Platform:
osname=darwin, osvers=22.2.0, archname=darwin-2level
uname='darwin advocaat.local 22.2.0 darwin kernel version 22.2.0: fri nov 11 02:06:26 pst 2022; root:xnu-8792.61.2~4release_arm64_t8112 arm64 '
config_args='-de -Dprefix=/Volumes/chambord/Users/ether/perl5/perlbrew/perls/24.4 -Dman1dir=none -Dman3dir=none -Aeval:scriptdir=/Volumes/chambord/Users/ether/perl5/perlbrew/perls/24.4/bin'
hint=recommended, useposix=true, d_sigaction=define
useithreads=undef, usemultiplicity=undef
use64bitint=define, use64bitall=define, uselongdouble=undef
usemymalloc=n, bincompat5005=undef
Compiler:
cc='cc', ccflags ='-fno-common -DPERL_DARWIN -mmacosx-version-min=13.1 -fno-strict-aliasing -pipe -fstack-protector-strong -I/opt/local/include -DPERL_USE_SAFE_PUTENV',
optimize='-O3',
cppflags='-fno-common -DPERL_DARWIN -mmacosx-version-min=13.1 -fno-strict-aliasing -pipe -fstack-protector-strong -I/opt/local/include'
ccversion='', gccversion='Apple LLVM 14.0.0 (clang-1400.0.29.202)', gccosandvers=''
intsize=4, longsize=8, ptrsize=8, doublesize=8, byteorder=12345678, doublekind=3
d_longlong=define, longlongsize=8, d_longdbl=define, longdblsize=8, longdblkind=0
ivtype='long', ivsize=8, nvtype='double', nvsize=8, Off_t='off_t', lseeksize=8
alignbytes=8, prototype=define
Linker and Libraries:
ld='cc', ldflags =' -mmacosx-version-min=13.1 -fstack-protector-strong -L/opt/local/lib'
libpth=/Applications/Xcode.app/Contents/Developer/Toolchains/XcodeDefault.xctoolchain/usr/lib/clang/14.0.0/lib /Applications/Xcode.app/Contents/Developer/Platforms/MacOSX.platform/Developer/SDKs/MacOSX.sdk/usr/lib /Applications/Xcode.app/Contents/Developer/Toolchains/XcodeDefault.xctoolchain/usr/lib /opt/local/lib /usr/lib
libs=-lgdbm
perllibs=
libc=, so=dylib, useshrplib=false, libperl=libperl.a
gnulibc_version=''
Dynamic Linking:
dlsrc=dl_dlopen.xs, dlext=bundle, d_dlsymun=undef, ccdlflags=' '
cccdlflags=' ', lddlflags=' -mmacosx-version-min=13.1 -bundle -undefined dynamic_lookup -L/opt/local/lib -fstack-protector-strong'
Characteristics of this binary (from libperl):
Compile-time options: HAS_TIMES PERLIO_LAYERS PERL_COPY_ON_WRITE
PERL_DONT_CREATE_GVSV
PERL_HASH_FUNC_ONE_AT_A_TIME_HARD PERL_MALLOC_WRAP
PERL_PRESERVE_IVUV PERL_USE_SAFE_PUTENV
USE_64_BIT_ALL USE_64_BIT_INT USE_LARGE_FILES
USE_LOCALE USE_LOCALE_COLLATE USE_LOCALE_CTYPE
USE_LOCALE_NUMERIC USE_LOCALE_TIME USE_PERLIO
USE_PERL_ATOF
Locally applied patches:
Devel::PatchPerl 2.08
Built under darwin
Compiled at Jan 21 2023 14:57:01
%ENV:
PERL5LIB="/Volumes/chambord/Users/ether/.perlbrew/libs/24.4@std/lib/perl5"
PERLBREW_HOME="/Volumes/chambord/Users/ether/.perlbrew"
PERLBREW_LIB="std"
PERLBREW_MANPATH="/Volumes/chambord/Users/ether/.perlbrew/libs/24.4@std/man:/Volumes/chambord/Users/ether/perl5/perlbrew/perls/24.4/man"
PERLBREW_PATH="/Volumes/chambord/Users/ether/.perlbrew/libs/24.4@std/bin:/Volumes/chambord/Users/ether/perl5/perlbrew/bin:/Volumes/chambord/Users/ether/perl5/perlbrew/perls/24.4/bin"
PERLBREW_PERL="24.4"
PERLBREW_ROOT="/Volumes/chambord/Users/ether/perl5/perlbrew"
PERLBREW_SHELLRC_VERSION="1.01"
PERLBREW_VERSION="1.01"
PERLDOC="-oansi"
PERLDOC_PAGER="less -sicMr"
PERL_AUTOINSTALL_PREFER_CPAN="1"
PERL_INSTALL_QUIET="1"
PERL_LOCAL_LIB_ROOT="/Volumes/chambord/Users/ether/.perlbrew/libs/24.4@std"
PERL_MB_OPT="--install_base /Volumes/chambord/Users/ether/.perlbrew/libs/24.4@std"
PERL_MM_OPT="INSTALL_BASE=/Volumes/chambord/Users/ether/.perlbrew/libs/24.4@std"
PERL_TEST_HARNESS_ASAP="1"
PERL_USE_UNSAFE_INC="0"
@INC:
/Volumes/chambord/Users/ether/.perlbrew/libs/24.4@std/lib/perl5/darwin-2level
/Volumes/chambord/Users/ether/.perlbrew/libs/24.4@std/lib/perl5
/Volumes/chambord/Users/ether/perl5/perlbrew/perls/24.4/lib/site_perl/5.24.4/darwin-2level
/Volumes/chambord/Users/ether/perl5/perlbrew/perls/24.4/lib/site_perl/5.24.4
/Volumes/chambord/Users/ether/perl5/perlbrew/perls/24.4/lib/5.24.4/darwin-2level
/Volumes/chambord/Users/ether/perl5/perlbrew/perls/24.4/lib/5.24.4
.