Report for Git-Wrapper-0.045

Back
From: metabase:user:5bbb2efa-715f-11e3-8cc1-b2993ff2e0c7
Subject: PASS Git-Wrapper-0.045 v5.20.0 Windows (Cygwin)
Date: 2015-07-22T12:57:00Z

This distribution has been tested as part of the CPAN Testers
project, supporting the Perl programming language.  See
http://wiki.cpantesters.org/ for more information or email
questions to cpan-testers-discuss@perl.org


--
Dear GENEHACK,

This is a computer-generated report for Git-Wrapper-0.045
on perl 5.20.0, created by App::cpanminus::reporter 0.13 (1.7039).

Thank you for uploading your work to CPAN.  Congratulations!
All tests were successful.

Sections of this report:

    * Tester comments
    * Program output
    * Prerequisites
    * Environment and other context

------------------------------
TESTER COMMENTS
------------------------------

Additional comments from tester:

none provided

------------------------------
PROGRAM OUTPUT
------------------------------

Output from '':

Building and testing Git-Wrapper-0.045
cp lib/Git/Wrapper/Exception.pm blib/lib/Git/Wrapper/Exception.pm
cp lib/Git/Wrapper/File/RawModification.pm blib/lib/Git/Wrapper/File/RawModification.pm
cp lib/Git/Wrapper.pm blib/lib/Git/Wrapper.pm
cp lib/Git/Wrapper/Statuses.pm blib/lib/Git/Wrapper/Statuses.pm
cp lib/Git/Wrapper/Status.pm blib/lib/Git/Wrapper/Status.pm
cp lib/Git/Wrapper/Log.pm blib/lib/Git/Wrapper/Log.pm
Manifying 6 pod documents
PERL_DL_NONLAZY=1 "/home/ollisg/opt/perl/5.20.0/bin/perl.exe" "-MExtUtils::Command::MM" "-MTest::Harness" "-e" "undef *Test::Harness::Switches; test_harness(0, 'blib/lib', 'blib/arch')" t/*.t
# Testing Git::Wrapper 0.045
t/00-load.t ............... ok
t/author-err.t ............ skipped: these tests are for testing by the author
# Testing git version: 2.1.4
t/basic.t ................. ok
t/git_binary.t ............ ok
t/parse_args.t ............ ok
# Testing git version: 2.1.4
t/path_class.t ............ ok
t/release-pod-coverage.t .. skipped: these tests are for release candidate testing
t/release-pod-syntax.t .... skipped: these tests are for release candidate testing
All tests successful.
Files=8, Tests=67,  2 wallclock secs ( 0.00 usr  0.03 sys +  0.47 cusr  0.79 csys =  1.29 CPU)
Result: PASS

------------------------------
PREREQUISITES
------------------------------

Prerequisite modules loaded:

    No requirements found

------------------------------
ENVIRONMENT AND OTHER CONTEXT
------------------------------

Environment variables:

    COMSPEC = C:\Windows\system32\cmd.exe
    LANG = en_US.UTF-8
    LC_COLLATE = C
    PATH = /home/ollisg/opt/perl/5.20.0/my/bin:/home/ollisg/opt/perl/5.20.0/bin:/home/ollisg/bin:/usr/local/bin:/usr/bin:/bin
    PERL5LIB = /home/ollisg/opt/perl/5.20.0/my/lib/perl5
    PERL_CPANM_OPT = --mirror http://mirror.sydney.wdlabs.com/cpan/ --mirror-only
    PERL_LOCAL_LIB_ROOT = /home/ollisg/opt/perl/5.20.0/my
    PERL_MB_OPT = --install_base "/home/ollisg/opt/perl/5.20.0/my"
    PERL_MM_OPT = INSTALL_BASE=/home/ollisg/opt/perl/5.20.0/my
    SHELL = /bin/tcsh
    TERM = screen

Perl special variables (and OS-specific diagnostics, for MSWin32):

    EGID = 513 513 559 545 4 66049 11 15 113 4095 66048 262154 401408
    EUID = 1001
    EXECUTABLE_NAME = /home/ollisg/opt/perl/5.20.0/bin/perl
    GID = 513 513 559 545 4 66049 11 15 113 4095 66048 262154 401408
    UID = 1001

Perl module toolchain versions installed:

    Module              Have    
    ------------------- --------
    CPAN                2.10    
    CPAN::Meta          2.150005
    Cwd                 3.47    
    ExtUtils::CBuilder  0.280223
    ExtUtils::Command   1.20    
    ExtUtils::Install   2.04    
    ExtUtils::MakeMaker 7.04    
    ExtUtils::Manifest  1.70    
    ExtUtils::ParseXS   3.24    
    File::Spec          3.47    
    JSON                2.90    
    JSON::PP            2.27300 
    Module::Build       0.4214  
    Module::Signature   n/a     
    Parse::CPAN::Meta   1.4417  
    Test::Harness       3.35    
    Test::More          1.001014
    YAML                1.15    
    YAML::Syck          n/a     
    version             0.9912  


--

Summary of my perl5 (revision 5 version 20 subversion 0) configuration:
   
  Platform:
    osname=cygwin, osvers=2.0.2(0.28753), archname=cygwin-thread-multi
    uname='cygwin_nt-6.1 xian 2.0.2(0.28753) 2015-05-08 17:00 x86_64 cygwin '
    config_args='-de -Dprefix=/home/ollisg/opt/perl/5.20.0/ -Aeval:scriptdir=/home/ollisg/opt/perl/5.20.0/bin'
    hint=recommended, useposix=true, d_sigaction=define
    useithreads=define, usemultiplicity=define
    use64bitint=define, use64bitall=define, uselongdouble=undef
    usemymalloc=n, bincompat5005=undef
  Compiler:
    cc='gcc', ccflags ='-DPERL_USE_SAFE_PUTENV -U__STRICT_ANSI__ -fwrapv -fno-strict-aliasing -pipe -fstack-protector',
    optimize='-O3',
    cppflags='-DPERL_USE_SAFE_PUTENV -U__STRICT_ANSI__ -fwrapv -fno-strict-aliasing -pipe -fstack-protector'
    ccversion='', gccversion='4.9.2', gccosandvers=''
    intsize=4, longsize=8, ptrsize=8, doublesize=8, byteorder=12345678
    d_longlong=define, longlongsize=8, d_longdbl=define, longdblsize=16
    ivtype='long', ivsize=8, nvtype='double', nvsize=8, Off_t='off_t', lseeksize=8
    alignbytes=8, prototype=define
  Linker and Libraries:
    ld='g++', ldflags =' -Wl,--enable-auto-import -Wl,--export-all-symbols -Wl,--enable-auto-image-base -fstack-protector -L/usr/local/lib'
    libpth=/usr/lib/gcc/x86_64-pc-cygwin/4.9.2/include-fixed /usr/lib /usr/lib/gcc/x86_64-pc-cygwin/4.9.2/../../../../lib/../include/w32api /usr/local/lib /lib
    libs=-ldb -ldl -lcrypt
    perllibs=-ldl -lcrypt
    libc=/usr/lib/libc.a, so=dll, useshrplib=true, libperl=cygperl5_20_0.dll
    gnulibc_version=''
  Dynamic Linking:
    dlsrc=dl_dlopen.xs, dlext=dll, d_dlsymun=undef, ccdlflags=' '
    cccdlflags=' ', lddlflags=' --shared  -Wl,--enable-auto-import -Wl,--export-all-symbols -Wl,--enable-auto-image-base -L/usr/local/lib -fstack-protector'


Characteristics of this binary (from libperl): 
  Compile-time options: HAS_TIMES MULTIPLICITY PERLIO_LAYERS
                        PERL_DONT_CREATE_GVSV
                        PERL_HASH_FUNC_ONE_AT_A_TIME_HARD
                        PERL_IMPLICIT_CONTEXT PERL_NEW_COPY_ON_WRITE
                        PERL_PRESERVE_IVUV PERL_USE_SAFE_PUTENV
                        USE_64_BIT_ALL USE_64_BIT_INT USE_ITHREADS
                        USE_LARGE_FILES USE_LOCALE USE_LOCALE_COLLATE
                        USE_LOCALE_CTYPE USE_LOCALE_NUMERIC USE_PERLIO
                        USE_PERL_ATOF USE_REENTRANT_API
  Built under cygwin
  Compiled at May 18 2015 14:43:50
  %ENV:
    PERL5LIB="/home/ollisg/opt/perl/5.20.0/my/lib/perl5"
    PERL_CPANM_OPT="--mirror http://mirror.sydney.wdlabs.com/cpan/ --mirror-only"
    PERL_LOCAL_LIB_ROOT="/home/ollisg/opt/perl/5.20.0/my"
    PERL_MB_OPT="--install_base "/home/ollisg/opt/perl/5.20.0/my""
    PERL_MM_OPT="INSTALL_BASE=/home/ollisg/opt/perl/5.20.0/my"
  @INC:
    /home/ollisg/opt/perl/5.20.0/my/lib/perl5/cygwin-thread-multi
    /home/ollisg/opt/perl/5.20.0/my/lib/perl5
    /home/ollisg/opt/perl/5.20.0/lib/site_perl/5.20.0/cygwin-thread-multi
    /home/ollisg/opt/perl/5.20.0/lib/site_perl/5.20.0
    /home/ollisg/opt/perl/5.20.0/lib/5.20.0/cygwin-thread-multi
    /home/ollisg/opt/perl/5.20.0/lib/5.20.0
    .