Catalyst-Authentication-Credential-HTTP v1.018 Perl 5 v5.41.9 x86_64-linux

Status
Pass
From
John SJ Anderson
Dist
Catalyst-Authentication-Credential-HTTP v1.018
Platform
Perl 5 v5.41.9 x86_64-linux
Date
2025-02-24 19:59:42
ID
e3509dba-f2e9-11ef-a69b-d8db397336e8
This distribution has been tested as part of the CPAN Testers
project, supporting the Perl programming language.  See
http://wiki.cpantesters.org/ for more information or email
questions to cpan-testers-discuss@perl.org


--
Dear ETHER,

This is a computer-generated report for Catalyst-Authentication-Credential-HTTP-1.018
on perl 5.41.9, created by App::cpanminus::reporter 0.22 (1.7048).

Thank you for uploading your work to CPAN.  Congratulations!
All tests were successful.

Sections of this report:

    * Tester comments
    * Program output
    * Prerequisites
    * Environment and other context

------------------------------
TESTER COMMENTS
------------------------------

Additional comments from tester:

none provided

------------------------------
PROGRAM OUTPUT
------------------------------

Output from '':

Building and testing Catalyst-Authentication-Credential-HTTP-1.018
cp lib/Catalyst/Authentication/Credential/HTTP.pm blib/lib/Catalyst/Authentication/Credential/HTTP.pm
# 
# Versions for all modules listed in MYMETA.json (including optional ones):
# 
# === Configure Requires ===
# 
#     Module               Want  Have
#     ------------------- ----- -----
#     Module::Build::Tiny 0.034 0.051
# 
# === Test Requires ===
# 
#     Module                    Want       Have
#     ------------------------- ---- ----------
#     Catalyst::Controller       any      undef
#     File::Spec                 any       3.93
#     FindBin                    any       1.54
#     HTTP::Headers              any       7.00
#     HTTP::Request              any       7.00
#     Module::Metadata           any   1.000038
#     Test::Exception            any       0.43
#     Test::MockObject           any 1.20200122
#     Test::MockObject::Extends  any 1.20200122
#     Test::More                 any   1.302209
#     Test::Needs                any   0.002010
#     lib                        any       0.65
# 
# === Test Recommends ===
# 
#     Module         Want     Have
#     ---------- -------- --------
#     CPAN::Meta 2.120900 2.150010
# 
# === Runtime Requires ===
# 
#     Module                                            Want     Have
#     ---------------------------------------------- ------- --------
#     Catalyst                                           any  5.90132
#     Catalyst::Authentication::Credential::Password     any    undef
#     Catalyst::Plugin::Authentication               0.10005  0.10024
#     Class::Accessor::Fast                              any     0.51
#     Data::UUID                                        0.11    1.227
#     Digest::MD5                                        any     2.59
#     String::Escape                                     any 2010.002
#     URI::Escape                                        any     5.31
#     base                                               any     2.27
#     strict                                             any     1.13
#     warnings                                           any     1.73
# 
# === Other Modules ===
# 
#     Module        Have
#     ------------- ----
#     JSON::PP      4.16
#     Pod::Coverage 0.23
#     Sub::Name     0.28
#     YAML          1.31
#     autodie       2.37
# 
t/00-report-prereqs.t ....... ok
# Catalyst 5.90132
# Catalyst::Plugin::Authentication 0.10024
# Catalyst::Authentication::Credential::HTTP 1.018
t/00use.t ................... ok
t/basic.t ................... ok
t/live_app.t ................ ok
t/live_app_digest.t ......... skipped: Need Catalyst::Plugin::Cache
t/live_app_digest_dotnet.t .. skipped: Need Catalyst::Plugin::Cache
All tests successful.
Files=6, Tests=45,  1 wallclock secs ( 0.02 usr  0.01 sys +  1.64 cusr  0.21 csys =  1.88 CPU)
Result: PASS

------------------------------
PREREQUISITES
------------------------------

Prerequisite modules loaded:

runtime:

    Module                                         Need    Have    
    ---------------------------------------------- ------- --------
    base                                           0       2.27    
    Catalyst                                       0       5.90132 
    Catalyst::Authentication::Credential::Password 0       0       
    Catalyst::Plugin::Authentication               0.10005 0.10024 
    Class::Accessor::Fast                          0       0.51    
    Data::UUID                                     0.11    1.227   
    Digest::MD5                                    0       2.59    
    perl                                           5.006   5.041009
    strict                                         0       1.13    
    String::Escape                                 0       2010.002
    URI::Escape                                    0       5.31    
    warnings                                       0       1.73    

configure:

    Module                                         Need    Have    
    ---------------------------------------------- ------- --------
    Module::Build::Tiny                            0.034   0.051   
    perl                                           5.006   5.041009


------------------------------
ENVIRONMENT AND OTHER CONTEXT
------------------------------

Environment variables:

    LANG = en_US.UTF-8
    LC_ALL = en_US.UTF-8
    LC_TERMINAL = iTerm2
    LC_TERMINAL_VERSION = 3.5.10
    PATH = /opt/plenv/versions/5.41.9/bin:/opt/plenv/libexec:/opt/plenv/plugins/perl-build/bin:/home/genehack/bin:/opt/miniconda3/condabin:/opt/plenv/shims:/opt/plenv/bin:/opt/go/bin:/opt/git/bin:/opt/emacs/bin:/opt/local/bin:/usr/local/bin:/usr/bin:/bin:/usr/games:/opt/rust/cargo/bin
    PERL_CPANM_OPT = --skip-installed --prompt
    SHELL = /bin/zsh
    TERM = screen-256color

Perl special variables (and OS-specific diagnostics, for MSWin32):

    EGID = 1001 113 122 1001
    EUID = 1001
    EXECUTABLE_NAME = /opt/plenv/versions/5.41.9/bin/perl5.41.9
    GID = 1001 113 122 1001
    UID = 1001

Perl module toolchain versions installed:

    Module              Have    
    ------------------- --------
    CPAN                2.38    
    CPAN::Meta          2.150010
    Cwd                 3.92    
    ExtUtils::CBuilder  0.280240
    ExtUtils::Command   7.70    
    ExtUtils::Install   2.22    
    ExtUtils::MakeMaker 7.70    
    ExtUtils::Manifest  1.75    
    ExtUtils::ParseXS   3.57    
    File::Spec          3.93    
    JSON                4.10    
    JSON::PP            4.16    
    Module::Build       0.4234  
    Module::Signature   n/a     
    Parse::CPAN::Meta   2.150010
    Test::Harness       3.50    
    Test::More          1.302209
    YAML                1.31    
    YAML::Syck          n/a     
    version             0.9933  


--

Summary of my perl5 (revision 5 version 41 subversion 9) configuration:
   
  Platform:
    osname=linux
    osvers=5.10.0-20-amd64
    archname=x86_64-linux
    uname='linux doof 5.10.0-20-amd64 #1 smp debian 5.10.158-2 (2022-12-13) x86_64 gnulinux '
    config_args='-Dprefix=/opt/plenv/versions/5.41.9 -de -Dversiononly -Dusedevel -A'eval:scriptdir=/opt/plenv/versions/5.41.9/bin''
    hint=recommended
    useposix=true
    d_sigaction=define
    useithreads=undef
    usemultiplicity=undef
    use64bitint=define
    use64bitall=define
    uselongdouble=undef
    usemymalloc=n
    default_inc_excludes_dot=define
  Compiler:
    cc='cc'
    ccflags ='-fwrapv -fno-strict-aliasing -pipe -fstack-protector-strong -I/usr/local/include -D_LARGEFILE_SOURCE -D_FILE_OFFSET_BITS=64 -D_FORTIFY_SOURCE=2'
    optimize='-O2'
    cppflags='-fwrapv -fno-strict-aliasing -pipe -fstack-protector-strong -I/usr/local/include'
    ccversion=''
    gccversion='12.2.0'
    gccosandvers=''
    intsize=4
    longsize=8
    ptrsize=8
    doublesize=8
    byteorder=12345678
    doublekind=3
    d_longlong=define
    longlongsize=8
    d_longdbl=define
    longdblsize=16
    longdblkind=3
    ivtype='long'
    ivsize=8
    nvtype='double'
    nvsize=8
    Off_t='off_t'
    lseeksize=8
    alignbytes=8
    prototype=define
  Linker and Libraries:
    ld='cc'
    ldflags =' -fstack-protector-strong -L/usr/local/lib'
    libpth=/usr/local/lib /usr/lib/x86_64-linux-gnu /usr/lib /usr/lib64
    libs=-lpthread -lgdbm -ldl -lm -lcrypt -lutil -lc
    perllibs=-lpthread -ldl -lm -lcrypt -lutil -lc
    libc=/lib/x86_64-linux-gnu/libc.so.6
    so=so
    useshrplib=false
    libperl=libperl.a
    gnulibc_version='2.36'
  Dynamic Linking:
    dlsrc=dl_dlopen.xs
    dlext=so
    d_dlsymun=undef
    ccdlflags='-Wl,-E'
    cccdlflags='-fPIC'
    lddlflags='-shared -O2 -L/usr/local/lib -fstack-protector-strong'


Characteristics of this binary (from libperl): 
  Compile-time options:
    HAS_LONG_DOUBLE
    HAS_STRTOLD
    HAS_TIMES
    PERLIO_LAYERS
    PERL_COPY_ON_WRITE
    PERL_DONT_CREATE_GVSV
    PERL_HASH_FUNC_SIPHASH13
    PERL_HASH_USE_SBOX32
    PERL_MALLOC_WRAP
    PERL_OP_PARENT
    PERL_PRESERVE_IVUV
    PERL_USE_DEVEL
    PERL_USE_SAFE_PUTENV
    USE_64_BIT_ALL
    USE_64_BIT_INT
    USE_LARGE_FILES
    USE_LOCALE
    USE_LOCALE_COLLATE
    USE_LOCALE_CTYPE
    USE_LOCALE_NUMERIC
    USE_LOCALE_TIME
    USE_PERLIO
    USE_PERL_ATOF
  Built under linux
  Compiled at Feb 24 2025 10:41:35
  %ENV:
    PERL_CPANM_OPT="--skip-installed --prompt"
  @INC:
    /opt/plenv/versions/5.41.9/lib/perl5/site_perl/5.41.9/x86_64-linux
    /opt/plenv/versions/5.41.9/lib/perl5/site_perl/5.41.9
    /opt/plenv/versions/5.41.9/lib/perl5/5.41.9/x86_64-linux
    /opt/plenv/versions/5.41.9/lib/perl5/5.41.9