Report for WebService-Simple-0.18

Back
From: metabase:user:30f4dfbe-2aae-11df-837a-5e0a49663a4f
Subject: PASS WebService-Simple-0.18 v5.6.2 GNU/Linux
Date: 2012-06-12T07:26:12Z

This distribution has been tested as part of the CPAN Testers
project, supporting the Perl programming language.  See
http://wiki.cpantesters.org/ for more information or email
questions to cpan-testers-discuss@perl.org


--
Dear Yusuke Wada,

This is a computer-generated report for WebService-Simple-0.18
on perl 5.6.2, created by CPAN-Reporter-1.2003.

Thank you for uploading your work to CPAN.  Congratulations!
All tests were successful.

Sections of this report:

    * Tester comments
    * Program output
    * Prerequisites
    * Environment and other context

------------------------------
TESTER COMMENTS
------------------------------

Additional comments from tester:

this report is from an automated smoke testing program
and was not reviewed by a human for accuracy

------------------------------
PROGRAM OUTPUT
------------------------------

Output from '/usr/bin/make test':

PERL_DL_NONLAZY=1 /usr/local/bin/perl5.6.2 "-MExtUtils::Command::MM" "-e" "test_harness(0, 'inc', 'blib/lib', 'blib/arch')" t/*.t
# Testing WebService::Simple 0.18
t/00_load.t ............... ok
t/01_api.t ................ ok
t/01_basic.t .............. skipped: Please set FLICKR_API_KEY to enable this test
t/01_escape.t ............. ok
t/02_parser.t ............. ok
t/02_parser_json.t ........ ok
t/02_parser_libxml.t ...... skipped: XML::LibXML not installed
t/02_parser_lite.t ........ skipped: XML::Parser::Lite::Tree not installed
t/02_parser_xml_feed.t .... skipped: XML::Feed not installed
t/02_parser_xml_simple.t .. ok
t/pod-coverage.t .......... ok
t/pod.t ................... skipped: Test::Pod 1.14 required for testing POD
All tests successful.
Files=12, Tests=26,  1 wallclock secs ( 0.03 usr  0.01 sys +  0.35 cusr  0.04 csys =  0.43 CPU)
Result: PASS

------------------------------
PREREQUISITES
------------------------------

Prerequisite modules loaded:

requires:

    Module                  Need Have   
    ----------------------- ---- -------
    Class::Accessor::Fast   0    0.34   
    Class::Data::ConfigHash 0    0.00002
    Class::Inspector        0    1.27   
    Data::Dumper            0    2.121  
    Digest::MD5             0    2.40   
    JSON                    2.0  2.53   
    LWP::UserAgent          0    5.835  
    UNIVERSAL::require      0    0.13   
    URI                     1.36 1.40   
    XML::Simple             0    2.18   

build_requires:

    Module                  Need Have   
    ----------------------- ---- -------
    ExtUtils::MakeMaker     6.42 6.62   
    Test::More              0.94 0.98   

configure_requires:

    Module                  Need Have   
    ----------------------- ---- -------
    ExtUtils::MakeMaker     6.42 6.62   


------------------------------
ENVIRONMENT AND OTHER CONTEXT
------------------------------

Environment variables:

    AUTOMATED_TESTING = 1
    LANG = en_GB.UTF-8
    LANGUAGE = en_GB:en
    PATH = /usr/bin:/bin
    PERL5LIB = /home/njh/.cpan/build/XML-Simple-2.18-t0DnmI/blib/arch:/home/njh/.cpan/build/XML-Simple-2.18-t0DnmI/blib/lib:/home/njh/.cpan/build/Class-Data-ConfigHash-0.00002-sJwia7/blib/arch:/home/njh/.cpan/build/Class-Data-ConfigHash-0.00002-sJwia7/blib/lib
    PERL5OPT = 
    PERL5_CPANPLUS_IS_RUNNING = 32463
    PERL5_CPAN_IS_RUNNING = 32463
    PERL5_MINISMOKEBOX = 0.54
    PERL_EXTUTILS_AUTOINSTALL = --defaultdeps
    PERL_MM_USE_DEFAULT = 1
    SHELL = /bin/sh

Perl special variables (and OS-specific diagnostics, for MSWin32):

    $^X = /usr/local/bin/perl5.6.2
    $UID/$EUID = 1000 / 1000
    $GID = 1000 1000 112 108 46 44 30 29 25 24
    $EGID = 1000 1000 112 108 46 44 30 29 25 24

Perl module toolchain versions installed:

    Module              Have    
    ------------------- --------
    CPAN                1.9800  
    CPAN::Meta          2.112150
    Cwd                 3.33    
    ExtUtils::CBuilder  0.280202
    ExtUtils::Command   1.16    
    ExtUtils::Install   1.52    
    ExtUtils::MakeMaker 6.62    
    ExtUtils::Manifest  1.58    
    ExtUtils::ParseXS   n/a     
    File::Spec          3.33    
    JSON                2.53    
    JSON::PP            2.27200 
    Module::Build       0.40    
    Module::Signature   n/a     
    Parse::CPAN::Meta   1.4404  
    Test::Harness       3.23    
    Test::More          0.98    
    YAML                n/a     
    YAML::Syck          1.20    
    version             0.99    


--

Summary of my perl5 (revision 5.0 version 6 subversion 2) configuration:
  Platform:
    osname=linux, osvers=3.1.0-1-amd64, archname=x86_64-linux
    uname='linux gateway 3.1.0-1-amd64 #1 smp tue jan 10 05:01:58 utc 2012 x86_64 gnulinux '
    config_args=''
    hint=recommended, useposix=true, d_sigaction=define
    usethreads=undef use5005threads=undef useithreads=undef usemultiplicity=undef
    useperlio=undef d_sfio=undef uselargefiles=define usesocks=undef
    use64bitint=define use64bitall=define uselongdouble=undef
  Compiler:
    cc='cc', ccflags ='-fno-strict-aliasing -I/usr/local/include -D_LARGEFILE_SOURCE -D_FILE_OFFSET_BITS=64',
    optimize='-O2 -mtune=native -march=native',
    cppflags='-fno-strict-aliasing -I/usr/local/include'
    ccversion='', gccversion='4.6.2', gccosandvers=''
    intsize=4, longsize=8, ptrsize=8, doublesize=8, byteorder=12345678
    d_longlong=define, longlongsize=8, d_longdbl=define, longdblsize=16
    ivtype='long', ivsize=8, nvtype='double', nvsize=8, Off_t='off_t', lseeksize=8
    alignbytes=8, usemymalloc=n, prototype=define
  Linker and Libraries:
    ld='cc', ldflags =' -L/usr/local/lib'
    libpth=/usr/local/lib /lib /usr/lib /usr/lib/x86_64-linux-gnu
    libs=-lnsl -lgdbm -ldb -ldl -lm -lc -lcrypt -lutil
    perllibs=-lnsl -ldl -lm -lc -lcrypt -lutil
    libc=, so=so, useshrplib=false, libperl=libperl.a
  Dynamic Linking:
    dlsrc=dl_dlopen.xs, dlext=so, d_dlsymun=undef, ccdlflags='-rdynamic'
    cccdlflags='-fpic', lddlflags='-shared -L/usr/local/lib'


Characteristics of this binary (from libperl): 
  Compile-time options: USE_64_BIT_INT USE_64_BIT_ALL USE_LARGE_FILES
  Built under linux
  Compiled at Jan 20 2012 11:49:39
  %ENV:
    PERL5LIB="/home/njh/.cpan/build/XML-Simple-2.18-t0DnmI/blib/arch:/home/njh/.cpan/build/XML-Simple-2.18-t0DnmI/blib/lib:/home/njh/.cpan/build/Class-Data-ConfigHash-0.00002-sJwia7/blib/arch:/home/njh/.cpan/build/Class-Data-ConfigHash-0.00002-sJwia7/blib/lib"
    PERL5OPT=""
    PERL5_CPANPLUS_IS_RUNNING="32463"
    PERL5_CPAN_IS_RUNNING="32463"
    PERL5_MINISMOKEBOX="0.54"
    PERL_EXTUTILS_AUTOINSTALL="--defaultdeps"
    PERL_MM_USE_DEFAULT="1"
  @INC:
    /home/njh/.cpan/build/XML-Simple-2.18-t0DnmI/blib/arch
    /home/njh/.cpan/build/XML-Simple-2.18-t0DnmI/blib/lib
    /home/njh/.cpan/build/Class-Data-ConfigHash-0.00002-sJwia7/blib/arch
    /home/njh/.cpan/build/Class-Data-ConfigHash-0.00002-sJwia7/blib/lib
    /usr/local/lib/perl5/5.6.2/x86_64-linux
    /usr/local/lib/perl5/5.6.2
    /usr/local/lib/perl5/site_perl/5.6.2/x86_64-linux
    /usr/local/lib/perl5/site_perl/5.6.2
    /usr/local/lib/perl5/site_perl
    .