Web-Scraper v0.38 Perl 5 v5.22.3 x86_64-linux-ld
- Status
- Pass
- From
- Slaven Rezić (SREZIC)
- Dist
-
Web-Scraper v0.38
- Platform
- Perl 5 v5.22.3 x86_64-linux-ld
- Date
- 2017-08-26 10:18:22
- ID
- e37cf38c-8a47-11e7-9a12-8840b3c4b762
This distribution has been tested as part of the CPAN Testers
project, supporting the Perl programming language. See
http://wiki.cpantesters.org/ for more information or email
questions to cpan-testers-discuss@perl.org
--
Dear Tatsuhiko Miyagawa,
This is a computer-generated report for Web-Scraper-0.38
on perl 5.22.3, created by CPAN-Reporter-1.2018.
Thank you for uploading your work to CPAN. Congratulations!
All tests were successful.
Sections of this report:
* Tester comments
* Program output
* Prerequisites
* Environment and other context
------------------------------
TESTER COMMENTS
------------------------------
Additional comments from tester:
none provided
------------------------------
PROGRAM OUTPUT
------------------------------
Output from './Build test':
t/00_compile.t .......... ok
t/01_process.t .......... ok
t/02_process_multi.t .... ok
t/03_scraper_nest.t ..... ok
t/04_callback.t ......... ok
t/05_process_first.t .... ok
t/06_define.t ........... ok
t/07-live.t ............. skipped: LIVE_TEST not enabled
t/08-leak.t ............. skipped: LEAK_TEST is not defined
t/09-process_hash.t ..... ok
t/11_absolute.t ......... ok
t/12_html.t ............. ok
t/13_textnode.t ......... ok
t/14_absolute_nested.t .. ok
t/15_absolute_hash.t .... ok
t/16_filter.t ........... ok
t/17_filter_loop.t ...... ok
t/18_http_response.t .... skipped: LIVE_TEST not enabled
t/19_decode_content.t ... skipped: LIVE_TEST not enabled
t/20_comment_nodes.t .... skipped: Please upgrade HTML::TreeBuilder::XPath and HTML::TreeBuilder::LibXML modules for comment nodes supporting
t/21_html5.t ............ ok
t/22_filter_regex.t ..... ok
t/redefine.t ............ ok
t/release-pod-syntax.t .. skipped: these tests are for release candidate testing
t/xml-simple.t .......... skipped: Test requires module 'HTML::TreeBuilder::LibXML' but it's not found
All tests successful.
Files=25, Tests=42, 2 wallclock secs ( 0.03 usr 0.13 sys + 1.50 cusr 0.29 csys = 1.95 CPU)
Result: PASS
------------------------------
PREREQUISITES
------------------------------
Prerequisite modules loaded:
requires:
Module Need Have
------------------------ -------- --------
HTML::Entities 0 3.69
HTML::Selector::XPath 0.03 0.23
HTML::Tagset 0 3.20
HTML::TreeBuilder 3.23 5.06
HTML::TreeBuilder::XPath 0.08 0.14
LWP 5.827 6.26
perl 5.008001 5.022003
Scalar::Util 0 1.48
UNIVERSAL::require 0 0.18
URI 0 1.71
XML::XPathEngine 0.08 0.14
YAML 0 1.23
build_requires:
Module Need Have
------------------------ -------- --------
ExtUtils::MakeMaker 6.59 7.04_02
Test::Base 0 0.88
Test::More 0 1.302086
Test::Requires 0 0.10
configure_requires:
Module Need Have
------------------------ -------- --------
Module::Build::Tiny 0.039 0.039
------------------------------
ENVIRONMENT AND OTHER CONTEXT
------------------------------
Environment variables:
LANG = C
PATH = /usr/local/bin:/usr/bin:/bin:/usr/local/sbin:/usr/sbin:/sbin:/home/cpansand/bin/linux-gnu:/home/cpansand/bin/sh:/home/cpansand/bin:/usr/games:/home/cpansand/devel:/home/eserte/src/srezic-misc/scripts
PERL5LIB = /home/cpansand/.cpan/build/2017082606/HTML-Selector-XPath-0.23-0KX5_x/blib/arch:/home/cpansand/.cpan/build/2017082606/HTML-Selector-XPath-0.23-0KX5_x/blib/lib:/home/cpansand/.cpan/build/2017082606/App-CLI-0.45-xY0VZO/blib/arch:/home/cpansand/.cpan/build/2017082606/App-CLI-0.45-xY0VZO/blib/lib:/home/cpansand/.cpan/build/2017082606/Test-Regexp-2017040101-eyV6IA/blib/arch:/home/cpansand/.cpan/build/2017082606/Test-Regexp-2017040101-eyV6IA/blib/lib:/home/cpansand/.cpan/build/2017082606/Regexp-Common-2017060201-Wnzl7X/blib/arch:/home/cpansand/.cpan/build/2017082606/Regexp-Common-2017060201-Wnzl7X/blib/lib:/home/cpansand/.cpan/build/2017082606/File-Type-0.22-NKt2aV/blib/arch:/home/cpansand/.cpan/build/2017082606/File-Type-0.22-NKt2aV/blib/lib:/home/cpansand/.cpan/build/2017082606/HTTP-Lite-2.44-DlGvlZ/blib/arch:/home/cpansand/.cpan/build/2017082606/HTTP-Lite-2.44-DlGvlZ/blib/lib
PERL5OPT =
PERL5_CPANPLUS_IS_RUNNING = 25142
PERL5_CPAN_IS_RUNNING = 25142
PERL5_CPAN_IS_RUNNING_IN_RECURSION = 24853,25142
PERLDOC = -MPod::Perldoc::ToTextOverstrike
PERL_BATCH = yes
PERL_CANARY_STABILITY_NOPROMPT = 1
PERL_CPAN_REPORTER_CONFIG = /var/tmp/cpansmoker-1023/2017082606/cpanreporter_000_config.ini
PERL_EXTUTILS_AUTOINSTALL = --defaultdeps
SHELL = /usr/bin/zsh
TERM = screen
TMPDIR = /var/tmp/cpansmoker-1023/2017082606
Perl special variables (and OS-specific diagnostics, for MSWin32):
$^X = /opt/perl-5.22.3D/bin/perl
$UID/$EUID = 1023 / 1023
$GID = 1023 1023
$EGID = 1023 1023
Perl module toolchain versions installed:
Module Have
------------------- ----------
CPAN 2.11_01
CPAN::Meta 2.150001
Cwd 3.56_02
ExtUtils::CBuilder 0.280221
ExtUtils::Command 1.20_01
ExtUtils::Install 2.04
ExtUtils::MakeMaker 7.04_02
ExtUtils::Manifest 1.70
ExtUtils::ParseXS 3.28
File::Spec 3.56_02
JSON 2.94
JSON::PP 2.27300_01
Module::Build 0.4224
Module::Signature 0.81
Parse::CPAN::Meta 1.4414_001
Test::Harness 3.35_01
Test::More 1.302086
YAML 1.23
YAML::Syck 1.30
version 0.9909
--
Summary of my perl5 (revision 5 version 22 subversion 3) configuration:
Platform:
osname=linux, osvers=3.16.0-4-amd64, archname=x86_64-linux-ld
uname='linux debian8 3.16.0-4-amd64 #1 smp debian 3.16.43-2+deb8u1 (2017-06-18) x86_64 gnulinux '
config_args='-ds -e -Dprefix=/opt/perl-5.22.3D -Duselongdouble -Dcf_email=srezic@cpan.org'
hint=recommended, useposix=true, d_sigaction=define
useithreads=undef, usemultiplicity=undef
use64bitint=define, use64bitall=define, uselongdouble=define
usemymalloc=n, bincompat5005=undef
Compiler:
cc='cc', ccflags ='-fwrapv -fno-strict-aliasing -pipe -fstack-protector-strong -I/usr/local/include -D_LARGEFILE_SOURCE -D_FILE_OFFSET_BITS=64 -D_FORTIFY_SOURCE=2',
optimize='-O2',
cppflags='-fwrapv -fno-strict-aliasing -pipe -fstack-protector-strong -I/usr/local/include'
ccversion='', gccversion='4.9.2', gccosandvers=''
intsize=4, longsize=8, ptrsize=8, doublesize=8, byteorder=12345678, doublekind=3
d_longlong=define, longlongsize=8, d_longdbl=define, longdblsize=16, longdblkind=3
ivtype='long', ivsize=8, nvtype='long double', nvsize=16, Off_t='off_t', lseeksize=8
alignbytes=16, prototype=define
Linker and Libraries:
ld='cc', ldflags =' -fstack-protector-strong -L/usr/local/lib'
libpth=/usr/local/lib /usr/lib/gcc/x86_64-linux-gnu/4.9/include-fixed /usr/include/x86_64-linux-gnu /usr/lib /lib/x86_64-linux-gnu /lib/../lib /usr/lib/x86_64-linux-gnu /usr/lib/../lib /lib
libs=-lpthread -lnsl -lgdbm -ldb -ldl -lm -lcrypt -lutil -lc -lgdbm_compat
perllibs=-lpthread -lnsl -ldl -lm -lcrypt -lutil -lc
libc=libc-2.19.so, so=so, useshrplib=false, libperl=libperl.a
gnulibc_version='2.19'
Dynamic Linking:
dlsrc=dl_dlopen.xs, dlext=so, d_dlsymun=undef, ccdlflags='-Wl,-E'
cccdlflags='-fPIC', lddlflags='-shared -O2 -L/usr/local/lib -fstack-protector-strong'
Characteristics of this binary (from libperl):
Compile-time options: HAS_TIMES PERLIO_LAYERS PERL_DONT_CREATE_GVSV
PERL_HASH_FUNC_ONE_AT_A_TIME_HARD PERL_MALLOC_WRAP
PERL_NEW_COPY_ON_WRITE PERL_PRESERVE_IVUV
USE_64_BIT_ALL USE_64_BIT_INT USE_LARGE_FILES
USE_LOCALE USE_LOCALE_COLLATE USE_LOCALE_CTYPE
USE_LOCALE_NUMERIC USE_LOCALE_TIME USE_LONG_DOUBLE
USE_PERLIO USE_PERL_ATOF
Built under linux
Compiled at Jun 27 2017 20:04:01
%ENV:
PERL5LIB="/home/cpansand/.cpan/build/2017082606/HTML-Selector-XPath-0.23-0KX5_x/blib/arch:/home/cpansand/.cpan/build/2017082606/HTML-Selector-XPath-0.23-0KX5_x/blib/lib:/home/cpansand/.cpan/build/2017082606/App-CLI-0.45-xY0VZO/blib/arch:/home/cpansand/.cpan/build/2017082606/App-CLI-0.45-xY0VZO/blib/lib:/home/cpansand/.cpan/build/2017082606/Test-Regexp-2017040101-eyV6IA/blib/arch:/home/cpansand/.cpan/build/2017082606/Test-Regexp-2017040101-eyV6IA/blib/lib:/home/cpansand/.cpan/build/2017082606/Regexp-Common-2017060201-Wnzl7X/blib/arch:/home/cpansand/.cpan/build/2017082606/Regexp-Common-2017060201-Wnzl7X/blib/lib:/home/cpansand/.cpan/build/2017082606/File-Type-0.22-NKt2aV/blib/arch:/home/cpansand/.cpan/build/2017082606/File-Type-0.22-NKt2aV/blib/lib:/home/cpansand/.cpan/build/2017082606/HTTP-Lite-2.44-DlGvlZ/blib/arch:/home/cpansand/.cpan/build/2017082606/HTTP-Lite-2.44-DlGvlZ/blib/lib"
PERL5OPT=""
PERL5_CPANPLUS_IS_RUNNING="25142"
PERL5_CPAN_IS_RUNNING="25142"
PERL5_CPAN_IS_RUNNING_IN_RECURSION="24853,25142"
PERLDOC="-MPod::Perldoc::ToTextOverstrike"
PERL_BATCH="yes"
PERL_CANARY_STABILITY_NOPROMPT="1"
PERL_CPAN_REPORTER_CONFIG="/var/tmp/cpansmoker-1023/2017082606/cpanreporter_000_config.ini"
PERL_EXTUTILS_AUTOINSTALL="--defaultdeps"
@INC:
/home/cpansand/.cpan/build/2017082606/HTML-Selector-XPath-0.23-0KX5_x/blib/arch
/home/cpansand/.cpan/build/2017082606/HTML-Selector-XPath-0.23-0KX5_x/blib/lib
/home/cpansand/.cpan/build/2017082606/App-CLI-0.45-xY0VZO/blib/arch
/home/cpansand/.cpan/build/2017082606/App-CLI-0.45-xY0VZO/blib/lib
/home/cpansand/.cpan/build/2017082606/Test-Regexp-2017040101-eyV6IA/blib/arch
/home/cpansand/.cpan/build/2017082606/Test-Regexp-2017040101-eyV6IA/blib/lib
/home/cpansand/.cpan/build/2017082606/Regexp-Common-2017060201-Wnzl7X/blib/arch
/home/cpansand/.cpan/build/2017082606/Regexp-Common-2017060201-Wnzl7X/blib/lib
/home/cpansand/.cpan/build/2017082606/File-Type-0.22-NKt2aV/blib/arch
/home/cpansand/.cpan/build/2017082606/File-Type-0.22-NKt2aV/blib/lib
/home/cpansand/.cpan/build/2017082606/HTTP-Lite-2.44-DlGvlZ/blib/arch
/home/cpansand/.cpan/build/2017082606/HTTP-Lite-2.44-DlGvlZ/blib/lib
/opt/perl-5.22.3D/lib/site_perl/5.22.3/x86_64-linux-ld
/opt/perl-5.22.3D/lib/site_perl/5.22.3
/opt/perl-5.22.3D/lib/5.22.3/x86_64-linux-ld
/opt/perl-5.22.3D/lib/5.22.3
.