MooseX-UndefTolerant v0.21 Perl 5 v5.38.2 x86_64-linux

Status
Pass
From
Slaven Rezić
Dist
MooseX-UndefTolerant v0.21
Platform
Perl 5 v5.38.2 x86_64-linux
Date
2024-09-29 16:50:09
ID
e37e7cc0-7e82-11ef-a9d6-8e236e8775ea
This distribution has been tested as part of the CPAN Testers
project, supporting the Perl programming language.  See
http://wiki.cpantesters.org/ for more information or email
questions to cpan-testers-discuss@perl.org


--
Dear Karen Etheridge,

This is a computer-generated report for MooseX-UndefTolerant-0.21
on perl 5.38.2, created by CPAN-Reporter-1.2019.

Thank you for uploading your work to CPAN.  Congratulations!
All tests were successful.

Sections of this report:

    * Tester comments
    * Program output
    * Prerequisites
    * Environment and other context

------------------------------
TESTER COMMENTS
------------------------------

Additional comments from tester:

none provided

------------------------------
PROGRAM OUTPUT
------------------------------

Output from './Build test':

# Testing MooseX::UndefTolerant 0.21, Perl 5.038002, /opt/perl-5.38.2/bin/perl
t/00-load.t ............ ok
# 
# Versions for all modules listed in MYMETA.json (including optional ones):
# 
# === Configure Requires ===
# 
#     Module               Want  Have
#     ------------------- ----- -----
#     Module::Build::Tiny 0.034 0.048
# 
# === Test Requires ===
# 
#     Module           Want     Have
#     ---------------- ---- --------
#     File::Spec        any     3.88
#     Module::Metadata  any 1.000037
#     Test::Fatal       any    0.017
#     Test::Moose       any   2.2207
#     Test::More       0.88 1.302203
#     if                any   0.0610
#     lib               any     0.65
# 
# === Test Recommends ===
# 
#     Module         Want     Have
#     ---------- -------- --------
#     CPAN::Meta 2.120900 2.150010
# 
# === Runtime Requires ===
# 
#     Module               Want   Have
#     -------------------- ---- ------
#     Moose                0.89 2.2207
#     Moose::Exporter       any 2.2207
#     Moose::Role           any 2.2207
#     namespace::autoclean  any   0.29
#     strict                any   1.12
#     warnings              any   1.65
# 
# === Other Modules ===
# 
#     Module    Have
#     --------- ----
#     JSON::PP  4.16
#     Sub::Name 0.27
#     YAML      1.31
#     autodie   2.36
# 
t/00-report-prereqs.t .. ok
t/basic.t .............. ok
t/constructor.t ........ ok
t/defaults.t ........... ok
t/roles.t .............. ok
t/undef_init_arg.t ..... ok
t/zzz-check-breaks.t ... ok
All tests successful.
Files=8, Tests=158,  2 wallclock secs ( 0.03 usr  0.01 sys +  1.79 cusr  0.34 csys =  2.17 CPU)
Result: PASS

------------------------------
PREREQUISITES
------------------------------

Prerequisite modules loaded:

requires:

    Module               Need  Have    
    -------------------- ----- --------
    Moose                0.89  2.2207  
    Moose::Exporter      0     2.2207  
    Moose::Role          0     2.2207  
    namespace::autoclean 0     0.29    
    perl                 5.006 5.038002
    strict               0     1.12    
    warnings             0     1.65    

build_requires:

    Module               Need  Have    
    -------------------- ----- --------
    File::Spec           0     3.88    
    if                   0     0.0610  
    lib                  0     0.65    
    Module::Metadata     0     1.000037
    perl                 5.006 5.038002
    Test::Fatal          0     0.017   
    Test::Moose          0     2.2207  
    Test::More           0.88  1.302203

configure_requires:

    Module               Need  Have    
    -------------------- ----- --------
    Module::Build::Tiny  0.034 0.048   
    perl                 5.006 5.038002


------------------------------
ENVIRONMENT AND OTHER CONTEXT
------------------------------

Environment variables:

    LANG = en_US.UTF-8
    PATH = /usr/local/bin:/usr/bin:/bin:/usr/local/sbin:/usr/sbin:/sbin:/home/cpansand/bin/linux-gnu:/home/cpansand/bin/sh:/home/cpansand/bin:/usr/games:/home/cpansand/devel:/home/eserte/src/srezic-misc/scripts
    PERL5LIB = /home/cpansand/.cpan/build/2024092915/Hook-AfterRuntime-0.006-2/blib/arch:/home/cpansand/.cpan/build/2024092915/Hook-AfterRuntime-0.006-2/blib/lib:/home/cpansand/.cpan/build/2024092915/B-Hooks-Parser-0.21-2/blib/arch:/home/cpansand/.cpan/build/2024092915/B-Hooks-Parser-0.21-2/blib/lib:/home/cpansand/.cpan/build/2024092915/File-Cat-1.2-2/blib/arch:/home/cpansand/.cpan/build/2024092915/File-Cat-1.2-2/blib/lib:/home/cpansand/.cpan/build/2024092915/Compress-BGZF-0.007001-2/blib/arch:/home/cpansand/.cpan/build/2024092915/Compress-BGZF-0.007001-2/blib/lib
    PERL5OPT = 
    PERL5_CPANPLUS_IS_RUNNING = 821520
    PERL5_CPAN_IS_RUNNING = 821520
    PERL5_CPAN_IS_RUNNING_IN_RECURSION = 817871,821520
    PERLDOC = -MPod::Perldoc::ToTextOverstrike
    PERL_BATCH = yes
    PERL_CANARY_STABILITY_NOPROMPT = 1
    PERL_CPAN_REPORTER_CONFIG = /var/tmp/cpansmoker-1023/2024092915/cpanreporter_000_config.ini
    PERL_EXTUTILS_AUTOINSTALL = --defaultdeps
    PERL_USE_UNSAFE_INC = 1
    SHELL = /usr/bin/zsh
    TERM = screen
    TMPDIR = /var/tmp/cpansmoker-1023/2024092915

Perl special variables (and OS-specific diagnostics, for MSWin32):

    $^X = /opt/perl-5.38.2/bin/perl
    $UID/$EUID = 1023 / 1023
    $GID = 1023 1023
    $EGID = 1023 1023

Perl module toolchain versions installed:

    Module              Have    
    ------------------- --------
    CPAN                2.37    
    CPAN::Meta          2.150010
    Cwd                 3.89    
    ExtUtils::CBuilder  0.280238
    ExtUtils::Command   7.70    
    ExtUtils::Install   2.22    
    ExtUtils::MakeMaker 7.70    
    ExtUtils::Manifest  1.73    
    ExtUtils::ParseXS   3.51    
    File::Spec          3.88    
    JSON                4.10    
    JSON::PP            4.16    
    Module::Build       0.4234  
    Module::Signature   0.88    
    Parse::CPAN::Meta   2.150010
    Test2               1.302203
    Test::Harness       3.44    
    Test::More          1.302203
    YAML                1.31    
    YAML::Syck          1.34    
    version             0.9929  


--

Summary of my perl5 (revision 5 version 38 subversion 2) configuration:
   
  Platform:
    osname=linux
    osvers=5.14.0-427.24.1.el9_4.x86_64
    archname=x86_64-linux
    uname='linux rockylinux9-2gb-ash-1-cloud3.cloud 5.14.0-427.24.1.el9_4.x86_64 #1 smp preempt_dynamic mon jul 8 17:47:19 utc 2024 x86_64 x86_64 x86_64 gnulinux '
    config_args='-ds -e -Dprefix=/opt/perl-5.38.2 -Uinstallusrbinperl -Dcf_email=srezic@cpan.org'
    hint=recommended
    useposix=true
    d_sigaction=define
    useithreads=undef
    usemultiplicity=undef
    use64bitint=define
    use64bitall=define
    uselongdouble=undef
    usemymalloc=n
    default_inc_excludes_dot=define
  Compiler:
    cc='cc'
    ccflags ='-fwrapv -fno-strict-aliasing -pipe -fstack-protector-strong -I/usr/local/include -D_LARGEFILE_SOURCE -D_FILE_OFFSET_BITS=64 -D_FORTIFY_SOURCE=2'
    optimize='-O2'
    cppflags='-fwrapv -fno-strict-aliasing -pipe -fstack-protector-strong -I/usr/local/include'
    ccversion=''
    gccversion='11.4.1 20231218 (Red Hat 11.4.1-3)'
    gccosandvers=''
    intsize=4
    longsize=8
    ptrsize=8
    doublesize=8
    byteorder=12345678
    doublekind=3
    d_longlong=define
    longlongsize=8
    d_longdbl=define
    longdblsize=16
    longdblkind=3
    ivtype='long'
    ivsize=8
    nvtype='double'
    nvsize=8
    Off_t='off_t'
    lseeksize=8
    alignbytes=8
    prototype=define
  Linker and Libraries:
    ld='cc'
    ldflags =' -fstack-protector-strong -L/usr/local/lib'
    libpth=/usr/local/lib /usr/lib /usr/lib64 /usr/local/lib64
    libs=-lpthread -ldl -lm -lcrypt -lutil -lc
    perllibs=-lpthread -ldl -lm -lcrypt -lutil -lc
    libc=/lib/../lib64/libc.so.6
    so=so
    useshrplib=false
    libperl=libperl.a
    gnulibc_version='2.34'
  Dynamic Linking:
    dlsrc=dl_dlopen.xs
    dlext=so
    d_dlsymun=undef
    ccdlflags='-Wl,-E'
    cccdlflags='-fPIC'
    lddlflags='-shared -O2 -L/usr/local/lib -fstack-protector-strong'


Characteristics of this binary (from libperl): 
  Compile-time options:
    HAS_LONG_DOUBLE
    HAS_STRTOLD
    HAS_TIMES
    PERLIO_LAYERS
    PERL_COPY_ON_WRITE
    PERL_DONT_CREATE_GVSV
    PERL_HASH_FUNC_SIPHASH13
    PERL_HASH_USE_SBOX32
    PERL_MALLOC_WRAP
    PERL_OP_PARENT
    PERL_PRESERVE_IVUV
    PERL_USE_SAFE_PUTENV
    USE_64_BIT_ALL
    USE_64_BIT_INT
    USE_LARGE_FILES
    USE_LOCALE
    USE_LOCALE_COLLATE
    USE_LOCALE_CTYPE
    USE_LOCALE_NUMERIC
    USE_LOCALE_TIME
    USE_PERLIO
    USE_PERL_ATOF
  Built under linux
  Compiled at Jul 13 2024 07:06:32
  %ENV:
    PERL5LIB="/home/cpansand/.cpan/build/2024092915/Hook-AfterRuntime-0.006-2/blib/arch:/home/cpansand/.cpan/build/2024092915/Hook-AfterRuntime-0.006-2/blib/lib:/home/cpansand/.cpan/build/2024092915/B-Hooks-Parser-0.21-2/blib/arch:/home/cpansand/.cpan/build/2024092915/B-Hooks-Parser-0.21-2/blib/lib:/home/cpansand/.cpan/build/2024092915/File-Cat-1.2-2/blib/arch:/home/cpansand/.cpan/build/2024092915/File-Cat-1.2-2/blib/lib:/home/cpansand/.cpan/build/2024092915/Compress-BGZF-0.007001-2/blib/arch:/home/cpansand/.cpan/build/2024092915/Compress-BGZF-0.007001-2/blib/lib"
    PERL5OPT=""
    PERL5_CPANPLUS_IS_RUNNING="821520"
    PERL5_CPAN_IS_RUNNING="821520"
    PERL5_CPAN_IS_RUNNING_IN_RECURSION="817871,821520"
    PERLDOC="-MPod::Perldoc::ToTextOverstrike"
    PERL_BATCH="yes"
    PERL_CANARY_STABILITY_NOPROMPT="1"
    PERL_CPAN_REPORTER_CONFIG="/var/tmp/cpansmoker-1023/2024092915/cpanreporter_000_config.ini"
    PERL_EXTUTILS_AUTOINSTALL="--defaultdeps"
    PERL_USE_UNSAFE_INC="1"
  @INC:
    /home/cpansand/.cpan/build/2024092915/Hook-AfterRuntime-0.006-2/blib/arch
    /home/cpansand/.cpan/build/2024092915/Hook-AfterRuntime-0.006-2/blib/lib
    /home/cpansand/.cpan/build/2024092915/B-Hooks-Parser-0.21-2/blib/arch
    /home/cpansand/.cpan/build/2024092915/B-Hooks-Parser-0.21-2/blib/lib
    /home/cpansand/.cpan/build/2024092915/File-Cat-1.2-2/blib/arch
    /home/cpansand/.cpan/build/2024092915/File-Cat-1.2-2/blib/lib
    /home/cpansand/.cpan/build/2024092915/Compress-BGZF-0.007001-2/blib/arch
    /home/cpansand/.cpan/build/2024092915/Compress-BGZF-0.007001-2/blib/lib
    /opt/perl-5.38.2/lib/site_perl/5.38.2/x86_64-linux
    /opt/perl-5.38.2/lib/site_perl/5.38.2
    /opt/perl-5.38.2/lib/5.38.2/x86_64-linux
    /opt/perl-5.38.2/lib/5.38.2
    .