Text-Capitalize v1.5 Perl 5 v5.33.3 arm-freebsd
- Status
- Pass
- From
- Nigel Horne
- Dist
-
Text-Capitalize v1.5
- Platform
- Perl 5 v5.33.3 arm-freebsd
- Date
- 2021-01-22 18:59:00
- ID
- e3863060-5ce3-11eb-b9db-b6c7a8faccfa
This distribution has been tested as part of the CPAN Testers
project, supporting the Perl programming language. See
http://wiki.cpantesters.org/ for more information or email
questions to cpan-testers-discuss@perl.org
--
Dear Joseph Brenner,
This is a computer-generated report for Text-Capitalize-1.5
on perl 5.33.3, created by CPAN-Reporter-1.2018.
Thank you for uploading your work to CPAN. Congratulations!
All tests were successful.
Sections of this report:
* Tester comments
* Program output
* Prerequisites
* Environment and other context
------------------------------
TESTER COMMENTS
------------------------------
Additional comments from tester:
none provided
------------------------------
PROGRAM OUTPUT
------------------------------
Output from './Build test':
t/001-load.t ...................................... ok
t/004-captitle-preserve_allcaps.t ................. ok
t/003-captitle-preserve_whitespace.t .............. ok
t/002-captitle-default.t .......................... ok
t/005-captitle-preserve_anycaps.t ................. ok
t/007-captitle-preserve_anycaps_and_whitespace.t .. ok
t/006-captitle-preserve_allcaps_and_whitespace.t .. ok
t/008-random_case.t ............................... ok
t/009-scramble_case.t ............................. ok
All tests successful.
Files=9, Tests=608, 7 wallclock secs ( 1.30 usr 0.30 sys + 14.11 cusr 3.61 csys = 19.33 CPU)
Result: PASS
------------------------------
PREREQUISITES
------------------------------
Prerequisite modules loaded:
build_requires:
Module Need Have
------------- ---- --------
Data::Dumper 0 2.176
Env 1 1.05
FindBin 1.04 1.52
lib 0 0.65
Test::More 0 1.302182
configure_requires:
Module Need Have
------------- ---- --------
Module::Build 0.42 0.4231
------------------------------
ENVIRONMENT AND OTHER CONTEXT
------------------------------
Environment variables:
HARNESS_OPTIONS = j4:c
LD_LIBRARY_PATH = /usr/local/lib:
NONINTERACTIVE_TESTING = 1
PATH = /home/njh/perl5/perlbrew/bin:/home/njh/perl5/perlbrew/perls/perl-5.33.3/bin:/home/njh/perl5/perlbrew/bin:/sbin:/bin:/usr/sbin:/usr/bin:/usr/local/sbin:/usr/local/bin:/home/njh/bin
PERL5LIB =
PERL5OPT =
PERL5_CPANPLUS_IS_RUNNING = 15674
PERL5_CPAN_IS_RUNNING = 15674
PERLBREW_HOME = /home/njh/.perlbrew
PERLBREW_LIB =
PERLBREW_MANPATH = /home/njh/perl5/perlbrew/perls/perl-5.33.3/man
PERLBREW_PATH = /home/njh/perl5/perlbrew/bin:/home/njh/perl5/perlbrew/perls/perl-5.33.3/bin
PERLBREW_PERL = perl-5.33.3
PERLBREW_ROOT = /home/njh/perl5/perlbrew
PERLBREW_SHELLRC_VERSION = 0.84
PERLBREW_VERSION = 0.84
PERL_LOCAL_LIB_ROOT =
PERL_MM_USE_DEFAULT = 1
PERL_USE_UNSAFE_INC = 1
SHELL = /usr/local/bin/bash
TERM = su
TMPDIR = /var/tmp
Perl special variables (and OS-specific diagnostics, for MSWin32):
$^X = /mnt/nas/home/pi2b/njh/perl5/perlbrew/perls/perl-5.33.3/bin/perl5.33.3
$UID/$EUID = 1000 / 1000
$GID = 1000 1000 0
$EGID = 1000 1000 0
Perl module toolchain versions installed:
Module Have
------------------- --------
CPAN 2.28
CPAN::Meta 2.150010
Cwd 3.78
ExtUtils::CBuilder 0.280234
ExtUtils::Command 7.48
ExtUtils::Install 2.18
ExtUtils::MakeMaker 7.48
ExtUtils::Manifest 1.72
ExtUtils::ParseXS 3.41
File::Spec 3.78
JSON 4.02
JSON::PP 4.05
Module::Build 0.4231
Module::Signature n/a
Parse::CPAN::Meta 2.150010
Test::Harness 3.42
Test::More 1.302182
YAML 1.30
YAML::Syck n/a
version 0.9928
--
Summary of my perl5 (revision 5 version 33 subversion 3) configuration:
Platform:
osname=freebsd
osvers=12.1-release
archname=arm-freebsd
uname='freebsd pi2b 12.1-release freebsd 12.1-release r354233 generic arm '
config_args='-de -Dprefix=/home/njh/perl5/perlbrew/perls/perl-5.33.3 -Dusedevel -Dusedevel -Accflags=-O2 -W -Wformat=2 -Wswitch -Wshadow -Wwrite-strings -Wuninitialized -Wall -pipe -fomit-frame-pointer -D_FORTIFY_SOURCE=2 -Wpointer-arith -Wstrict-prototypes -fstack-protector -Wstack-protector -Wextra -Wbad-function-cast -Wcast-align -Wcast-qual -Wdisabled-optimization -Wendif-labels -Wfloat-equal -Wformat-nonliteral -Winline -Wmissing-declarations -Wmissing-prototypes -Wnested-externs -Wpointer-arith -Wundef -Wformat-security -mfloat-abi=hard -mfpu=neon-vfpv4 -mtune=cortex-a7 -fdiagnostics-color=auto -mtune=native -flto -Aeval:scriptdir=/home/njh/perl5/perlbrew/perls/perl-5.33.3/bin'
hint=recommended
useposix=true
d_sigaction=define
useithreads=undef
usemultiplicity=undef
use64bitint=undef
use64bitall=undef
uselongdouble=undef
usemymalloc=n
default_inc_excludes_dot=define
Compiler:
cc='cc'
ccflags ='-DHAS_FPSETMASK -DHAS_FLOATINGPOINT_H -O2 -W -Wformat=2 -Wswitch -Wshadow -Wwrite-strings -Wuninitialized -Wall -pipe -fomit-frame-pointer -D_FORTIFY_SOURCE=2 -Wpointer-arith -Wstrict-prototypes -fstack-protector -Wstack-protector -Wextra -Wbad-function-cast -Wcast-align -Wcast-qual -Wdisabled-optimization -Wendif-labels -Wfloat-equal -Wformat-nonliteral -Winline -Wmissing-declarations -Wmissing-prototypes -Wnested-externs -Wpointer-arith -Wundef -Wformat-security -mfloat-abi=hard -mfpu=neon-vfpv4 -mtune=cortex-a7 -fdiagnostics-color=auto -mtune=native -flto -fno-strict-aliasing -fstack-protector-strong -I/usr/local/include'
optimize='-O2'
cppflags='-DHAS_FPSETMASK -DHAS_FLOATINGPOINT_H -O2 -W -Wformat=2 -Wswitch -Wshadow -Wwrite-strings -Wuninitialized -Wall -pipe -fomit-frame-pointer -D_FORTIFY_SOURCE=2 -Wpointer-arith -Wstrict-prototypes -fstack-protector -Wstack-protector -Wextra -Wbad-function-cast -Wcast-align -Wcast-qual -Wdisabled-optimization -Wendif-labels -Wfloat-equal -Wformat-nonliteral -Winline -Wmissing-declarations -Wmissing-prototypes -Wnested-externs -Wpointer-arith -Wundef -Wformat-security -mfloat-abi=hard -mfpu=neon-vfpv4 -mtune=cortex-a7 -fdiagnostics-color=auto -mtune=native -flto -fno-strict-aliasing -fstack-protector-strong -I/usr/local/include'
ccversion=''
gccversion='4.2.1 Compatible FreeBSD Clang 8.0.1 (tags/RELEASE_801/final 366581)'
gccosandvers=''
intsize=4
longsize=4
ptrsize=4
doublesize=8
byteorder=1234
doublekind=3
d_longlong=define
longlongsize=8
d_longdbl=define
longdblsize=8
longdblkind=0
ivtype='long'
ivsize=4
nvtype='double'
nvsize=8
Off_t='off_t'
lseeksize=8
alignbytes=8
prototype=define
Linker and Libraries:
ld='cc'
ldflags ='-Wl,-E -fstack-protector-strong -L/usr/local/lib'
libpth=/usr/lib /usr/local/lib /usr/lib/clang/8.0.1/lib /usr/lib
libs=-lpthread -lgdbm -ldl -lm -lcrypt -lutil -lc
perllibs=-lpthread -ldl -lm -lcrypt -lutil -lc
libc=
so=so
useshrplib=false
libperl=libperl.a
gnulibc_version=''
Dynamic Linking:
dlsrc=dl_dlopen.xs
dlext=so
d_dlsymun=undef
ccdlflags=' '
cccdlflags='-DPIC -fPIC'
lddlflags='-shared -L/usr/local/lib -fstack-protector-strong'
Characteristics of this binary (from libperl):
Compile-time options:
HAS_TIMES
PERLIO_LAYERS
PERL_COPY_ON_WRITE
PERL_DONT_CREATE_GVSV
PERL_MALLOC_WRAP
PERL_OP_PARENT
PERL_PRESERVE_IVUV
PERL_USE_DEVEL
USE_LARGE_FILES
USE_LOCALE
USE_LOCALE_COLLATE
USE_LOCALE_CTYPE
USE_LOCALE_NUMERIC
USE_LOCALE_TIME
USE_PERLIO
USE_PERL_ATOF
Locally applied patches:
Devel::PatchPerl 1.52
Built under freebsd
Compiled at Oct 30 2020 09:53:52
%ENV:
PERL5LIB=""
PERL5OPT=""
PERL5_CPANPLUS_IS_RUNNING="15674"
PERL5_CPAN_IS_RUNNING="15674"
PERLBREW_HOME="/home/njh/.perlbrew"
PERLBREW_LIB=""
PERLBREW_MANPATH="/home/njh/perl5/perlbrew/perls/perl-5.33.3/man"
PERLBREW_PATH="/home/njh/perl5/perlbrew/bin:/home/njh/perl5/perlbrew/perls/perl-5.33.3/bin"
PERLBREW_PERL="perl-5.33.3"
PERLBREW_ROOT="/home/njh/perl5/perlbrew"
PERLBREW_SHELLRC_VERSION="0.84"
PERLBREW_VERSION="0.84"
PERL_LOCAL_LIB_ROOT=""
PERL_MM_USE_DEFAULT="1"
PERL_USE_UNSAFE_INC="1"
@INC:
/home/njh/perl5/perlbrew/perls/perl-5.33.3/lib/site_perl/5.33.3/arm-freebsd
/home/njh/perl5/perlbrew/perls/perl-5.33.3/lib/site_perl/5.33.3
/home/njh/perl5/perlbrew/perls/perl-5.33.3/lib/5.33.3/arm-freebsd
/home/njh/perl5/perlbrew/perls/perl-5.33.3/lib/5.33.3
.