Report for POE-Component-Client-SimpleFTP-0.003

Back
From: metabase:user:d1ac2ff8-7f34-11e0-ad7d-d635d302c8a1
Subject: PASS POE-Component-Client-SimpleFTP-0.003 v5.14.0 GNU/Linux
Date: 2011-06-01T14:39:00Z

This distribution has been tested as part of the CPAN Testers
project, supporting the Perl programming language.  See
http://wiki.cpantesters.org/ for more information or email
questions to cpan-testers-discuss@perl.org


--
Dear Apocalypse,

This is a computer-generated report for POE-Component-Client-SimpleFTP-0.003
on perl 5.14.0, created by CPAN-Reporter-1.1902.

Thank you for uploading your work to CPAN.  Congratulations!
All tests were successful.

Sections of this report:

    * Tester comments
    * Program output
    * Prerequisites
    * Environment and other context

------------------------------
TESTER COMMENTS
------------------------------

Additional comments from tester:

this report is from an automated smoke testing program
and was not reviewed by a human for accuracy

------------------------------
PROGRAM OUTPUT
------------------------------

Output from './Build test':

t/00-compile.t ................ ok
# 
# 
# Generated by Dist::Zilla::Plugin::ReportVersions::Tiny v1.03
# perl: v5.14.0 (wanted 5.006) on linux from /home/lonesome/perl-5.14.0/bin/perl
# 
# DateTime::Format::Strptime                    => 1.5000     (want any version)
# Exporter                                      => 5.64_03    (want any version)
# File::Find                                    => 1.19       (want any version)
# File::Temp                                    => 0.22       (want any version)
# Module::Build                                 => 0.38       (want 0.3601) 
# Moose::Util::TypeConstraints                  => 2.0007     (want any version)
# MooseX::POE::SweetArgs                        => 0.214      (want any version)
# POE                                           => 1.311      (want any version)
# POE::Driver::SysRW                            => 1.311      (want any version)
# POE::Filter::Line                             => 1.311      (want any version)
# POE::Filter::Stream                           => 1.311      (want any version)
# POE::Wheel::ReadWrite                         => 1.311      (want any version)
# POE::Wheel::SocketFactory                     => 1.311      (want any version)
# Socket                                        => 1.94       (want any version)
# Test::Deep                                    => 0.108      (want any version)
# Test::More                                    => 0.98       (want 0.88)   
# parent                                        => 0.225      (want any version)
# 
# Thanks for using my code.  I hope it works for you.
# If not, please try and include this output in the bug report.
# That will help me reproduce the issue and solve your problem.
# 
t/000-report-versions-tiny.t .. ok
t/apocalypse.t ................ skipped: Test::Apocalypse required for validating the distribution
t/utils.t ..................... ok
All tests successful.
Files=4, Tests=56,  1 wallclock secs ( 0.03 usr  0.01 sys +  0.88 cusr  0.12 csys =  1.04 CPU)
Result: PASS

------------------------------
PREREQUISITES
------------------------------

Prerequisite modules loaded:

requires:

    Module                       Need   Have    
    ---------------------------- ------ --------
    DateTime::Format::Strptime   0      1.5000  
    Exporter                     0      5.64_03 
    Moose::Util::TypeConstraints 0      2.0007  
    MooseX::POE::SweetArgs       0      0.214   
    parent                       0      0.225   
    perl                         5.006  5.014000
    POE                          0      1.311   
    POE::Driver::SysRW           0      1.311   
    POE::Filter::Line            0      1.311   
    POE::Filter::Stream          0      1.311   
    POE::Wheel::ReadWrite        0      1.311   
    POE::Wheel::SocketFactory    0      1.311   
    Socket                       0      1.94    

build_requires:

    Module                       Need   Have    
    ---------------------------- ------ --------
    File::Find                   0      1.19    
    File::Temp                   0      0.22    
    Module::Build                0.3601 0.3800  
    Test::Deep                   0      0.108   
    Test::More                   0.88   0.98    

configure_requires:

    Module                       Need   Have    
    ---------------------------- ------ --------
    Module::Build                0.3601 0.3800  


------------------------------
ENVIRONMENT AND OTHER CONTEXT
------------------------------

Environment variables:

    AUTOMATED_TESTING = 1
    LANG = en_GB.UTF-8
    PATH = /usr/lib/ccache:/usr/local/bin:/bin:/usr/bin:/usr/local/sbin:/usr/sbin:/sbin:/home/lonesome/bin
    PERL5LIB = 
    PERL5OPT = 
    PERL5_CPANPLUS_IS_RUNNING = 32169
    PERL5_CPAN_IS_RUNNING = 32169
    PERL5_CPAN_IS_RUNNING_IN_RECURSION = 9665,32169
    PERL_CR_SMOKER_CURRENT = App-Shotgun-0.001
    PERL_EXTUTILS_AUTOINSTALL = --defaultdeps
    PERL_MM_USE_DEFAULT = 1
    SHELL = /bin/bash
    TERM = screen

Perl special variables (and OS-specific diagnostics, for MSWin32):

    $^X = /home/lonesome/perl-5.14.0/bin/perl
    $UID/$EUID = 500 / 500
    $GID = 500 10 500
    $EGID = 500 10 500

Perl module toolchain versions installed:

    Module              Have    
    ------------------- --------
    CPAN                1.9600  
    Cwd                 3.36    
    ExtUtils::CBuilder  0.280203
    ExtUtils::Command   1.17    
    ExtUtils::Install   1.56    
    ExtUtils::MakeMaker 6.57_11 
    ExtUtils::Manifest  1.58    
    ExtUtils::ParseXS   2.2210  
    File::Spec          3.33    
    Module::Build       0.3800  
    Module::Signature   0.68    
    Test::Harness       3.23    
    Test::More          0.98    
    YAML                0.73    
    YAML::Syck          1.17    
    version             0.89    


--

Summary of my perl5 (revision 5 version 14 subversion 0) configuration:
   
  Platform:
    osname=linux, osvers=2.6.38.6-27.fc15.i686, archname=i686-linux
    uname='linux fedora15 2.6.38.6-27.fc15.i686 #1 smp sun may 15 17:57:13 utc 2011 i686 i686 i386 gnulinux '
    config_args='-des -Dcc=ccache gcc -Dld=gcc -Dprefix=/home/lonesome/perl-5.14.0'
    hint=recommended, useposix=true, d_sigaction=define
    useithreads=undef, usemultiplicity=undef
    useperlio=define, d_sfio=undef, uselargefiles=define, usesocks=undef
    use64bitint=undef, use64bitall=undef, uselongdouble=undef
    usemymalloc=n, bincompat5005=undef
  Compiler:
    cc='ccache gcc', ccflags ='-fno-strict-aliasing -pipe -fstack-protector -I/usr/local/include -D_LARGEFILE_SOURCE -D_FILE_OFFSET_BITS=64',
    optimize='-O2',
    cppflags='-fno-strict-aliasing -pipe -fstack-protector -I/usr/local/include'
    ccversion='', gccversion='4.6.0 20110509 (Red Hat 4.6.0-7)', gccosandvers=''
    intsize=4, longsize=4, ptrsize=4, doublesize=8, byteorder=1234
    d_longlong=define, longlongsize=8, d_longdbl=define, longdblsize=12
    ivtype='long', ivsize=4, nvtype='double', nvsize=8, Off_t='off_t', lseeksize=8
    alignbytes=4, prototype=define
  Linker and Libraries:
    ld='gcc', ldflags =' -fstack-protector -L/usr/local/lib'
    libpth=/usr/local/lib /lib /usr/lib
    libs=-lnsl -ldl -lm -lcrypt -lutil -lc
    perllibs=-lnsl -ldl -lm -lcrypt -lutil -lc
    libc=/lib/libc-2.13.90.so, so=so, useshrplib=false, libperl=libperl.a
    gnulibc_version='2.13.90'
  Dynamic Linking:
    dlsrc=dl_dlopen.xs, dlext=so, d_dlsymun=undef, ccdlflags='-Wl,-E'
    cccdlflags='-fPIC', lddlflags='-shared -O2 -L/usr/local/lib -fstack-protector'


Characteristics of this binary (from libperl): 
  Compile-time options: PERL_DONT_CREATE_GVSV PERL_MALLOC_WRAP
                        PERL_PRESERVE_IVUV USE_LARGE_FILES USE_PERLIO
                        USE_PERL_ATOF
  Built under linux
  Compiled at Jun  1 2011 10:32:53
  %ENV:
    PERL5LIB=""
    PERL5OPT=""
    PERL5_CPANPLUS_IS_RUNNING="32169"
    PERL5_CPAN_IS_RUNNING="32169"
    PERL5_CPAN_IS_RUNNING_IN_RECURSION="9665,32169"
    PERL_CR_SMOKER_CURRENT="App-Shotgun-0.001"
    PERL_EXTUTILS_AUTOINSTALL="--defaultdeps"
    PERL_MM_USE_DEFAULT="1"
  @INC:
    /home/lonesome/perl-5.14.0/lib/site_perl/5.14.0/i686-linux
    /home/lonesome/perl-5.14.0/lib/site_perl/5.14.0
    /home/lonesome/perl-5.14.0/lib/5.14.0/i686-linux
    /home/lonesome/perl-5.14.0/lib/5.14.0
    .