Back
From: metabase:user:30f4dfbe-2aae-11df-837a-5e0a49663a4f
Subject: PASS Data-Password-Common-0.004 v5.16.1 Mac OS X
Date: 2013-11-12T09:22:02Z
This distribution has been tested as part of the CPAN Testers
project, supporting the Perl programming language. See
http://wiki.cpantesters.org/ for more information or email
questions to cpan-testers-discuss@perl.org
--
Dear David Golden,
This is a computer-generated report for Data-Password-Common-0.004
on perl 5.16.1, created by CPAN-Reporter-1.2010.
Thank you for uploading your work to CPAN. Congratulations!
All tests were successful.
Sections of this report:
* Tester comments
* Program output
* Prerequisites
* Environment and other context
------------------------------
TESTER COMMENTS
------------------------------
Additional comments from tester:
this report is from an automated smoke testing program
and was not reviewed by a human for accuracy
------------------------------
PROGRAM OUTPUT
------------------------------
Output from '/sw/bin/make test':
Skip blib/lib/auto/share/dist/Data-Password-Common/common.txt (unchanged)
PERL_DL_NONLAZY=1 /Users/hornenj/perl5/perlbrew/perls/perl-5.16.1/bin/perl "-MExtUtils::Command::MM" "-e" "test_harness(0, 'blib/lib', 'blib/arch')" t/*.t
#
# Versions for all modules listed in MYMETA.json (including optional ones):
# Version Module
# -------- ------------------------
# 2.132140 CPAN::Meta
# 2.122 CPAN::Meta::Requirements
# 6.74 ExtUtils::MakeMaker
# 1.03 File::ShareDir
# 0.05 File::ShareDir::Install
# 3.40 File::Spec::Functions
# 1.16 IO::File
# 1.31 List::Util
# 1.07 Search::Dict
# 0.986 Sub::Exporter
# 0.3.3 Test::File::ShareDir
# 0.98 Test::More
# 2.20 autodie
# 1.07 strict
# 1.09 utf8
# 1.13 warnings
t/00-report-prereqs.t .. ok
t/lookup.t ............. ok
t/personalized.t ....... ok
All tests successful.
Files=3, Tests=9, 0 wallclock secs ( 0.03 usr 0.01 sys + 0.37 cusr 0.04 csys = 0.45 CPU)
Result: PASS
------------------------------
PREREQUISITES
------------------------------
Prerequisite modules loaded:
requires:
Module Need Have
----------------------- ---- -----
autodie 2.00 2.20
File::ShareDir 0 1.03
IO::File 0 1.16
Search::Dict 0 1.07
strict 0 1.07
Sub::Exporter 0 0.986
warnings 0 1.13
build_requires:
Module Need Have
----------------------- ---- -----
ExtUtils::MakeMaker 0 6.74
File::Spec::Functions 0 3.40
List::Util 0 1.31
Test::File::ShareDir 0 0.3.3
Test::More 0.96 0.98
utf8 0 1.09
configure_requires:
Module Need Have
----------------------- ---- -----
ExtUtils::MakeMaker 6.17 6.74
File::ShareDir::Install 0.03 0.05
------------------------------
ENVIRONMENT AND OTHER CONTEXT
------------------------------
Environment variables:
AUTOMATED_TESTING = 1
LC_ALL = POSIX
LD_LIBRARY_PATH = :/net/traces01.be-md.ncbi.nlm.nih.gov/trace_software/vdb/mac/release/x86_64/lib
PATH = /Users/hornenj/perl5/perlbrew/bin:/Users/hornenj/perl5/perlbrew/perls/perl-5.16.1/bin:/Users/hornenj/perl5/perlbrew/bin:/sw/lib/perl5/ExtUtils:/sw/bin:/sw/sbin:/am/ncbiapdata/bin:/usr/bin:/bin:/usr/X11R6/bin:/Users/hornenj/bin:/netopt/ncbi_tools/bin:/usr/local/ncbi/blast/bin:/net/traces01.be-md.ncbi.nlm.nih.gov/trace_software/vdb/mac/release/x86_64/bin
PERL5LIB = /Users/hornenj/.cpan/build/Test-File-ShareDir-0.3.3-bWBaNM/blib/arch:/Users/hornenj/.cpan/build/Test-File-ShareDir-0.3.3-bWBaNM/blib/lib:/Users/hornenj/.cpan/build/Path-Tiny-0.044-w0w2fL/blib/arch:/Users/hornenj/.cpan/build/Path-Tiny-0.044-w0w2fL/blib/lib:/Users/hornenj/.cpan/build/File-ShareDir-1.03-AXtUmD/blib/arch:/Users/hornenj/.cpan/build/File-ShareDir-1.03-AXtUmD/blib/lib:/Users/hornenj/.cpan/build/Class-Inspector-1.28-hXljeg/blib/arch:/Users/hornenj/.cpan/build/Class-Inspector-1.28-hXljeg/blib/lib:/Users/hornenj/.cpan/build/File-ShareDir-Install-0.05-W22IeR/blib/arch:/Users/hornenj/.cpan/build/File-ShareDir-Install-0.05-W22IeR/blib/lib
PERL5OPT =
PERL5_CPANPLUS_IS_RUNNING = 19355
PERL5_CPAN_IS_RUNNING = 19355
PERL5_MINISMOKEBOX = 0.56
PERLBREW_BASHRC_VERSION = 0.66
PERLBREW_HOME = /Users/hornenj/.perlbrew
PERLBREW_MANPATH = /Users/hornenj/perl5/perlbrew/perls/perl-5.16.1/man
PERLBREW_PATH = /Users/hornenj/perl5/perlbrew/bin:/Users/hornenj/perl5/perlbrew/perls/perl-5.16.1/bin
PERLBREW_PERL = perl-5.16.1
PERLBREW_ROOT = /Users/hornenj/perl5/perlbrew
PERLBREW_VERSION = 0.66
PERL_EXTUTILS_AUTOINSTALL = --defaultdeps
PERL_MM_USE_DEFAULT = 1
SHELL = /bin/bash
TERM = xterm
TMPDIR = /var/folders/pz/pd7y1qjs6s3cbk170cw50fjc000c61/T/
VERSIONER_PERL_PREFER_32_BIT = no
VERSIONER_PERL_VERSION = 5.12
ac_cv_path_INTLTOOL_PERL = /usr/bin/perl
Perl special variables (and OS-specific diagnostics, for MSWin32):
$^X = /Users/hornenj/perl5/perlbrew/perls/perl-5.16.1/bin/perl
$UID/$EUID = 12481 / 12481
$GID = 14 14 5344 527 241 223 206 402 12 62 204
$EGID = 14 14 5344 527 241 223 206 402 12 62 204
Perl module toolchain versions installed:
Module Have
------------------- --------
CPAN 2.00
CPAN::Meta 2.132140
Cwd 3.40
ExtUtils::CBuilder 0.280206
ExtUtils::Command 1.17
ExtUtils::Install 1.58
ExtUtils::MakeMaker 6.74
ExtUtils::Manifest 1.61
ExtUtils::ParseXS 3.21
File::Spec 3.40
JSON 2.59
JSON::PP 2.27202
Module::Build 0.4007
Module::Signature n/a
Parse::CPAN::Meta 1.4405
Test::Harness 3.28
Test::More 0.98
YAML 0.84
YAML::Syck 1.27
version 0.9903
--
Summary of my perl5 (revision 5 version 16 subversion 1) configuration:
Platform:
osname=darwin, osvers=12.4.0, archname=darwin-thread-multi-2level
uname='darwin ncbimac2008.ncbi.nlm.nih.gov 12.4.0 darwin kernel version 12.4.0: wed may 1 17:57:12 pdt 2013; root:xnu-2050.24.15~1release_x86_64 x86_64 '
config_args='-Duseithreads -Dusemultiplicity -Dinstallprefix=/Users/hornenj/perl5/perlbrew/perls/perl-5.16.1 -Dprefix=/Users/hornenj/perl5/perlbrew/perls/perl-5.16.1 -de -Accflags=-O2 -W -Wformat=2 -Wswitch -Wshadow -Wwrite-strings -Wuninitialized -Wall -pipe -mtune=native -march=native -fomit-frame-pointer -msse2 -msse -mmmx -mfpmath=sse -pedantic -D_FORTIFY_SOURCE=2 -Wpointer-arith -Wstrict-prototypes -fstack-protector -Wstack-protector -Wextra -Wbad-function-cast -Wcast-align -Wcast-qual -Wdisabled-optimization -Wendif-labels -Wfloat-equal -Wformat-nonliteral -Winline -Wmissing-declarations -Wmissing-prototypes -Wnested-externs -Wpointer-arith -Wundef -Wformat-security -ftree-vectorize -fassociative-math -ftree-vectorizer-verbose=2'
hint=recommended, useposix=true, d_sigaction=define
useithreads=define, usemultiplicity=define
useperlio=define, d_sfio=undef, uselargefiles=define, usesocks=undef
use64bitint=define, use64bitall=define, uselongdouble=undef
usemymalloc=n, bincompat5005=undef
Compiler:
cc='cc', ccflags ='-fno-common -DPERL_DARWIN -O2 -W -Wformat=2 -Wswitch -Wshadow -Wwrite-strings -Wuninitialized -Wall -pipe -mtune=native -march=native -fomit-frame-pointer -msse2 -msse -mmmx -mfpmath=sse -pedantic -D_FORTIFY_SOURCE=2 -Wpointer-arith -Wstrict-prototypes -fstack-protector -Wstack-protector -Wextra -Wbad-function-cast -Wcast-align -Wcast-qual -Wdisabled-optimization -Wendif-labels -Wfloat-equal -Wformat-nonliteral -Winline -Wmissing-declarations -Wmissing-prototypes -Wnested-externs -Wpointer-arith -Wundef -Wformat-security -ftree-vectorize -fassociative-math -ftree-vectorizer-verbose=2 -fno-strict-aliasing -I/usr/local/include',
optimize='-O3',
cppflags='-fno-common -DPERL_DARWIN -O2 -W -Wformat=2 -Wswitch -Wshadow -Wwrite-strings -Wuninitialized -Wall -pipe -mtune=native -march=native -fomit-frame-pointer -msse2 -msse -mmmx -mfpmath=sse -pedantic -D_FORTIFY_SOURCE=2 -Wpointer-arith -Wstrict-prototypes -fstack-protector -Wstack-protector -Wextra -Wbad-function-cast -Wcast-align -Wcast-qual -Wdisabled-optimization -Wendif-labels -Wfloat-equal -Wformat-nonliteral -Winline -Wmissing-declarations -Wmissing-prototypes -Wnested-externs -Wpointer-arith -Wundef -Wformat-security -ftree-vectorize -fassociative-math -ftree-vectorizer-verbose=2 -fno-strict-aliasing -I/usr/local/include'
ccversion='', gccversion='4.2.1 Compatible Apple LLVM 4.2 (clang-425.0.24)', gccosandvers=''
intsize=4, longsize=8, ptrsize=8, doublesize=8, byteorder=12345678
d_longlong=define, longlongsize=8, d_longdbl=define, longdblsize=16
ivtype='long', ivsize=8, nvtype='double', nvsize=8, Off_t='off_t', lseeksize=8
alignbytes=8, prototype=define
Linker and Libraries:
ld='env MACOSX_DEPLOYMENT_TARGET=10.3 cc', ldflags =' -fstack-protector -L/usr/local/lib'
libpth=/usr/local/lib /usr/lib
libs=-ldbm -ldl -lm -lutil -lc
perllibs=-ldl -lm -lutil -lc
libc=, so=dylib, useshrplib=false, libperl=libperl.a
gnulibc_version=''
Dynamic Linking:
dlsrc=dl_dlopen.xs, dlext=bundle, d_dlsymun=undef, ccdlflags=' '
cccdlflags=' ', lddlflags=' -bundle -undefined dynamic_lookup -L/usr/local/lib -fstack-protector'
Characteristics of this binary (from libperl):
Compile-time options: HAS_TIMES MULTIPLICITY PERLIO_LAYERS
PERL_DONT_CREATE_GVSV PERL_IMPLICIT_CONTEXT
PERL_MALLOC_WRAP PERL_PRESERVE_IVUV USE_64_BIT_ALL
USE_64_BIT_INT USE_ITHREADS USE_LARGE_FILES
USE_LOCALE USE_LOCALE_COLLATE USE_LOCALE_CTYPE
USE_LOCALE_NUMERIC USE_PERLIO USE_PERL_ATOF
USE_REENTRANT_API
Built under darwin
Compiled at Aug 20 2013 10:36:05
%ENV:
PERL5LIB="/Users/hornenj/.cpan/build/Test-File-ShareDir-0.3.3-bWBaNM/blib/arch:/Users/hornenj/.cpan/build/Test-File-ShareDir-0.3.3-bWBaNM/blib/lib:/Users/hornenj/.cpan/build/Path-Tiny-0.044-w0w2fL/blib/arch:/Users/hornenj/.cpan/build/Path-Tiny-0.044-w0w2fL/blib/lib:/Users/hornenj/.cpan/build/File-ShareDir-1.03-AXtUmD/blib/arch:/Users/hornenj/.cpan/build/File-ShareDir-1.03-AXtUmD/blib/lib:/Users/hornenj/.cpan/build/Class-Inspector-1.28-hXljeg/blib/arch:/Users/hornenj/.cpan/build/Class-Inspector-1.28-hXljeg/blib/lib:/Users/hornenj/.cpan/build/File-ShareDir-Install-0.05-W22IeR/blib/arch:/Users/hornenj/.cpan/build/File-ShareDir-Install-0.05-W22IeR/blib/lib"
PERL5OPT=""
PERL5_CPANPLUS_IS_RUNNING="19355"
PERL5_CPAN_IS_RUNNING="19355"
PERL5_MINISMOKEBOX="0.56"
PERLBREW_BASHRC_VERSION="0.66"
PERLBREW_HOME="/Users/hornenj/.perlbrew"
PERLBREW_MANPATH="/Users/hornenj/perl5/perlbrew/perls/perl-5.16.1/man"
PERLBREW_PATH="/Users/hornenj/perl5/perlbrew/bin:/Users/hornenj/perl5/perlbrew/perls/perl-5.16.1/bin"
PERLBREW_PERL="perl-5.16.1"
PERLBREW_ROOT="/Users/hornenj/perl5/perlbrew"
PERLBREW_VERSION="0.66"
PERL_EXTUTILS_AUTOINSTALL="--defaultdeps"
PERL_MM_USE_DEFAULT="1"
@INC:
/Users/hornenj/.cpan/build/Test-File-ShareDir-0.3.3-bWBaNM/blib/arch
/Users/hornenj/.cpan/build/Test-File-ShareDir-0.3.3-bWBaNM/blib/lib
/Users/hornenj/.cpan/build/Path-Tiny-0.044-w0w2fL/blib/arch
/Users/hornenj/.cpan/build/Path-Tiny-0.044-w0w2fL/blib/lib
/Users/hornenj/.cpan/build/File-ShareDir-1.03-AXtUmD/blib/arch
/Users/hornenj/.cpan/build/File-ShareDir-1.03-AXtUmD/blib/lib
/Users/hornenj/.cpan/build/Class-Inspector-1.28-hXljeg/blib/arch
/Users/hornenj/.cpan/build/Class-Inspector-1.28-hXljeg/blib/lib
/Users/hornenj/.cpan/build/File-ShareDir-Install-0.05-W22IeR/blib/arch
/Users/hornenj/.cpan/build/File-ShareDir-Install-0.05-W22IeR/blib/lib
/Users/hornenj/perl5/perlbrew/perls/perl-5.16.1/lib/site_perl/5.16.1/darwin-thread-multi-2level
/Users/hornenj/perl5/perlbrew/perls/perl-5.16.1/lib/site_perl/5.16.1
/Users/hornenj/perl5/perlbrew/perls/perl-5.16.1/lib/5.16.1/darwin-thread-multi-2level
/Users/hornenj/perl5/perlbrew/perls/perl-5.16.1/lib/5.16.1
.