Back
From: metabase:user:775a6ef0-a30d-11e0-b928-abcd0a1a245f
Subject: PASS Log-Any-Adapter-Syslog-1.3 v5.12.0 GNU/Linux
Date: 2011-09-12T08:26:19Z
This distribution has been tested as part of the CPAN Testers
project, supporting the Perl programming language. See
http://wiki.cpantesters.org/ for more information or email
questions to cpan-testers-discuss@perl.org
--
Dear Stephen Thirlwall,
This is a computer-generated report for Log-Any-Adapter-Syslog-1.3
on perl 5.12.0, created by CPAN-Reporter-1.1902.
Thank you for uploading your work to CPAN. Congratulations!
All tests were successful.
Sections of this report:
* Tester comments
* Program output
* Prerequisites
* Environment and other context
------------------------------
TESTER COMMENTS
------------------------------
Additional comments from tester:
this report is from an automated smoke testing program
and was not reviewed by a human for accuracy
------------------------------
PROGRAM OUTPUT
------------------------------
Output from '/usr/bin/make test':
PERL_DL_NONLAZY=1 /smoker/5.12.0/perl/bin/perl "-MExtUtils::Command::MM" "-e" "test_harness(0, 'blib/lib', 'blib/arch')" t/*.t t/options/*.t
t/00-compile.t ................ ok
#
#
# perl: v5.12.0 (wanted any version) on linux from /smoker/5.12.0/perl/bin/perl
#
# Carp => 1.15 (want any version)
# ExtUtils::MakeMaker => 6.56 (want 6.30)
# File::Basename => 2.78 (want any version)
# File::Find => 1.15 (want any version)
# File::Temp => 0.22 (want any version)
# Log::Any => 0.14 (want any version)
# Log::Any::Adapter => 0.03 (want any version)
# Log::Any::Adapter::Base => <undef> (want any version)
# Log::Any::Adapter::Util => <undef> (want any version)
# Test::Exception => 0.31 (want any version)
# Test::MockModule => 0.05 (want any version)
# Test::More => 0.98 (want 0.88)
# Test::Warn => 0.23 (want any version)
# Unix::Syslog => 1.1 (want any version)
# base => 2.15 (want any version)
# strict => 1.04 (want any version)
# vars => 1.01 (want any version)
# warnings => 1.09 (want any version)
#
# Thanks for using my code. I hope it works for you.
# If not, please try and include this output in the bug report.
# That will help me reproduce the issue and solve you problem.
#
t/000-report-versions-tiny.t .. ok
t/options/defaults.t .......... ok
t/options/facility.t .......... ok
t/options/name.t .............. ok
t/options/options.t ........... ok
t/reinit.t .................... ok
t/release-distmeta.t .......... skipped: these tests are for release candidate testing
t/release-has-version.t ....... skipped: these tests are for release candidate testing
t/release-minimum-version.t ... skipped: these tests are for release candidate testing
t/release-pod-syntax.t ........ skipped: these tests are for release candidate testing
t/release-portability.t ....... skipped: these tests are for release candidate testing
t/release-synopsis.t .......... skipped: these tests are for release candidate testing
t/release-unused-vars.t ....... skipped: these tests are for release candidate testing
t/write-logs.t ................ ok
All tests successful.
Files=15, Tests=44, 3 wallclock secs ( 0.06 usr 0.02 sys + 0.58 cusr 0.08 csys = 0.74 CPU)
Result: PASS
------------------------------
PREREQUISITES
------------------------------
Prerequisite modules loaded:
requires:
Module Need Have
----------------------- ---- ----
base 0 2.15
Carp 0 1.15
File::Basename 0 2.78
Log::Any::Adapter::Base 0 0
Log::Any::Adapter::Util 0 0
strict 0 1.04
Unix::Syslog 0 1.1
warnings 0 1.09
build_requires:
Module Need Have
----------------------- ---- ----
File::Find 0 1.15
File::Temp 0 0.22
Log::Any 0 0.14
Log::Any::Adapter 0 0.03
Test::Exception 0 0.31
Test::MockModule 0 0.05
Test::More 0.88 0.98
Test::Warn 0 0.23
vars 0 1.01
configure_requires:
Module Need Have
----------------------- ---- ----
ExtUtils::MakeMaker 6.30 6.56
------------------------------
ENVIRONMENT AND OTHER CONTEXT
------------------------------
Environment variables:
AUTOMATED_TESTING = 1
LANG = en_US.UTF-8
LC_ALL = C
PATH = /usr/local/bin:/usr/bin:/bin:/usr/local/games:/usr/games
PERL5LIB = /smoker/5.12.0/cpan/build/Unix-Syslog-1.1-iCSQx0/blib/arch:/smoker/5.12.0/cpan/build/Unix-Syslog-1.1-iCSQx0/blib/lib:/smoker/5.12.0/cpan/build/Tree-DAG_Node-1.06-eAPYRs/blib/arch:/smoker/5.12.0/cpan/build/Tree-DAG_Node-1.06-eAPYRs/blib/lib:/smoker/5.12.0/cpan/build/Test-Warn-0.23-oh3WRc/blib/arch:/smoker/5.12.0/cpan/build/Test-Warn-0.23-oh3WRc/blib/lib:/smoker/5.12.0/cpan/build/Log-Any-Adapter-0.03-yuVl5w/blib/arch:/smoker/5.12.0/cpan/build/Log-Any-Adapter-0.03-yuVl5w/blib/lib:/smoker/5.12.0/cpan/build/Log-Any-0.14-hVzZRz/blib/arch:/smoker/5.12.0/cpan/build/Log-Any-0.14-hVzZRz/blib/lib:/smoker/5.12.0/cpan/build/Test-MockModule-0.05-kuH1HE/blib/arch:/smoker/5.12.0/cpan/build/Test-MockModule-0.05-kuH1HE/blib/lib
PERL5OPT =
PERL5_CPANPLUS_IS_RUNNING = 349
PERL5_CPAN_IS_RUNNING = 349
PERL5_CPAN_IS_RUNNING_IN_RECURSION = 59939,349
PERL_AUTOINSTALL = --skip
PERL_CPAN_REPORTER_CONFIG = /smoker/cpanreporter-config.ini
PERL_CPAN_REPORTER_DIR = /smoker/5.12.0/cpanreporter
PERL_CR_SMOKER_CURRENT = Log-Any-Adapter-Syslog-1.3
PERL_CR_SMOKER_RUNONCE = 1
PERL_EXTUTILS_AUTOINSTALL = --defaultdeps
PERL_MM_USE_DEFAULT = 1
SHELL = /bin/sh
TERM = screen
Perl special variables (and OS-specific diagnostics, for MSWin32):
$^X = /smoker/5.12.0/perl/bin/perl
$UID/$EUID = 60000 / 60000
$GID = 60000 60000
$EGID = 60000 60000
Perl module toolchain versions installed:
Module Have
------------------- --------
CPAN 1.9600
Cwd 3.33
ExtUtils::CBuilder 0.280202
ExtUtils::Command 1.16
ExtUtils::Install 1.55
ExtUtils::MakeMaker 6.56
ExtUtils::Manifest 1.57
ExtUtils::ParseXS 2.21
File::Spec 3.33
Module::Build 0.3800
Module::Signature n/a
Test::Harness 3.23
Test::More 0.98
YAML 0.73
YAML::Syck 1.17
version 0.91
--
Summary of my perl5 (revision 5 version 12 subversion 0) configuration:
Platform:
osname=linux, osvers=2.6.26-2-amd64, archname=i686-linux
uname='linux rijk 2.6.26-2-amd64 #1 smp thu nov 5 02:23:12 utc 2009 i686 gnulinux '
config_args='-Duselargefiles -Uuse64bitint -Dusemymalloc=n -Uusedl -Uusethreads -Uuseithreads -Uusemultiplicity -Uusesfio -Uuseshrplib -Uinstallusrbinperl -A ccflags= -g -DPERL_DISABLE_PMC -DPERL_ARENA_SIZE=16376 -DNO_PERL_MALLOC_ENV -D_GNU_SOURCE -DNDEBUG -Dcc=cc -Doptimize=-O2 -mpush-args -fomit-frame-pointer -march=core2 -mtune=core2 -Dldflags= -lc -lm -ldl -lpthread -Dlibs=-lm -lcrypt -Dprefix=/smoker/5.12.0/perl -Dbin=/smoker/5.12.0/perl/bin -Dprivlib=/smoker/5.12.0/perl/lib -Darchlib=/smoker/5.12.0/perl/lib -Uusevendorprefix -Dsitelib=/smoker/5.12.0/perl/lib -Dsitearch=/smoker/5.12.0/perl/lib -Uman1dir -Uman3dir -Usiteman1dir -Usiteman3dir -Dpager=/usr/bin/less -Demail=Marc Lehmann <staticperl-smoker-5.12.0@plan9.de> -Dcf_email=Marc Lehmann <staticperl-smoker-5.12.0@plan9.de> -Dcf_by=Marc Lehmann <staticperl-smoker-5.12.0@plan9.de> -Dusedl -Uusemymalloc -Duseperlio -dE'
hint=recommended, useposix=true, d_sigaction=define
useithreads=undef, usemultiplicity=undef
useperlio=define, d_sfio=undef, uselargefiles=define, usesocks=undef
use64bitint=undef, use64bitall=undef, uselongdouble=undef
usemymalloc=n, bincompat5005=undef
Compiler:
cc='cc', ccflags ='-g -DPERL_DISABLE_PMC -DPERL_ARENA_SIZE=16376 -DNO_PERL_MALLOC_ENV -D_GNU_SOURCE -DNDEBUG -fno-strict-aliasing -pipe -I/usr/local/include -D_LARGEFILE_SOURCE -D_FILE_OFFSET_BITS=64',
optimize='-O2 -mpush-args -fomit-frame-pointer -march=core2 -mtune=core2',
cppflags='-g -DPERL_DISABLE_PMC -DPERL_ARENA_SIZE=16376 -DNO_PERL_MALLOC_ENV -D_GNU_SOURCE -DNDEBUG -fno-strict-aliasing -pipe -I/usr/local/include'
ccversion='', gccversion='4.4.5', gccosandvers=''
intsize=4, longsize=4, ptrsize=4, doublesize=8, byteorder=1234
d_longlong=define, longlongsize=8, d_longdbl=define, longdblsize=12
ivtype='long', ivsize=4, nvtype='double', nvsize=8, Off_t='off_t', lseeksize=8
alignbytes=4, prototype=define
Linker and Libraries:
ld='cc', ldflags =' -lc -lm -ldl -lpthread -L/usr/local/lib'
libpth=/usr/local/lib /lib /usr/lib /usr/lib64
libs=-lm -lcrypt
perllibs=-lm -lcrypt
libc=/lib/libc-2.11.2.so, so=so, useshrplib=false, libperl=libperl.a
gnulibc_version='2.11.2'
Dynamic Linking:
dlsrc=dl_dlopen.xs, dlext=so, d_dlsymun=undef, ccdlflags='-Wl,-E'
cccdlflags='-fPIC', lddlflags='-shared -O2 -mpush-args -fomit-frame-pointer -march=core2 -mtune=core2 -L/usr/local/lib '
Characteristics of this binary (from libperl):
Compile-time options: PERL_DISABLE_PMC PERL_DONT_CREATE_GVSV
PERL_MALLOC_WRAP USE_LARGE_FILES USE_PERLIO
USE_PERL_ATOF
Built under linux
Compiled at Jul 1 2011 16:20:51
%ENV:
PERL5LIB="/smoker/5.12.0/cpan/build/Unix-Syslog-1.1-iCSQx0/blib/arch:/smoker/5.12.0/cpan/build/Unix-Syslog-1.1-iCSQx0/blib/lib:/smoker/5.12.0/cpan/build/Tree-DAG_Node-1.06-eAPYRs/blib/arch:/smoker/5.12.0/cpan/build/Tree-DAG_Node-1.06-eAPYRs/blib/lib:/smoker/5.12.0/cpan/build/Test-Warn-0.23-oh3WRc/blib/arch:/smoker/5.12.0/cpan/build/Test-Warn-0.23-oh3WRc/blib/lib:/smoker/5.12.0/cpan/build/Log-Any-Adapter-0.03-yuVl5w/blib/arch:/smoker/5.12.0/cpan/build/Log-Any-Adapter-0.03-yuVl5w/blib/lib:/smoker/5.12.0/cpan/build/Log-Any-0.14-hVzZRz/blib/arch:/smoker/5.12.0/cpan/build/Log-Any-0.14-hVzZRz/blib/lib:/smoker/5.12.0/cpan/build/Test-MockModule-0.05-kuH1HE/blib/arch:/smoker/5.12.0/cpan/build/Test-MockModule-0.05-kuH1HE/blib/lib"
PERL5OPT=""
PERL5_CPANPLUS_IS_RUNNING="349"
PERL5_CPAN_IS_RUNNING="349"
PERL5_CPAN_IS_RUNNING_IN_RECURSION="59939,349"
PERL_AUTOINSTALL="--skip"
PERL_CPAN_REPORTER_CONFIG="/smoker/cpanreporter-config.ini"
PERL_CPAN_REPORTER_DIR="/smoker/5.12.0/cpanreporter"
PERL_CR_SMOKER_CURRENT="Log-Any-Adapter-Syslog-1.3"
PERL_CR_SMOKER_RUNONCE="1"
PERL_EXTUTILS_AUTOINSTALL="--defaultdeps"
PERL_MM_USE_DEFAULT="1"
@INC:
/smoker/5.12.0/cpan/build/Unix-Syslog-1.1-iCSQx0/blib/arch
/smoker/5.12.0/cpan/build/Unix-Syslog-1.1-iCSQx0/blib/lib
/smoker/5.12.0/cpan/build/Tree-DAG_Node-1.06-eAPYRs/blib/arch
/smoker/5.12.0/cpan/build/Tree-DAG_Node-1.06-eAPYRs/blib/lib
/smoker/5.12.0/cpan/build/Test-Warn-0.23-oh3WRc/blib/arch
/smoker/5.12.0/cpan/build/Test-Warn-0.23-oh3WRc/blib/lib
/smoker/5.12.0/cpan/build/Log-Any-Adapter-0.03-yuVl5w/blib/arch
/smoker/5.12.0/cpan/build/Log-Any-Adapter-0.03-yuVl5w/blib/lib
/smoker/5.12.0/cpan/build/Log-Any-0.14-hVzZRz/blib/arch
/smoker/5.12.0/cpan/build/Log-Any-0.14-hVzZRz/blib/lib
/smoker/5.12.0/cpan/build/Test-MockModule-0.05-kuH1HE/blib/arch
/smoker/5.12.0/cpan/build/Test-MockModule-0.05-kuH1HE/blib/lib
/smoker/5.12.0/perl/lib
.