Back
From: metabase:user:21427c7c-6c1b-1014-a310-4ed93fdd96d6
Subject: PASS String-Errf-0.007 v5.16.3 GNU/Linux
Date: 2013-11-29T13:05:16Z
This distribution has been tested as part of the CPAN Testers
project, supporting the Perl programming language. See
http://wiki.cpantesters.org/ for more information or email
questions to cpan-testers-discuss@perl.org
--
Dear Ricardo SIGNES,
This is a computer-generated report for String-Errf-0.007
on perl 5.16.3, created by CPAN-Reporter-1.2009.
Thank you for uploading your work to CPAN. Congratulations!
All tests were successful.
Sections of this report:
* Tester comments
* Program output
* Prerequisites
* Environment and other context
------------------------------
TESTER COMMENTS
------------------------------
Additional comments from tester:
none provided
------------------------------
PROGRAM OUTPUT
------------------------------
Output from '/usr/bin/make test':
PERL_DL_NONLAZY=1 /home/jm/perl5/perlbrew/perls/perl-5.16.3-thread-multi-ld/bin/perl5.16.3 "-MExtUtils::Command::MM" "-MTest::Harness" "-e" "undef *Test::Harness::Switches; test_harness(0, 'blib/lib', 'blib/arch')" t/*.t
#
#
# Generated by Dist::Zilla::Plugin::ReportVersions::Tiny v1.10
# perl: 5.016003 (wanted any version) on linux from /home/jm/perl5/perlbrew/perls/perl-5.16.3-thread-multi-ld/bin/perl5.16.3
#
# Carp => 1.32 (want any version)
# Date::Format => 2.24 (want any version)
# ExtUtils::MakeMaker => 6.82 (want 6.30)
# JSON => 2.90 (want 2)
# Params::Util => 1.07 (want any version)
# Scalar::Util => 1.35 (want any version)
# String::Formatter => 0.102084 (want 0.102081)
# Sub::Exporter => 0.987 (want any version)
# Test::More => 1.001002 (want 0.96)
# Time::Piece => 1.21 (want any version)
# autodie => 2.22 (want any version)
# parent => 0.228 (want any version)
# strict => 1.07 (want any version)
# warnings => 1.13 (want any version)
#
# Thanks for using my code. I hope it works for you.
# If not, please try and include this output in the bug report.
# That will help me reproduce the issue and solve your problem.
#
t/000-report-versions-tiny.t .. ok
t/bad.t ....................... ok
t/basic.t ..................... ok
All tests successful.
Files=3, Tests=5, 1 wallclock secs ( 0.10 usr 0.01 sys + 0.83 cusr 0.05 csys = 0.99 CPU)
Result: PASS
------------------------------
PREREQUISITES
------------------------------
Prerequisite modules loaded:
requires:
Module Need Have
------------------- -------- --------
Carp 0 1.32
Params::Util 0 1.07
parent 0 0.228
Scalar::Util 0 1.35
strict 0 1.07
String::Formatter 0.102081 0.102084
Sub::Exporter 0 0.987
Time::Piece 0 1.21
warnings 0 1.13
build_requires:
Module Need Have
------------------- -------- --------
autodie 0 2.22
Date::Format 0 2.24
JSON 2 2.90
Test::More 0.96 1.001002
configure_requires:
Module Need Have
------------------- -------- --------
ExtUtils::MakeMaker 6.30 6.82
------------------------------
ENVIRONMENT AND OTHER CONTEXT
------------------------------
Environment variables:
LANG = pl_PL.UTF-8
LC_COLLATE = pl_PL.UTF-8
LC_MESSAGES = POSIX
PATH = /home/jm/perl5/perlbrew/bin:/home/jm/perl5/perlbrew/perls/perl-5.16.3-thread-multi-ld/bin:/home/jm/perl5/perlbrew/bin:/usr/local/bin:/usr/bin:/bin:/usr/games:/usr/lib/java/bin:/usr/lib/java/jre/bin:/usr/lib/kde4/libexec:/usr/lib/qt/bin:.:.:/home/jm/usr/bin
PERL5LIB =
PERL5OPT =
PERL5_CPANPLUS_IS_RUNNING = 15013
PERL5_CPAN_IS_RUNNING = 15013
PERLBREW_BASHRC_VERSION = 0.66
PERLBREW_HOME = /home/jm/.perlbrew
PERLBREW_MANPATH = /home/jm/perl5/perlbrew/perls/perl-5.16.3-thread-multi-ld/man
PERLBREW_PATH = /home/jm/perl5/perlbrew/bin:/home/jm/perl5/perlbrew/perls/perl-5.16.3-thread-multi-ld/bin
PERLBREW_PERL = perl-5.16.3-thread-multi-ld
PERLBREW_ROOT = /home/jm/perl5/perlbrew
PERLBREW_VERSION = 0.66
SHELL = /bin/bash
TERM = xterm
Perl special variables (and OS-specific diagnostics, for MSWin32):
$^X = /home/jm/perl5/perlbrew/perls/perl-5.16.3-thread-multi-ld/bin/perl5.16.3
$UID/$EUID = 1000 / 1000
$GID = 100 6 10 17 18 19 83 84 93 94 100 1000
$EGID = 100 6 10 17 18 19 83 84 93 94 100 1000
Perl module toolchain versions installed:
Module Have
------------------- --------
CPAN 2.00
CPAN::Meta 2.132830
Cwd 3.40
ExtUtils::CBuilder 0.280212
ExtUtils::Command 1.18
ExtUtils::Install 1.58
ExtUtils::MakeMaker 6.82
ExtUtils::Manifest 1.63
ExtUtils::ParseXS 3.22
File::Spec 3.40
JSON 2.90
JSON::PP 2.27203
Module::Build 0.4202
Module::Signature n/a
Parse::CPAN::Meta 1.4409
Test::Harness 3.30
Test::More 1.001002
YAML 0.84
YAML::Syck 1.25
version 0.9904
--
Summary of my perl5 (revision 5 version 16 subversion 3) configuration:
Platform:
osname=linux, osvers=3.2.29-smp, archname=i686-linux-thread-multi-ld
uname='linux darkstar 3.2.29-smp #2 smp mon sep 17 13:16:43 cdt 2012 i686 intel(r) celeron(r) cpu 3.06ghz genuineintel gnulinux '
config_args='-de -Dprefix=/home/jm/perl5/perlbrew/perls/perl-5.16.3-thread-multi-ld -Dusemultiplicity -Dusethreads -Duseithreads -Dmad=y -Duselongdouble -Aeval:scriptdir=/home/jm/perl5/perlbrew/perls/perl-5.16.3-thread-multi-ld/bin'
hint=recommended, useposix=true, d_sigaction=define
useithreads=define, usemultiplicity=define
useperlio=define, d_sfio=undef, uselargefiles=define, usesocks=undef
use64bitint=undef, use64bitall=undef, uselongdouble=define
usemymalloc=n, bincompat5005=undef
Compiler:
cc='cc', ccflags ='-D_REENTRANT -D_GNU_SOURCE -fno-strict-aliasing -pipe -fstack-protector -I/usr/local/include -D_LARGEFILE_SOURCE -D_FILE_OFFSET_BITS=64',
optimize='-O2',
cppflags='-D_REENTRANT -D_GNU_SOURCE -fno-strict-aliasing -pipe -fstack-protector -I/usr/local/include'
ccversion='', gccversion='4.7.1', gccosandvers=''
intsize=4, longsize=4, ptrsize=4, doublesize=8, byteorder=1234
d_longlong=define, longlongsize=8, d_longdbl=define, longdblsize=12
ivtype='long', ivsize=4, nvtype='long double', nvsize=12, Off_t='off_t', lseeksize=8
alignbytes=4, prototype=define
Linker and Libraries:
ld='cc', ldflags =' -fstack-protector -L/usr/local/lib'
libpth=/usr/local/lib /lib /usr/lib
libs=-lnsl -lgdbm -ldb -ldl -lm -lcrypt -lutil -lpthread -lc
perllibs=-lnsl -ldl -lm -lcrypt -lutil -lpthread -lc
libc=/lib/libc-2.15.so, so=so, useshrplib=false, libperl=libperl.a
gnulibc_version='2.15'
Dynamic Linking:
dlsrc=dl_dlopen.xs, dlext=so, d_dlsymun=undef, ccdlflags='-Wl,-E'
cccdlflags='-fPIC', lddlflags='-shared -O2 -L/usr/local/lib -fstack-protector'
Characteristics of this binary (from libperl):
Compile-time options: HAS_TIMES MULTIPLICITY PERLIO_LAYERS
PERL_DONT_CREATE_GVSV PERL_IMPLICIT_CONTEXT PERL_MAD
PERL_MALLOC_WRAP PERL_PRESERVE_IVUV USE_ITHREADS
USE_LARGE_FILES USE_LOCALE USE_LOCALE_COLLATE
USE_LOCALE_CTYPE USE_LOCALE_NUMERIC USE_LONG_DOUBLE
USE_PERLIO USE_PERL_ATOF USE_REENTRANT_API
Built under linux
Compiled at Mar 24 2013 09:06:31
%ENV:
PERL5LIB=""
PERL5OPT=""
PERL5_CPANPLUS_IS_RUNNING="15013"
PERL5_CPAN_IS_RUNNING="15013"
PERLBREW_BASHRC_VERSION="0.66"
PERLBREW_HOME="/home/jm/.perlbrew"
PERLBREW_MANPATH="/home/jm/perl5/perlbrew/perls/perl-5.16.3-thread-multi-ld/man"
PERLBREW_PATH="/home/jm/perl5/perlbrew/bin:/home/jm/perl5/perlbrew/perls/perl-5.16.3-thread-multi-ld/bin"
PERLBREW_PERL="perl-5.16.3-thread-multi-ld"
PERLBREW_ROOT="/home/jm/perl5/perlbrew"
PERLBREW_VERSION="0.66"
@INC:
/home/jm/perl5/perlbrew/perls/perl-5.16.3-thread-multi-ld/lib/site_perl/5.16.3/i686-linux-thread-multi-ld
/home/jm/perl5/perlbrew/perls/perl-5.16.3-thread-multi-ld/lib/site_perl/5.16.3
/home/jm/perl5/perlbrew/perls/perl-5.16.3-thread-multi-ld/lib/5.16.3/i686-linux-thread-multi-ld
/home/jm/perl5/perlbrew/perls/perl-5.16.3-thread-multi-ld/lib/5.16.3
.