Tcl-pTk v1.08_02 Perl 5 v5.28.2 x86_64-linux
- Status
- Pass
- From
- Slaven Rezić
- Dist
-
Tcl-pTk v1.08_02
- Platform
- Perl 5 v5.28.2 x86_64-linux
- Date
- 2021-04-05 02:16:11
- ID
- e427a396-95b4-11eb-96c5-ab3e1f24ea8f
This distribution has been tested as part of the CPAN Testers
project, supporting the Perl programming language. See
http://wiki.cpantesters.org/ for more information or email
questions to cpan-testers-discuss@perl.org
--
Dear Christopher Alexander Chavez,
This is a computer-generated report for Tcl-pTk-1.08_02
on perl 5.28.2, created by CPAN-Reporter-1.2018.
Thank you for uploading your work to CPAN. Congratulations!
All tests were successful.
Sections of this report:
* Tester comments
* Program output
* Prerequisites
* Environment and other context
------------------------------
TESTER COMMENTS
------------------------------
Additional comments from tester:
none provided
------------------------------
PROGRAM OUTPUT
------------------------------
Output from '/usr/bin/make test':
PERL_DL_NONLAZY=1 "/opt/perl-5.28.2/bin/perl" "-MExtUtils::Command::MM" "-MTest::Harness" "-e" "undef *Test::Harness::Switches; test_harness(0, 'blib/lib', 'blib/arch')" t/*.t
t/after.t ..................... ok
t/afterDestroy.t .............. ok
t/afterIdle.t ................. ok
t/balloon.t ................... ok
Balloon should appear over 'Balloon Text' button
t/balloon2.t .................. ok
t/bgerror1.t .................. ok
t/bgerror2.t .................. ok
Error Dialog Should Show. This is expected
t/bgerror3.t .................. ok
t/bind.t ...................... ok
t/bindBreak.t ................. ok
t/bitmapSubClass.t ............ ok
t/browseEntry.t ............... ok
t/browseEntry2.t .............. ok
t/busy.t ...................... ok
t/callback.t .................. ok
t/callbackSet.t ............... ok
t/canFind.t ................... ok
t/canIndex.t .................. ok
t/canScale.t .................. ok
t/canvasFocusBusy.t ........... ok
t/checkradio.t ................ ok
t/cleanupCrashTest.t .......... ok
t/command.t ................... ok
t/configureReturn.t ........... ok
t/dialog.t .................... ok
t/dialogBox.t ................. ok
t/dialogBoxGeom.t ............. ok
t/dirtree.t ................... skipped: Tix Tcl package not available
t/dndlocal.t .................. ok
t/emptyMenuButtonSubclass.t ... ok
t/emptyMenuSubclass.t ......... ok
t/emptySubclass.t ............. ok
t/entry.t ..................... ok
t/entryPaste.t ................ ok
t/entryValidate.t ............. ok
t/fileevent.t ................. skipped: fileevent is unavailable, reason: Can't locate sys/ioctl.ph in @INC (did you run h2ph?) (@INC contains: /home/cpansand/.cpan/build/2021040502/Tcl-pTk-1.08_02-2/blib/lib /home/cpansand/.cpan/build/2021040502/Tcl-pTk-1.08_02-2/blib/arch /home/cpansand/.local/share/.cpan/build/2021040502/Sub-Exporter-ForMethods-0.100053-2/blib/arch /home/cpansand/.local/share/.cpan/build/2021040502/Sub-Exporter-ForMethods-0.100053-2/blib/lib /home/cpansand/.local/share/.cpan/build/2021040502/LINQ-0.000_004-2/blib/arch /home/cpansand/.local/share/.cpan/build/2021040502/LINQ-0.000_004-2/blib/lib /home/cpansand/.local/share/.cpan/build/2021040502/Sub-Exporter-ForMethods-0.100053-2/blib/arch /home/cpansand/.local/share/.cpan/build/2021040502/Sub-Exporter-ForMethods-0.100053-2/blib/lib /home/cpansand/.local/share/.cpan/build/2021040502/LINQ-0.000_004-2/blib/arch /home/cpansand/.local/share/.cpan/build/2021040502/LINQ-0.000_004-2/blib/lib /opt/perl-5.28.2/lib/site_perl/5.28.2/x86_64-linux /opt/perl-5.28.2/lib/site_perl/5.28.2 /opt/perl-5.28.2/lib/5.28.2/x86_64-linux /opt/perl-5.28.2/lib/5.28.2 .) at /home/cpansand/.cpan/build/2021040502/Tcl-pTk-1.08_02-2/blib/lib/Tcl/pTk/Widget.pm line 2154.
t/fileevent2.t ................ skipped: fileevent is unavailable, reason: Can't locate sys/ioctl.ph in @INC (did you run h2ph?) (@INC contains: /home/cpansand/.cpan/build/2021040502/Tcl-pTk-1.08_02-2/blib/lib /home/cpansand/.cpan/build/2021040502/Tcl-pTk-1.08_02-2/blib/arch /home/cpansand/.local/share/.cpan/build/2021040502/Sub-Exporter-ForMethods-0.100053-2/blib/arch /home/cpansand/.local/share/.cpan/build/2021040502/Sub-Exporter-ForMethods-0.100053-2/blib/lib /home/cpansand/.local/share/.cpan/build/2021040502/LINQ-0.000_004-2/blib/arch /home/cpansand/.local/share/.cpan/build/2021040502/LINQ-0.000_004-2/blib/lib /home/cpansand/.local/share/.cpan/build/2021040502/Sub-Exporter-ForMethods-0.100053-2/blib/arch /home/cpansand/.local/share/.cpan/build/2021040502/Sub-Exporter-ForMethods-0.100053-2/blib/lib /home/cpansand/.local/share/.cpan/build/2021040502/LINQ-0.000_004-2/blib/arch /home/cpansand/.local/share/.cpan/build/2021040502/LINQ-0.000_004-2/blib/lib /opt/perl-5.28.2/lib/site_perl/5.28.2/x86_64-linux /opt/perl-5.28.2/lib/site_perl/5.28.2 /opt/perl-5.28.2/lib/5.28.2/x86_64-linux /opt/perl-5.28.2/lib/5.28.2 .) at /home/cpansand/.cpan/build/2021040502/Tcl-pTk-1.08_02-2/blib/lib/Tcl/pTk/Widget.pm line 2154.
t/focusMethods.t .............. ok
t/font.t ...................... ok
t/font2.t ..................... ok
t/fontAttr.t .................. ok
t/frameForeground.t ........... ok
t/geomgr.t .................... ok
t/hlist.t ..................... skipped: Tix Tcl package not available
t/iconimage.t ................. ok
t/imageLoad.t ................. skipped: Tix Tcl package not available
t/itemStyle.t ................. skipped: Tix Tcl package not available
t/labEntry.t .................. ok
t/labEntryFacelift.t .......... ok
t/labEntryParentChild.t ....... ok
t/libLoad.t ................... skipped: Tix Tcl package not available
t/listbox.t ................... ok
t/mainloopMult.t .............. ok
t/menub-cascade.t ............. ok
t/menub_newMenu.t ............. ok
t/menubarpath.t ............... ok
t/menuitems.t ................. ok
t/messageBox.t ................ ok
t/moveResizeWindow.t .......... ok
t/moveToplevelWindow.t ........ ok
t/multMainWindow1.t ........... ok
t/multMainWindow2.t ........... ok
t/notebook.t .................. skipped: Tix Tcl package not available
t/notebook2.t ................. skipped: Tix Tcl package not available
t/onDestroy.t ................. ok
t/optmenu.t ................... ok
t/palette.t ................... ok
t/pane.t ...................... skipped: BWidget Tcl package not available
t/patchTk.t ................... skipped: Not using Aqua Tk
t/photoGetImage.t ............. skipped: no Img extension available (can't find package Img at /home/cpansand/.cpan/build/2021040502/Tcl-pTk-1.08_02-2/blib/lib/Tcl/pTk.pm line 1206.
t/photoImg.t .................. skipped: Tk Img extension not found
t/photoSubClass.t ............. ok
t/photoTk.t ................... ok
t/progBar.t ................... ok
t/protocol.t .................. ok
t/ptk-compat.t ................ ok
t/ptk-compat2.t ............... ok
t/repeat.t .................... ok
t/repeatSubReuse.t ............ ok
t/rt125058.t .................. ok
t/scrolled.t .................. ok
t/scrolledOptional.t .......... ok
t/selection.t ................. ok
t/slideMegaWidget.t ........... ok
t/slideMegaWidget2.t .......... ok
t/spreadsheetHideRows.t ....... skipped: Tktable Tcl package not available
t/table.t ..................... skipped: Tktable Tcl package not available
t/tableFacelift.t ............. skipped: Tktable Tcl package not available
t/tableMatrixCallbacks.t ...... skipped: Tktable Tcl package not available
t/tableMatrixCleanup.t ........ skipped: Tktable Tcl package not available
t/tableMatrixDebug.t .......... skipped: Tktable Tcl package not available
t/tableMatrixSpreadsheet.t .... skipped: Tktable Tcl package not available
t/tclVersion.t ................ ok
t/text.t ...................... ok
t/text2-old.t ................. ok
t/text2.t ..................... ok
t/text3.t ..................... ok
t/textEdit.t .................. ok
t/textRO.t .................... ok
t/textSubwidget.t ............. ok
t/textUndo.t .................. ok
t/tileLabelFont.t ............. ok
t/tileTree.t .................. ok
t/tileWidget.t ................ ok
t/tixTree.t ................... skipped: Tix Tcl package not available
t/tk-mw.t ..................... ok
t/tkFacelift_BEsubclass.t ..... ok
t/tkFacelift_browseEntry.t .... ok
t/tkFacelift_frameSubclass.t .. ok
t/tkFacelift_mega1.t .......... ok
t/tkFacelift_notebook.t ....... ok
t/tkFacelift_simple.t ......... skipped: Tix Tcl package not available
t/tkHijack_BEsubclass.t ....... ok
t/tkHijack_bgerror1.t ......... ok
t/tkHijack_bgerror2.t ......... ok
t/tkHijack_bgerror3.t ......... ok
t/tkHijack_mega1.t ............ ok
t/tkHijack_simple.t ........... skipped: Tix Tcl package not available
t/tkHijack_spreadsheet.t ...... skipped: Tktable Tcl package not available
t/trace.t ..................... ok
t/tree.t ...................... skipped: Tix Tcl package not available
t/ttkBrowseEntry.t ............ ok
t/ttkEntryValidate.t .......... ok
t/ttkTixNoteBook.t ............ ok
t/unicode.t ................... ok
t/virtualEv.t ................. ok
t/widgetDelete.t .............. ok
t/widgetName.t ................ ok
t/wmForget.t .................. ok
t/wmStackorder.t .............. ok
t/xevent.t .................... ok
t/zzPhoto.t ................... skipped: no Img extension available
All tests successful.
Test Summary Report
-------------------
t/font.t (Wstat: 0 Tests: 13 Failed: 0)
TODO passed: 11
t/fontAttr.t (Wstat: 0 Tests: 8 Failed: 0)
TODO passed: 1-8
t/wmStackorder.t (Wstat: 0 Tests: 10 Failed: 0)
TODO passed: 1-10
Files=132, Tests=472, 150 wallclock secs ( 0.28 usr 0.77 sys + 9.88 cusr 3.99 csys = 14.92 CPU)
Result: PASS
------------------------------
PREREQUISITES
------------------------------
Prerequisite modules loaded:
requires:
Module Need Have
------------------- ----- --------
Class::ISA 0.36 0.36
perl 5.008 5.028002
Sub::Name 0.05 0.26
Tcl 0.90 1.27
Time::HiRes 0 1.9764
build_requires:
Module Need Have
------------------- ----- --------
ExtUtils::MakeMaker 0 7.60
configure_requires:
Module Need Have
------------------- ----- --------
ExtUtils::MakeMaker 0 7.60
------------------------------
ENVIRONMENT AND OTHER CONTEXT
------------------------------
Environment variables:
LANG = C
PATH = /usr/local/bin:/usr/bin:/bin:/usr/local/sbin:/usr/sbin:/sbin:/home/cpansand/bin/linux-gnu:/home/cpansand/bin/sh:/home/cpansand/bin:/usr/games:/home/cpansand/devel:/home/eserte/src/srezic-misc/scripts
PERL5LIB = /home/cpansand/.local/share/.cpan/build/2021040502/Sub-Exporter-ForMethods-0.100053-2/blib/arch:/home/cpansand/.local/share/.cpan/build/2021040502/Sub-Exporter-ForMethods-0.100053-2/blib/lib:/home/cpansand/.local/share/.cpan/build/2021040502/LINQ-0.000_004-2/blib/arch:/home/cpansand/.local/share/.cpan/build/2021040502/LINQ-0.000_004-2/blib/lib
PERL5OPT =
PERL5_CPANPLUS_IS_RUNNING = 7245
PERL5_CPAN_IS_RUNNING = 7245
PERL5_CPAN_IS_RUNNING_IN_RECURSION = 5234,7245
PERLDOC = -MPod::Perldoc::ToTextOverstrike
PERL_BATCH = yes
PERL_CANARY_STABILITY_NOPROMPT = 1
PERL_CPAN_REPORTER_CONFIG = /var/tmp/cpansmoker-1023/2021040502/cpanreporter_000_config.ini
PERL_EXTUTILS_AUTOINSTALL = --defaultdeps
PERL_USE_UNSAFE_INC = 1
SHELL = /usr/bin/zsh
TERM = screen
TMPDIR = /var/tmp/cpansmoker-1023/2021040502
Perl special variables (and OS-specific diagnostics, for MSWin32):
$^X = /opt/perl-5.28.2/bin/perl
$UID/$EUID = 1023 / 1023
$GID = 1023 1023
$EGID = 1023 1023
Perl module toolchain versions installed:
Module Have
------------------- --------
CPAN 2.28
CPAN::Meta 2.150010
Cwd 3.75
ExtUtils::CBuilder 0.280236
ExtUtils::Command 7.60
ExtUtils::Install 2.20
ExtUtils::MakeMaker 7.60
ExtUtils::Manifest 1.73
ExtUtils::ParseXS 3.39
File::Spec 3.75
JSON 4.03
JSON::PP 4.06
Module::Build 0.4231
Module::Signature 0.87
Parse::CPAN::Meta 2.150010
Test::Harness 3.42
Test::More 1.302183
YAML 1.30
YAML::Syck 1.34
version 0.9928
--
Summary of my perl5 (revision 5 version 28 subversion 2) configuration:
Platform:
osname=linux
osvers=4.9.0-9-amd64
archname=x86_64-linux
uname='linux debian9 4.9.0-9-amd64 #1 smp debian 4.9.168-1+deb9u4 (2019-07-19) x86_64 gnulinux '
config_args='-ds -e -Dprefix=/opt/perl-5.28.2 -Dcf_email=srezic@cpan.org'
hint=recommended
useposix=true
d_sigaction=define
useithreads=undef
usemultiplicity=undef
use64bitint=define
use64bitall=define
uselongdouble=undef
usemymalloc=n
default_inc_excludes_dot=define
bincompat5005=undef
Compiler:
cc='cc'
ccflags ='-fwrapv -fno-strict-aliasing -pipe -fstack-protector-strong -I/usr/local/include -D_LARGEFILE_SOURCE -D_FILE_OFFSET_BITS=64 -D_FORTIFY_SOURCE=2'
optimize='-O2'
cppflags='-fwrapv -fno-strict-aliasing -pipe -fstack-protector-strong -I/usr/local/include'
ccversion=''
gccversion='6.3.0 20170516'
gccosandvers=''
intsize=4
longsize=8
ptrsize=8
doublesize=8
byteorder=12345678
doublekind=3
d_longlong=define
longlongsize=8
d_longdbl=define
longdblsize=16
longdblkind=3
ivtype='long'
ivsize=8
nvtype='double'
nvsize=8
Off_t='off_t'
lseeksize=8
alignbytes=8
prototype=define
Linker and Libraries:
ld='cc'
ldflags =' -fstack-protector-strong -L/usr/local/lib'
libpth=/usr/local/lib /usr/lib/gcc/x86_64-linux-gnu/6/include-fixed /usr/include/x86_64-linux-gnu /usr/lib /lib/x86_64-linux-gnu /lib/../lib /usr/lib/x86_64-linux-gnu /usr/lib/../lib /lib
libs=-lpthread -lnsl -ldl -lm -lcrypt -lutil -lc
perllibs=-lpthread -lnsl -ldl -lm -lcrypt -lutil -lc
libc=libc-2.24.so
so=so
useshrplib=false
libperl=libperl.a
gnulibc_version='2.24'
Dynamic Linking:
dlsrc=dl_dlopen.xs
dlext=so
d_dlsymun=undef
ccdlflags='-Wl,-E'
cccdlflags='-fPIC'
lddlflags='-shared -O2 -L/usr/local/lib -fstack-protector-strong'
Characteristics of this binary (from libperl):
Compile-time options:
HAS_TIMES
PERLIO_LAYERS
PERL_COPY_ON_WRITE
PERL_DONT_CREATE_GVSV
PERL_MALLOC_WRAP
PERL_OP_PARENT
PERL_PRESERVE_IVUV
USE_64_BIT_ALL
USE_64_BIT_INT
USE_LARGE_FILES
USE_LOCALE
USE_LOCALE_COLLATE
USE_LOCALE_CTYPE
USE_LOCALE_NUMERIC
USE_LOCALE_TIME
USE_PERLIO
USE_PERL_ATOF
Built under linux
Compiled at Aug 6 2019 09:45:11
%ENV:
PERL5LIB="/home/cpansand/.local/share/.cpan/build/2021040502/Sub-Exporter-ForMethods-0.100053-2/blib/arch:/home/cpansand/.local/share/.cpan/build/2021040502/Sub-Exporter-ForMethods-0.100053-2/blib/lib:/home/cpansand/.local/share/.cpan/build/2021040502/LINQ-0.000_004-2/blib/arch:/home/cpansand/.local/share/.cpan/build/2021040502/LINQ-0.000_004-2/blib/lib"
PERL5OPT=""
PERL5_CPANPLUS_IS_RUNNING="7245"
PERL5_CPAN_IS_RUNNING="7245"
PERL5_CPAN_IS_RUNNING_IN_RECURSION="5234,7245"
PERLDOC="-MPod::Perldoc::ToTextOverstrike"
PERL_BATCH="yes"
PERL_CANARY_STABILITY_NOPROMPT="1"
PERL_CPAN_REPORTER_CONFIG="/var/tmp/cpansmoker-1023/2021040502/cpanreporter_000_config.ini"
PERL_EXTUTILS_AUTOINSTALL="--defaultdeps"
PERL_USE_UNSAFE_INC="1"
@INC:
/home/cpansand/.local/share/.cpan/build/2021040502/Sub-Exporter-ForMethods-0.100053-2/blib/arch
/home/cpansand/.local/share/.cpan/build/2021040502/Sub-Exporter-ForMethods-0.100053-2/blib/lib
/home/cpansand/.local/share/.cpan/build/2021040502/LINQ-0.000_004-2/blib/arch
/home/cpansand/.local/share/.cpan/build/2021040502/LINQ-0.000_004-2/blib/lib
/opt/perl-5.28.2/lib/site_perl/5.28.2/x86_64-linux
/opt/perl-5.28.2/lib/site_perl/5.28.2
/opt/perl-5.28.2/lib/5.28.2/x86_64-linux
/opt/perl-5.28.2/lib/5.28.2
.