HTML-Strip v2.12 Perl 5 v5.41.11 x86_64-linux
- Status
- Pass
- From
- Carlos Guevara
- Dist
-
HTML-Strip v2.12
- Platform
- Perl 5 v5.41.11 x86_64-linux
- Date
- 2025-04-03 18:03:05
- ID
- e4287a48-10b5-11f0-99de-c536b08ddccd
This distribution has been tested as part of the CPAN Testers
project, supporting the Perl programming language. See
http://wiki.cpantesters.org/ for more information or email
questions to cpan-testers-discuss@perl.org
--
Dear Alex Bowley,
This is a computer-generated report for HTML-Strip-2.12
on perl 5.41.11, created by CPAN-Reporter-1.2020.
Thank you for uploading your work to CPAN. Congratulations!
All tests were successful.
Sections of this report:
* Tester comments
* Program output
* Prerequisites
* Environment and other context
------------------------------
TESTER COMMENTS
------------------------------
Additional comments from tester:
this report is from an automated smoke testing program
and was not reviewed by a human for accuracy
------------------------------
PROGRAM OUTPUT
------------------------------
Output from '/usr/bin/make test':
"/home/cpan/bin/perl/bin/perl5.41.11" -MExtUtils::Command::MM -e 'cp_nonempty' -- Strip.bs blib/arch/auto/HTML/Strip/Strip.bs 644
PERL_DL_NONLAZY=1 "/home/cpan/bin/perl/bin/perl5.41.11" "-MExtUtils::Command::MM" "-MTest::Harness" "-e" "undef *Test::Harness::Switches; test_harness(0, 'blib/lib', 'blib/arch')" t/*.t
t/001_smoke.t ....................... ok
t/100_basic.t ....................... ok
t/200_comment.t ..................... ok
t/210_auto_reset.t .................. ok
t/220_edge_case.t ................... ok
t/230_filter.t ...................... ok
t/240_striptags.t ................... ok
t/250_whitespace_single_char.t ...... ok
t/260_offbyone.t .................... ok
t/270_mathematical_comparisons.t .... ok
t/280_invalid_multiline_segfault.t .. ok
t/300_utf8.t ........................ ok
t/310_latin1.t ...................... ok
t/400_kwalitee.t .................... skipped: these tests are for release candidate testing
t/410_pod.t ......................... ok
t/420_pod_coverage.t ................ ok
All tests successful.
Test Summary Report
-------------------
t/300_utf8.t (Wstat: 0 Tests: 5 Failed: 0)
TODO passed: 5
Files=16, Tests=40, 1 wallclock secs ( 0.04 usr 0.01 sys + 0.56 cusr 0.11 csys = 0.72 CPU)
Result: PASS
------------------------------
PREREQUISITES
------------------------------
Prerequisite modules loaded:
requires:
Module Need Have
------------------- ----- --------
Carp 0 1.54
DynaLoader 0 1.57
perl 5.008 5.041011
strict 0 1.13
Test::Exception 0 0.43
Test::More 0 1.302210
warnings 0 1.74
build_requires:
Module Need Have
------------------- ----- --------
ExtUtils::MakeMaker 0 7.72
configure_requires:
Module Need Have
------------------- ----- --------
ExtUtils::MakeMaker 0 7.72
------------------------------
ENVIRONMENT AND OTHER CONTEXT
------------------------------
Environment variables:
AUTOMATED_TESTING = 1
DATE_MANIP_TEST_DM5 = 1
LANG = en_US.UTF-8
LC_ALL = C
LC_COLLATE = C
NONINTERACTIVE_TESTING = 1
NO_NETWORK_TESTING = 1
PATH = /home/cpan/bin/perl/bin:/home/cpan/bin:/home/cpan/bin:/usr/local/sbin:/usr/local/bin:/usr/bin:/usr/sbin:/sbin:/bin
PERL5LIB =
PERL5OPT =
PERL5_CPANPLUS_IS_RUNNING = 11043
PERL5_CPAN_IS_RUNNING = 11043
PERL_MM_USE_DEFAULT = 1
PERL_USE_UNSAFE_INC = 1
SHELL = /bin/bash
TERM = screen
TMPDIR = /home/cpan/tmp
Perl special variables (and OS-specific diagnostics, for MSWin32):
$^X = /home/cpan/bin/perl/bin/perl5.41.11
$UID/$EUID = 1001 / 1001
$GID = 1001 1001
$EGID = 1001 1001
Perl module toolchain versions installed:
Module Have
------------------- --------
CPAN 2.38
CPAN::Meta 2.150010
Cwd 3.94
ExtUtils::CBuilder 0.280240
ExtUtils::Command 7.72
ExtUtils::Install 2.22
ExtUtils::MakeMaker 7.72
ExtUtils::Manifest 1.75
ExtUtils::ParseXS 3.57
File::Spec 3.94
JSON 4.10
JSON::PP 4.16
Module::Build 0.4234
Module::Signature n/a
Parse::CPAN::Meta 2.150010
Test2 1.302210
Test::Harness 3.50
Test::More 1.302210
YAML 1.31
YAML::Syck 1.34
version 0.9933
--
Summary of my perl5 (revision 5 version 41 subversion 11) configuration:
Commit id: cc9354be892f03e6ac0769f7d6f19897766b06e0
Platform:
osname=linux
osvers=6.12.21_1
archname=x86_64-linux
uname='linux cjg-void 6.12.21_1 #1 smp preempt_dynamic sun mar 30 03:01:12 utc 2025 x86_64 gnulinux '
config_args='-des -Dprefix=/home/cpan/bin/perl -Dscriptdir=/home/cpan/bin/perl/bin -Dusedevel -Duse64bitall'
hint=recommended
useposix=true
d_sigaction=define
useithreads=undef
usemultiplicity=undef
use64bitint=define
use64bitall=define
uselongdouble=undef
usemymalloc=n
default_inc_excludes_dot=define
Compiler:
cc='cc'
ccflags ='-D_GNU_SOURCE -fwrapv -fno-strict-aliasing -pipe -fstack-protector-strong -I/usr/local/include -D_LARGEFILE_SOURCE -D_FILE_OFFSET_BITS=64 -D_FORTIFY_SOURCE=2'
optimize='-O2'
cppflags='-D_GNU_SOURCE -fwrapv -fno-strict-aliasing -pipe -fstack-protector-strong -I/usr/local/include'
ccversion=''
gccversion='13.2.0'
gccosandvers=''
intsize=4
longsize=8
ptrsize=8
doublesize=8
byteorder=12345678
doublekind=3
d_longlong=define
longlongsize=8
d_longdbl=define
longdblsize=16
longdblkind=3
ivtype='long'
ivsize=8
nvtype='double'
nvsize=8
Off_t='off_t'
lseeksize=8
alignbytes=8
prototype=define
Linker and Libraries:
ld='cc'
ldflags =' -fstack-protector-strong -L/usr/local/lib'
libpth=/usr/local/lib /usr/lib
libs=-lpthread -ldb -ldl -lm -lcrypt -lutil -lc
perllibs=-lpthread -ldl -lm -lcrypt -lutil -lc
libc=/lib/../lib64/libc.so
so=so
useshrplib=false
libperl=libperl.a
gnulibc_version=''
Dynamic Linking:
dlsrc=dl_dlopen.xs
dlext=so
d_dlsymun=undef
ccdlflags='-Wl,-E'
cccdlflags='-fPIC'
lddlflags='-shared -O2 -L/usr/local/lib -fstack-protector-strong'
Characteristics of this binary (from libperl):
Compile-time options:
HAS_LONG_DOUBLE
HAS_STRTOLD
HAS_TIMES
PERLIO_LAYERS
PERL_COPY_ON_WRITE
PERL_DONT_CREATE_GVSV
PERL_HASH_FUNC_SIPHASH13
PERL_HASH_USE_SBOX32
PERL_MALLOC_WRAP
PERL_OP_PARENT
PERL_PRESERVE_IVUV
PERL_USE_DEVEL
PERL_USE_SAFE_PUTENV
USE_64_BIT_ALL
USE_64_BIT_INT
USE_LARGE_FILES
USE_LOCALE
USE_LOCALE_COLLATE
USE_LOCALE_CTYPE
USE_LOCALE_NUMERIC
USE_LOCALE_TIME
USE_PERLIO
USE_PERL_ATOF
Built under linux
Compiled at Apr 3 2025 08:30:07
%ENV:
PERL5LIB=""
PERL5OPT=""
PERL5_CPANPLUS_IS_RUNNING="11043"
PERL5_CPAN_IS_RUNNING="11043"
PERL_MM_USE_DEFAULT="1"
PERL_USE_UNSAFE_INC="1"
@INC:
/home/cpan/bin/perl/lib/site_perl/5.41.11/x86_64-linux
/home/cpan/bin/perl/lib/site_perl/5.41.11
/home/cpan/bin/perl/lib/5.41.11/x86_64-linux
/home/cpan/bin/perl/lib/5.41.11
.