HTTP-AnyUA v0.904 Perl 5 v5.32.0 i686-linux
- Status
- Pass
- From
- David Cantrell (DCANTRELL)
- Dist
-
HTTP-AnyUA v0.904
- Platform
- Perl 5 v5.32.0 i686-linux
- Date
- 2022-03-30 13:39:58
- ID
- e440deb6-b02e-11ec-9889-7a53b48d331b
This distribution has been tested as part of the CPAN Testers
project, supporting the Perl programming language. See
http://wiki.cpantesters.org/ for more information or email
questions to cpan-testers-discuss@perl.org
--
Dear Charles McGarvey,
This is a computer-generated report for HTTP-AnyUA-0.904
on perl 5.32.0, created by CPAN-Reporter-1.2018.
Thank you for uploading your work to CPAN. Congratulations!
All tests were successful.
Sections of this report:
* Tester comments
* Program output
* Prerequisites
* Environment and other context
------------------------------
TESTER COMMENTS
------------------------------
Additional comments from tester:
this report is from an automated smoke testing program
and was not reviewed by a human for accuracy
------------------------------
PROGRAM OUTPUT
------------------------------
Output from '/usr/bin/make test':
PERL_DL_NONLAZY=1 "/home/david/cpantesting/perl-5.32.0/bin/perl" "-MExtUtils::Command::MM" "-MTest::Harness" "-e" "undef *Test::Harness::Switches; test_harness(0, 'blib/lib', 'blib/arch')" t/*.t
t/00-compile.t ..................... ok
#
# Versions for all modules listed in MYMETA.json (including optional ones):
#
# === Configure Requires ===
#
# Module Want Have
# ------------------- ---- ----
# ExtUtils::MakeMaker any 7.44
#
# === Build Requires ===
#
# Module Want Have
# ------------------- ---- ----
# ExtUtils::MakeMaker any 7.44
#
# === Test Requires ===
#
# Module Want Have
# ------------------- ---- --------
# ExtUtils::MakeMaker any 7.44
# File::Spec any 3.78
# IO::Handle any 1.42
# IPC::Open3 any 1.21
# Test2::API any 1.302190
# Test::Exception any 0.43
# Test::More any 1.302190
# lib any 0.65
# namespace::clean any 0.27
#
# === Test Recommends ===
#
# Module Want Have
# ---------- -------- --------
# CPAN::Meta 2.120900 2.150010
#
# === Test Suggests ===
#
# Module Want Have
# --------------- ---- -------
# AnyEvent::HTTP any missing
# Furl any missing
# HTTP::Tiny any 0.076
# JSON any 4.05
# LWP::UserAgent any 6.61
# Mojo::UserAgent any missing
# Net::Curl::Easy any missing
# Plack::Runner any missing
# Starman any missing
#
# === Runtime Requires ===
#
# Module Want Have
# -------------- ---- ------
# Carp any 1.50
# Exporter any 5.74
# Fcntl any 1.13
# Future any 0.48
# MIME::Base64 any 3.15
# Module::Loader any 0.04
# Scalar::Util any 1.62
# Time::HiRes any 1.9764
# Time::Local any 1.28
# bytes any 1.07
# parent any 0.238
# strict any 1.11
# warnings any 1.47
#
# === Runtime Recommends ===
#
# Module Want Have
# ---------- ---- -----
# HTTP::Tiny any 0.076
#
t/00-report-prereqs.t .............. ok
t/01-new.t ......................... ok
t/02-shortcuts.t ................... ok
t/03-post_form.t ................... ok
# Can't locate AnyEvent/HTTP.pm in @INC (you may need to install the AnyEvent::HTTP module) (@INC contains: t/lib /home/david/cpantesting/perl-5.32.0/.cpan/build/HTTP-AnyUA-0.904-0/blib/lib /home/david/cpantesting/perl-5.32.0/.cpan/build/HTTP-AnyUA-0.904-0/blib/arch /home/david/cpantesting/perl-5.32.0/lib/site_perl/5.32.0/i686-linux /home/david/cpantesting/perl-5.32.0/lib/site_perl/5.32.0 /home/david/cpantesting/perl-5.32.0/lib/5.32.0/i686-linux /home/david/cpantesting/perl-5.32.0/lib/5.32.0) at (eval 41) line 1.
# Can't locate Furl.pm in @INC (you may need to install the Furl module) (@INC contains: t/lib /home/david/cpantesting/perl-5.32.0/.cpan/build/HTTP-AnyUA-0.904-0/blib/lib /home/david/cpantesting/perl-5.32.0/.cpan/build/HTTP-AnyUA-0.904-0/blib/arch /home/david/cpantesting/perl-5.32.0/lib/site_perl/5.32.0/i686-linux /home/david/cpantesting/perl-5.32.0/lib/site_perl/5.32.0 /home/david/cpantesting/perl-5.32.0/lib/5.32.0/i686-linux /home/david/cpantesting/perl-5.32.0/lib/5.32.0) at (eval 42) line 1.
Use of uninitialized value in numeric eq (==) at /home/david/cpantesting/perl-5.32.0/lib/5.32.0/HTTP/Tiny.pm line 615.
Use of uninitialized value $port in numeric eq (==) at /home/david/cpantesting/perl-5.32.0/lib/5.32.0/HTTP/Tiny.pm line 615.
# Can't locate Mojo/UserAgent.pm in @INC (you may need to install the Mojo::UserAgent module) (@INC contains: t/lib /home/david/cpantesting/perl-5.32.0/.cpan/build/HTTP-AnyUA-0.904-0/blib/lib /home/david/cpantesting/perl-5.32.0/.cpan/build/HTTP-AnyUA-0.904-0/blib/arch /home/david/cpantesting/perl-5.32.0/lib/site_perl/5.32.0/i686-linux /home/david/cpantesting/perl-5.32.0/lib/site_perl/5.32.0 /home/david/cpantesting/perl-5.32.0/lib/5.32.0/i686-linux /home/david/cpantesting/perl-5.32.0/lib/5.32.0) at (eval 64) line 1.
# Can't locate Net/Curl/Easy.pm in @INC (you may need to install the Net::Curl::Easy module) (@INC contains: t/lib /home/david/cpantesting/perl-5.32.0/.cpan/build/HTTP-AnyUA-0.904-0/blib/lib /home/david/cpantesting/perl-5.32.0/.cpan/build/HTTP-AnyUA-0.904-0/blib/arch /home/david/cpantesting/perl-5.32.0/lib/site_perl/5.32.0/i686-linux /home/david/cpantesting/perl-5.32.0/lib/site_perl/5.32.0 /home/david/cpantesting/perl-5.32.0/lib/5.32.0/i686-linux /home/david/cpantesting/perl-5.32.0/lib/5.32.0) at (eval 65) line 1.
t/04-internal-exception.t .......... ok
# Can't locate Plack/Runner.pm in @INC (you may need to install the Plack::Runner module) (@INC contains: t/lib /home/david/cpantesting/perl-5.32.0/.cpan/build/HTTP-AnyUA-0.904-0/blib/lib /home/david/cpantesting/perl-5.32.0/.cpan/build/HTTP-AnyUA-0.904-0/blib/arch /home/david/cpantesting/perl-5.32.0/lib/site_perl/5.32.0/i686-linux /home/david/cpantesting/perl-5.32.0/lib/site_perl/5.32.0 /home/david/cpantesting/perl-5.32.0/lib/5.32.0/i686-linux /home/david/cpantesting/perl-5.32.0/lib/5.32.0) at t/lib/Server.pm line 20.
# BEGIN failed--compilation aborted at t/lib/Server.pm line 20.
# Compilation failed in require at (eval 41) line 1.
# BEGIN failed--compilation aborted at (eval 41) line 1.
t/10-get.t ......................... skipped: Could not compile test server runner.
# Can't locate Plack/Runner.pm in @INC (you may need to install the Plack::Runner module) (@INC contains: t/lib /home/david/cpantesting/perl-5.32.0/.cpan/build/HTTP-AnyUA-0.904-0/blib/lib /home/david/cpantesting/perl-5.32.0/.cpan/build/HTTP-AnyUA-0.904-0/blib/arch /home/david/cpantesting/perl-5.32.0/lib/site_perl/5.32.0/i686-linux /home/david/cpantesting/perl-5.32.0/lib/site_perl/5.32.0 /home/david/cpantesting/perl-5.32.0/lib/5.32.0/i686-linux /home/david/cpantesting/perl-5.32.0/lib/5.32.0) at t/lib/Server.pm line 20.
# BEGIN failed--compilation aborted at t/lib/Server.pm line 20.
# Compilation failed in require at (eval 41) line 1.
# BEGIN failed--compilation aborted at (eval 41) line 1.
t/11-post.t ........................ skipped: Could not compile test server runner.
# Can't locate Plack/Runner.pm in @INC (you may need to install the Plack::Runner module) (@INC contains: t/lib /home/david/cpantesting/perl-5.32.0/.cpan/build/HTTP-AnyUA-0.904-0/blib/lib /home/david/cpantesting/perl-5.32.0/.cpan/build/HTTP-AnyUA-0.904-0/blib/arch /home/david/cpantesting/perl-5.32.0/lib/site_perl/5.32.0/i686-linux /home/david/cpantesting/perl-5.32.0/lib/site_perl/5.32.0 /home/david/cpantesting/perl-5.32.0/lib/5.32.0/i686-linux /home/david/cpantesting/perl-5.32.0/lib/5.32.0) at t/lib/Server.pm line 20.
# BEGIN failed--compilation aborted at t/lib/Server.pm line 20.
# Compilation failed in require at (eval 41) line 1.
# BEGIN failed--compilation aborted at (eval 41) line 1.
t/12-put.t ......................... skipped: Could not compile test server runner.
# Can't locate Plack/Runner.pm in @INC (you may need to install the Plack::Runner module) (@INC contains: t/lib /home/david/cpantesting/perl-5.32.0/.cpan/build/HTTP-AnyUA-0.904-0/blib/lib /home/david/cpantesting/perl-5.32.0/.cpan/build/HTTP-AnyUA-0.904-0/blib/arch /home/david/cpantesting/perl-5.32.0/lib/site_perl/5.32.0/i686-linux /home/david/cpantesting/perl-5.32.0/lib/site_perl/5.32.0 /home/david/cpantesting/perl-5.32.0/lib/5.32.0/i686-linux /home/david/cpantesting/perl-5.32.0/lib/5.32.0) at t/lib/Server.pm line 20.
# BEGIN failed--compilation aborted at t/lib/Server.pm line 20.
# Compilation failed in require at (eval 41) line 1.
# BEGIN failed--compilation aborted at (eval 41) line 1.
t/13-head.t ........................ skipped: Could not compile test server runner.
# Can't locate Plack/Runner.pm in @INC (you may need to install the Plack::Runner module) (@INC contains: t/lib /home/david/cpantesting/perl-5.32.0/.cpan/build/HTTP-AnyUA-0.904-0/blib/lib /home/david/cpantesting/perl-5.32.0/.cpan/build/HTTP-AnyUA-0.904-0/blib/arch /home/david/cpantesting/perl-5.32.0/lib/site_perl/5.32.0/i686-linux /home/david/cpantesting/perl-5.32.0/lib/site_perl/5.32.0 /home/david/cpantesting/perl-5.32.0/lib/5.32.0/i686-linux /home/david/cpantesting/perl-5.32.0/lib/5.32.0) at t/lib/Server.pm line 20.
# BEGIN failed--compilation aborted at t/lib/Server.pm line 20.
# Compilation failed in require at (eval 41) line 1.
# BEGIN failed--compilation aborted at (eval 41) line 1.
t/14-delete.t ...................... skipped: Could not compile test server runner.
# Can't locate Plack/Runner.pm in @INC (you may need to install the Plack::Runner module) (@INC contains: t/lib /home/david/cpantesting/perl-5.32.0/.cpan/build/HTTP-AnyUA-0.904-0/blib/lib /home/david/cpantesting/perl-5.32.0/.cpan/build/HTTP-AnyUA-0.904-0/blib/arch /home/david/cpantesting/perl-5.32.0/lib/site_perl/5.32.0/i686-linux /home/david/cpantesting/perl-5.32.0/lib/site_perl/5.32.0 /home/david/cpantesting/perl-5.32.0/lib/5.32.0/i686-linux /home/david/cpantesting/perl-5.32.0/lib/5.32.0) at t/lib/Server.pm line 20.
# BEGIN failed--compilation aborted at t/lib/Server.pm line 20.
# Compilation failed in require at (eval 41) line 1.
# BEGIN failed--compilation aborted at (eval 41) line 1.
t/15-custom-method.t ............... skipped: Could not compile test server runner.
# Can't locate Plack/Runner.pm in @INC (you may need to install the Plack::Runner module) (@INC contains: t/lib /home/david/cpantesting/perl-5.32.0/.cpan/build/HTTP-AnyUA-0.904-0/blib/lib /home/david/cpantesting/perl-5.32.0/.cpan/build/HTTP-AnyUA-0.904-0/blib/arch /home/david/cpantesting/perl-5.32.0/lib/site_perl/5.32.0/i686-linux /home/david/cpantesting/perl-5.32.0/lib/site_perl/5.32.0 /home/david/cpantesting/perl-5.32.0/lib/5.32.0/i686-linux /home/david/cpantesting/perl-5.32.0/lib/5.32.0) at t/lib/Server.pm line 20.
# BEGIN failed--compilation aborted at t/lib/Server.pm line 20.
# Compilation failed in require at (eval 41) line 1.
# BEGIN failed--compilation aborted at (eval 41) line 1.
t/20-data_callback.t ............... skipped: Could not compile test server runner.
# Can't locate Plack/Runner.pm in @INC (you may need to install the Plack::Runner module) (@INC contains: t/lib /home/david/cpantesting/perl-5.32.0/.cpan/build/HTTP-AnyUA-0.904-0/blib/lib /home/david/cpantesting/perl-5.32.0/.cpan/build/HTTP-AnyUA-0.904-0/blib/arch /home/david/cpantesting/perl-5.32.0/lib/site_perl/5.32.0/i686-linux /home/david/cpantesting/perl-5.32.0/lib/site_perl/5.32.0 /home/david/cpantesting/perl-5.32.0/lib/5.32.0/i686-linux /home/david/cpantesting/perl-5.32.0/lib/5.32.0) at t/lib/Server.pm line 20.
# BEGIN failed--compilation aborted at t/lib/Server.pm line 20.
# Compilation failed in require at (eval 41) line 1.
# BEGIN failed--compilation aborted at (eval 41) line 1.
t/21-basic-auth.t .................. skipped: Could not compile test server runner.
# Can't locate Plack/Runner.pm in @INC (you may need to install the Plack::Runner module) (@INC contains: t/lib /home/david/cpantesting/perl-5.32.0/.cpan/build/HTTP-AnyUA-0.904-0/blib/lib /home/david/cpantesting/perl-5.32.0/.cpan/build/HTTP-AnyUA-0.904-0/blib/arch /home/david/cpantesting/perl-5.32.0/lib/site_perl/5.32.0/i686-linux /home/david/cpantesting/perl-5.32.0/lib/site_perl/5.32.0 /home/david/cpantesting/perl-5.32.0/lib/5.32.0/i686-linux /home/david/cpantesting/perl-5.32.0/lib/5.32.0) at t/lib/Server.pm line 20.
# BEGIN failed--compilation aborted at t/lib/Server.pm line 20.
# Compilation failed in require at (eval 41) line 1.
# BEGIN failed--compilation aborted at (eval 41) line 1.
t/22-redirects.t ................... skipped: Could not compile test server runner.
# Can't locate Plack/Runner.pm in @INC (you may need to install the Plack::Runner module) (@INC contains: t/lib /home/david/cpantesting/perl-5.32.0/.cpan/build/HTTP-AnyUA-0.904-0/blib/lib /home/david/cpantesting/perl-5.32.0/.cpan/build/HTTP-AnyUA-0.904-0/blib/arch /home/david/cpantesting/perl-5.32.0/lib/site_perl/5.32.0/i686-linux /home/david/cpantesting/perl-5.32.0/lib/site_perl/5.32.0 /home/david/cpantesting/perl-5.32.0/lib/5.32.0/i686-linux /home/david/cpantesting/perl-5.32.0/lib/5.32.0) at t/lib/Server.pm line 20.
# BEGIN failed--compilation aborted at t/lib/Server.pm line 20.
# Compilation failed in require at (eval 41) line 1.
# BEGIN failed--compilation aborted at (eval 41) line 1.
t/23-content-coderef.t ............. skipped: Could not compile test server runner.
t/40-middleware-content-length.t ... ok
t/40-middleware-request-headers.t .. ok
t/40-middleware-runtime.t .......... ok
# Can't locate Mojo/UserAgent.pm in @INC (you may need to install the Mojo::UserAgent module) (@INC contains: t/lib /home/david/cpantesting/perl-5.32.0/.cpan/build/HTTP-AnyUA-0.904-0/blib/lib /home/david/cpantesting/perl-5.32.0/.cpan/build/HTTP-AnyUA-0.904-0/blib/arch /home/david/cpantesting/perl-5.32.0/lib/site_perl/5.32.0/i686-linux /home/david/cpantesting/perl-5.32.0/lib/site_perl/5.32.0 /home/david/cpantesting/perl-5.32.0/lib/5.32.0/i686-linux /home/david/cpantesting/perl-5.32.0/lib/5.32.0) at (eval 41) line 1.
# Can't locate AnyEvent/HTTP.pm in @INC (you may need to install the AnyEvent::HTTP module) (@INC contains: t/lib /home/david/cpantesting/perl-5.32.0/.cpan/build/HTTP-AnyUA-0.904-0/blib/lib /home/david/cpantesting/perl-5.32.0/.cpan/build/HTTP-AnyUA-0.904-0/blib/arch /home/david/cpantesting/perl-5.32.0/lib/site_perl/5.32.0/i686-linux /home/david/cpantesting/perl-5.32.0/lib/site_perl/5.32.0 /home/david/cpantesting/perl-5.32.0/lib/5.32.0/i686-linux /home/david/cpantesting/perl-5.32.0/lib/5.32.0) at (eval 42) line 1.
t/50-future-subclass.t ............. ok
All tests successful.
Files=20, Tests=50, 10 wallclock secs ( 0.10 usr 0.02 sys + 3.06 cusr 0.34 csys = 3.52 CPU)
Result: PASS
------------------------------
PREREQUISITES
------------------------------
Prerequisite modules loaded:
requires:
Module Need Have
------------------- ----- --------
bytes 0 1.07
Carp 0 1.50
Exporter 0 5.74
Fcntl 0 1.13
Future 0 0.48
MIME::Base64 0 3.15
Module::Loader 0 0.04
parent 0 0.238
perl 5.010 5.032000
Scalar::Util 0 1.62
strict 0 1.11
Time::HiRes 0 1.9764
Time::Local 0 1.28
warnings 0 1.47
build_requires:
Module Need Have
------------------- ----- --------
ExtUtils::MakeMaker 0 7.44
File::Spec 0 3.78
IO::Handle 0 1.42
IPC::Open3 0 1.21
lib 0 0.65
namespace::clean 0 0.27
Test2::API 0 1.302190
Test::Exception 0 0.43
Test::More 0 1.302190
configure_requires:
Module Need Have
------------------- ----- --------
ExtUtils::MakeMaker 0 7.44
------------------------------
ENVIRONMENT AND OTHER CONTEXT
------------------------------
Environment variables:
AUTOMATED_TESTING = 1
LANG = en_GB.UTF-8
LANGUAGE = en_GB:en
LC_TERMINAL = iTerm2
LC_TERMINAL_VERSION = 3.4.14
NONINTERACTIVE_TESTING = 1
PATH = /home/david/perl5/perlbrew/bin:/home/david/perl5/perlbrew/perls/perl-5.32.0/bin:/home/david/bin:/usr/local/bin:/usr/bin:/bin:/usr/local/games:/usr/games
PERL = 5.32.0
PERL5LIB =
PERL5OPT =
PERL5_CPANPLUS_IS_RUNNING = 23137
PERL5_CPAN_IS_RUNNING = 23137
PERLBREW_HOME = /home/david/.perlbrew
PERLBREW_MANPATH = /home/david/perl5/perlbrew/perls/perl-5.32.0/man
PERLBREW_PATH = /home/david/perl5/perlbrew/bin:/home/david/perl5/perlbrew/perls/perl-5.32.0/bin
PERLBREW_PERL = perl-5.32.0
PERLBREW_ROOT = /home/david/perl5/perlbrew
PERLBREW_SHELLRC_VERSION = 0.89
PERLBREW_VERSION = 0.89
PERLVER = 5.32.0
PERL_INLINE_DIRECTORY = /home/david/.Inline-5.32.0
PERL_MM_USE_DEFAULT = 1
PERL_USE_UNSAFE_INC = 0
SHELL = /bin/bash
TERM = screen
Perl special variables (and OS-specific diagnostics, for MSWin32):
$^X = /home/david/cpantesting/perl-5.32.0/bin/perl
$UID/$EUID = 1000 / 1000
$GID = 1000 24 25 27 29 30 44 46 109 1000
$EGID = 1000 24 25 27 29 30 44 46 109 1000
Perl module toolchain versions installed:
Module Have
------------------- --------
CPAN 2.27
CPAN::Meta 2.150010
Cwd 3.78
ExtUtils::CBuilder 0.280234
ExtUtils::Command 7.44
ExtUtils::Install 2.14
ExtUtils::MakeMaker 7.44
ExtUtils::Manifest 1.72
ExtUtils::ParseXS 3.40
File::Spec 3.78
JSON 4.05
JSON::PP 4.04
Module::Build 0.4231
Module::Signature n/a
Parse::CPAN::Meta 2.150010
Test::Harness 3.42
Test::More 1.302190
YAML 1.30
YAML::Syck n/a
version 0.9924
--
Summary of my perl5 (revision 5 version 32 subversion 0) configuration:
Platform:
osname=linux
osvers=5.10.0-11-686-pae
archname=i686-linux
uname='linux cpantesting-linux-32bit-utm 5.10.0-11-686-pae #1 smp debian 5.10.92-1 (2022-01-18) i686 gnulinux '
config_args='-de -Dprefix=/home/david/cpantesting/perl-5.32.0'
hint=recommended
useposix=true
d_sigaction=define
useithreads=undef
usemultiplicity=undef
use64bitint=undef
use64bitall=undef
uselongdouble=undef
usemymalloc=n
default_inc_excludes_dot=define
bincompat5005=undef
Compiler:
cc='cc'
ccflags ='-fwrapv -fno-strict-aliasing -pipe -fstack-protector-strong -I/usr/local/include -D_LARGEFILE_SOURCE -D_FILE_OFFSET_BITS=64 -D_FORTIFY_SOURCE=2'
optimize='-O2'
cppflags='-fwrapv -fno-strict-aliasing -pipe -fstack-protector-strong -I/usr/local/include'
ccversion=''
gccversion='10.2.1 20210110'
gccosandvers=''
intsize=4
longsize=4
ptrsize=4
doublesize=8
byteorder=1234
doublekind=3
d_longlong=define
longlongsize=8
d_longdbl=define
longdblsize=12
longdblkind=3
ivtype='long'
ivsize=4
nvtype='double'
nvsize=8
Off_t='off_t'
lseeksize=8
alignbytes=4
prototype=define
Linker and Libraries:
ld='cc'
ldflags =' -fstack-protector-strong -L/usr/local/lib'
libpth=/usr/local/lib /usr/include/i386-linux-gnu /usr/lib /lib/i386-linux-gnu /lib/../lib /usr/lib/i386-linux-gnu /usr/lib/../lib /lib /lib64 /usr/lib64
libs=-lpthread -lnsl -ldl -lm -lcrypt -lutil -lc
perllibs=-lpthread -lnsl -ldl -lm -lcrypt -lutil -lc
libc=libc-2.31.so
so=so
useshrplib=false
libperl=libperl.a
gnulibc_version='2.31'
Dynamic Linking:
dlsrc=dl_dlopen.xs
dlext=so
d_dlsymun=undef
ccdlflags='-Wl,-E'
cccdlflags='-fPIC'
lddlflags='-shared -O2 -L/usr/local/lib -fstack-protector-strong'
Characteristics of this binary (from libperl):
Compile-time options:
HAS_TIMES
PERLIO_LAYERS
PERL_COPY_ON_WRITE
PERL_DONT_CREATE_GVSV
PERL_MALLOC_WRAP
PERL_OP_PARENT
PERL_PRESERVE_IVUV
USE_LARGE_FILES
USE_LOCALE
USE_LOCALE_COLLATE
USE_LOCALE_CTYPE
USE_LOCALE_NUMERIC
USE_LOCALE_TIME
USE_PERLIO
USE_PERL_ATOF
Built under linux
Compiled at Feb 7 2022 22:58:14
%ENV:
PERL="5.32.0"
PERL5LIB=""
PERL5OPT=""
PERL5_CPANPLUS_IS_RUNNING="23137"
PERL5_CPAN_IS_RUNNING="23137"
PERLBREW_HOME="/home/david/.perlbrew"
PERLBREW_MANPATH="/home/david/perl5/perlbrew/perls/perl-5.32.0/man"
PERLBREW_PATH="/home/david/perl5/perlbrew/bin:/home/david/perl5/perlbrew/perls/perl-5.32.0/bin"
PERLBREW_PERL="perl-5.32.0"
PERLBREW_ROOT="/home/david/perl5/perlbrew"
PERLBREW_SHELLRC_VERSION="0.89"
PERLBREW_VERSION="0.89"
PERLVER="5.32.0"
PERL_INLINE_DIRECTORY="/home/david/.Inline-5.32.0"
PERL_MM_USE_DEFAULT="1"
PERL_USE_UNSAFE_INC="0"
@INC:
/home/david/cpantesting/perl-5.32.0/lib/site_perl/5.32.0/i686-linux
/home/david/cpantesting/perl-5.32.0/lib/site_perl/5.32.0
/home/david/cpantesting/perl-5.32.0/lib/5.32.0/i686-linux
/home/david/cpantesting/perl-5.32.0/lib/5.32.0